BEGIN:VCALENDAR
VERSION:2.0
PRODID:-//Patrimoniul sub reflectoare Timisoara Spotlight Heritage Timisoara - ECPv6.15.20//NONSGML v1.0//EN
CALSCALE:GREGORIAN
METHOD:PUBLISH
X-WR-CALNAME:Patrimoniul sub reflectoare Timisoara Spotlight Heritage Timisoara
X-ORIGINAL-URL:https://spotlight-timisoara.eu/en
X-WR-CALDESC:Events for Patrimoniul sub reflectoare Timisoara Spotlight Heritage Timisoara
REFRESH-INTERVAL;VALUE=DURATION:PT1H
X-Robots-Tag:noindex
X-PUBLISHED-TTL:PT1H
BEGIN:VTIMEZONE
TZID:Europe/Bucharest
BEGIN:DAYLIGHT
TZOFFSETFROM:+0200
TZOFFSETTO:+0300
TZNAME:EEST
DTSTART:20200329T010000
END:DAYLIGHT
BEGIN:STANDARD
TZOFFSETFROM:+0300
TZOFFSETTO:+0200
TZNAME:EET
DTSTART:20201025T010000
END:STANDARD
BEGIN:DAYLIGHT
TZOFFSETFROM:+0200
TZOFFSETTO:+0300
TZNAME:EEST
DTSTART:20210328T010000
END:DAYLIGHT
BEGIN:STANDARD
TZOFFSETFROM:+0300
TZOFFSETTO:+0200
TZNAME:EET
DTSTART:20211031T010000
END:STANDARD
BEGIN:DAYLIGHT
TZOFFSETFROM:+0200
TZOFFSETTO:+0300
TZNAME:EEST
DTSTART:20220327T010000
END:DAYLIGHT
BEGIN:STANDARD
TZOFFSETFROM:+0300
TZOFFSETTO:+0200
TZNAME:EET
DTSTART:20221030T010000
END:STANDARD
END:VTIMEZONE
BEGIN:VEVENT
DTSTART;VALUE=DATE:20211004
DTEND;VALUE=DATE:20211203
DTSTAMP:20260426T062539
CREATED:20211001T061034Z
LAST-MODIFIED:20221126T110300Z
UID:27919-1633305600-1638489599@spotlight-timisoara.eu
SUMMARY:Regulation for International Spotlight Heritage Student Contest 2021
DESCRIPTION:1. General considerations\nThe International Spotlight Heritage Student Contest 2021\, henceforth called ISHSC 2021\, is organized by the Politehnica University of Timisoara as part of the “Spotlight Heritage 2021 – Fabric – Worlds beyond Destinies” project\, financed in 2021 by the Center for Projects of the Timisoara Municipality. \n  \nThe partners of this contest are Aalborg Universitet from Denmark and Università di Modena e Reggio Emilia from Italy. \n  \nThis procedure was written in accordance with the national legislation of Romania and the internal regulations of the Politehnica University of Timisoara regarding student activities\, international collaboration with other universities\, etc. \n  \nThe participants have the obligation to respect the terms and conditions of the present regulation for carrying out the activities regarding the participation in ISHSC 2021. \n2. Mandatory conditions for registration in the ISHSC 2021 contest\nIn order to register for the participation in the ISHSC 2021 contest\, the participants need to be students at one of these three universities (irrespective of the level of studies that they are currently enrolled in – bachelor\, master\, doctorate): \n\nPolitehnica University of Timisoara (Romania)\nAalborg Universitet (Denmark)\nUniversità di Modena e Reggio Emilia (Italy)\n\n  \nParticipants must fill in a form\, accessible at the link https://form.123formbuilder.com/6007144/\, which will contain the following information: \n\nFull name\nEmail address\nPhone\nUniversity\nFaculty\nSpecialization\nSkills / competencies\nShort idea description\n\n  \nThe participants will shortly after submission receive an email from the organizers that will confirm their registration. \n3. The ISHSC 2021 contest – outcome\, jurying\, awards\n  \nThe contest will require that students work in international teams either from 2 or from all 3 universities. If\, when you submit your project idea you will not know colleagues from other universities\, the organisers will have a mix & match session between projects\, after all project ideas are submitted. So\, you can submit your project idea even if you do not have an international team and are then invited to discuss and harmonize your project with colleagues from the other 2 universities. \n  \nThe project idea should be based on creating a digital storytelling artefact in virtual reality or augmented reality with Spotlight Heritage resources\, using the existing multimedia artifacts\, text and stories\, and integrating it in a virtual reality/augmented reality experience. You will be able to create other multimedia or digital artefacts (e.g. 3D images)\, to integrate other functionalities or connect with your local/national/international stories. You should be able to work in English with your international team. \n  \nSpotlight Heritage resources are available in Romanian and English on the website https://spotlight-timisoara.eu/ and in the mobile applications for Android and iOS that you can find on the app stores with the name “Spotlight Timisoara”. These resources will be made available to the participants in raw format upon their request. \n  \nTimeline of the contest: \n\nRegistration: 4.10.2021 – 17.10.2021\nTeam formation (where needed): 18.10.2021 – 24.10.2021\nImplementation of the idea: 25.10.2021 – 2.12.2021\nPresentation / pitching / jurying: 2.12.2021\n\n  \nThe projects will be judged by a panel composed of professors from all the three universities and the results will be announced on the same day. \n  \nThere will be two equal prizes\, of 1500 Euros each per team\, and 1 special prize of 600 Euros per team; the prize value will be split equally between team members.  \n  \nThe winners will be nominated for the EU Medeea Awards 2022 https://www.medea-awards.com/ (student section). All the three places will be nominated for the Interactive Digital Media Student Contest 2022. \n  \nEvaluation criterias: \nCreative use of Spotlight Heritage Timisoara multimedia resources and the digital storytelling perspective \nTechnical evaluation – mandatory AR/VR final product\, complexity and interactivity of the final product and its possibility to be integrated in existing SH applications \nInternational perspective of the team and ideas \n  \n4. Protection of personal data\nThe Politehnica University of Timișoara\, as organizers\, undertake to comply with the provisions of General Data Protection Regulation (EU) 2016/679 (GDPR)\, regarding the protection of personal data\, stored during the registration and the contest itself. As such\, the organizers undertake to keep the personal data of the participants in this contest confidential and to use them in accordance with this procedure and the legislation in force. \n  \nBy simply participating in the contest\, transmitting personal data to the organizers and other information requested in the context of this procedure\, or by communicating personal data\, participants agree that their data should enter the organizers’ database\, be processed and used in the future by organizers or legal entities authorized by them\, to inform participants about new projects\, advertising and marketing campaigns. At the express written request of the participants\, the organizers will no longer use their personal data. \n  \nPolitehnica University of Timisoara reserves its right to adapt the project evaluation and prize values\, depending on the number and value of the final products produced by teams.
URL:https://spotlight-timisoara.eu/en/eveniment/regulation-for-international-spotlight-heritage-student-contest-2021/
CATEGORIES:Event,ISHSC
ATTACH;FMTTYPE=image/jpeg:https://spotlight-timisoara.eu/wp-content/uploads/2021/09/241680466_534015377902098_1405754338778905922_n.jpg
ORGANIZER;CN="Spotlight Heritage Timisoara":MAILTO:contact@spotlight-timisoara.eu
END:VEVENT
BEGIN:VEVENT
DTSTART;TZID=Europe/Bucharest:20211214T170000
DTEND;TZID=Europe/Bucharest:20211214T183000
DTSTAMP:20260426T062539
CREATED:20211215T074855Z
LAST-MODIFIED:20221126T110534Z
UID:27942-1639501200-1639506600@spotlight-timisoara.eu
SUMMARY:Tur virtual de finisaj Patrimoniul sub reflectoare 2021: Cartierul Fabric - Lumi în destine
DESCRIPTION:Peste 130 de participanți\, dintre care majoritatea studenți au fost online\, marți\, 14 decembrie\, alături de echipele de implementare a proiectului Patrimoniul sub reflectoare 2021: Cartierul Fabric – Lumi în destine la Turul virtual de finisaj al evenimentelor din seria Fabric 2021. \n\n			\n				\n			\n			\n				\n			\n			\n				\n			\n			\n				\n			\n			\n				\n			\n		\n\nEvenimentul a marcat sfârșitul evenimentelor dedicate cartierului Fabric și a fost adresat studenților din Universitatea Politehnica Timișoara și nu numai\, reunind echipele de implementare a proiectului Spotlight Heritage Timișoara\, prin echipa Centrului de e-learning UPT\, a Centrului Multimedia UPT\, a Muzeului Național al Banatului\, dar și partenerii și colaboratorii în dezvoltarea proiectului\, printre care prof. Smaranda Vultur\, cea care a făcut posibilă relatarea istoriilor personale ale locuitorilor din cartierul Fabric de altădată\, intervievați de echipa Grupului de Istorie Orală și Antropologie Culturală\, pe care îl coordonează.  \nCei peste 130 de participanți prin Zoom și Facebook au avut ocazia să descopere expozițiile\, aplicațiile digitale și evenimentele organizate în jurul cartierului Fabric în cursul anului 2021\, atracția serii fiind aplicațiile de realitate virtuală care au fost selectate câștigătoare în cadrul concursului International Spotlight Heritage Student Contest 2021\, prezentate de studenții UPT – Marius Tătaru și Silviu Berzescu. \nUrmărește înregistrarea evenimentului:
URL:https://spotlight-timisoara.eu/en/eveniment/tur-virtual-de-finisaj-patrimoniul-sub-reflectoare-2021-cartierul-fabric-lumi-in-destine/
LOCATION:Online
CATEGORIES:News
ATTACH;FMTTYPE=image/jpeg:https://spotlight-timisoara.eu/wp-content/uploads/2021/12/Screenshot_48.jpg
ORGANIZER;CN="Spotlight Heritage Timisoara":MAILTO:contact@spotlight-timisoara.eu
END:VEVENT
BEGIN:VEVENT
DTSTART;TZID=Europe/Bucharest:20211215T080000
DTEND;TZID=Europe/Bucharest:20211215T170000
DTSTAMP:20260426T062539
CREATED:20211215T104422Z
LAST-MODIFIED:20221101T213454Z
UID:27959-1639555200-1639587600@spotlight-timisoara.eu
SUMMARY:ISHSC 2021 și-a prezentat câștigătorii: Tururi virtuale interactive și aplicații AR dezvoltate de studenți internaționali
DESCRIPTION:Aplicațiile câștigătoare ale concursului  International Spotlight Heritage Student Contest 2021 au fost prezentate online\, marți\, 14 decembrie\, în prezența a peste 100 de studenți\, în cadrul Turului virtual de finisaj Patrimoniul sub reflectoare 2021: Cartierul Fabric – Lumi în destine \nInițiativa aparține Universității Politehnica Timișoara și a fost organizată în cadrul proiectului „Spotlight Heritage Timișoara 2021 – Fabric – Lumi dincolo de Destine”\, finanțat în 2021 de Centrul de Proiecte al Municipiului Timișoara\, iar partenerii concursului au fost Aalborg Universitet din Danemarca și Università di Modena e Reggio Emilia din Italia. \n\n			\n				\n			\n			\n				\n			\n			\n				\n			\n			\n				\n			\n			\n				\n			\n		\n\nÎn cadrul concursului\, studenții au lucrat în echipe internaționale\, formate din câte un reprezentant al studenților de la fiecare universitate parteneră\, și au creat împreună o povestire digitală în realitate virtuală cu resursele din cadrul proiectului Spotlight Heritage Timișoara\, folosind artefactele\, textul și poveștile multimedia existente și\, totodată\, integrând acestea într-o experiență de realitate virtuală.  \nCâștigătorii concursului au fost cele două echipe formate din studenții Christian Bodskov și Oliver Engermann – Aalborg Universitet\, Danemarca\, Ilie-Silviu Berzescu și Marius-Cosmin Tătaru – Universitatea Politehnica Timișoara\, Doresita Marino și Luca Contardi  – Università di Modena e Reggio Emilia\, Italia. \n\n			\n				\n			\n			\n				\n			\n			\n				\n			\n			\n				\n			\n		\n\nPoveștile bisericilor timișorene\, explorate într-un spațiu virtual \nAplicațiile câștigătoare conțin un tur virtual al Bisericii romano-catolice „Preasfânta Inimă a lui Isus” din Piața Bălcescu (cartierul istoric Elisabetin) și al Bisericii romano-catolice Millennium din Piața Traian (cartierul istoric Fabric)\, într-un spațiu virtual 3D\, cu imagini 360\, poze vechi și noi\, elemente audio\, precum și informații despre istoria și arhitectura clădirilor\, a obiectelor de artă din interiorul acestora (picturile\, vitraliile\, orgile din interiorul bisericilor)\, dar și despre personajele din istorie care și-au pus amprenta în construcția\, proiectarea și dezvoltarea clădirilor timișorene. Toate aceste elemente sunt integrate într-o aplicație de realitate virtuală interactivă și unică prin intermediul căruia utilizatorul poate explora bisericile  prin intermediul artefactelor de povestire digitală în realitatea virtuală. \nUrmărește video cu prezentarea aplicațiilor la Workshop Competențe digitale pentru educație și cultură: \n \nAplicațiile vor putea fi descărcate și utilizate pe ochelarii de realitate virtuală Oculus Quest 2\, dar și pe platforma web și mobilă Cospaces Edu. \nResursele Spotlight Heritage Timișoara utilizate de studenți în dezvoltarea aplicațiilor sunt disponibile în limba română și engleză pe site-ul https://spotlight-timisoara.eu/ și în aplicațiile mobile pentru Android și iOS pe care le puteți găsi în magazinele de aplicații cu denumirea „Spotlight Timișoara”. \nProiectele au fost evaluate de un juriu format din Dr. Diana Andone și Dr. Silviu Vert\, Universitatea Politehnica Timișoara\, și Marius Cornea\, Muzeul Național al Banatului\, fiind acordate premii ce au totalizat 3600 de euro. De asemenea\, câștigătorii vor fi nominalizați la Premiile EU Medeea 2022\, secțiunea pentru studenți\, dar și la Interactive Digital Media Student Contest 2022.
URL:https://spotlight-timisoara.eu/en/eveniment/ishsc-2021-si-a-prezentat-castigatorii-tururi-virtuale-interactive-si-aplicatii-ar-dezvoltate-de-studenti-internationali/
CATEGORIES:ISHSC,News
ATTACH;FMTTYPE=image/jpeg:https://spotlight-timisoara.eu/wp-content/uploads/2021/12/Screenshot_38.jpg
END:VEVENT
BEGIN:VEVENT
DTSTART;TZID=Europe/Bucharest:20211216T180000
DTEND;TZID=Europe/Bucharest:20211216T200000
DTSTAMP:20260426T062539
CREATED:20211221T081208Z
LAST-MODIFIED:20221101T213245Z
UID:27971-1639677600-1639684800@spotlight-timisoara.eu
SUMMARY:Premiul pentru Excelență în Cultură pentru partenerul UPT în implementarea Spotlight Heritage Timișoara: Muzeul Național al Banatului
DESCRIPTION:Muzeul Național al Banatului\, partenerul Centrului de e-Learning UPT în implementarea proiectului Spotlight Heritage Timișoara a primit \nPremiul pentru Excelență în Cultură în cadrul Galei Premiilor de Excelență 2021 la Universitatea Politehnica Timișoara\, pentru susținerea activă a valorilor universitare politehniste și a patrimoniului timișorean. Premiul a fost înmânat directorului MNaB\, Claudiu Ilaș\, de către de directorul CeL\, dr. ing. Diana Andone \n\n			\n				\n			\n			\n				\n			\n		\n\nLa 25 iulie 1872 s-a înfiinţat prima societate ştiinţifică din Banat\, Societatea de Istorie şi Arheologie\, care a pus bazele\, 4 ani mai târziu\, Muzeului Banatului. Astăzi\, se afirmă ca un muzeu de importanță națională prin secțiile de Arheologie\,  Istorie\, Științele Naturii și a compartimentelor de Arte Vizuale și Pedagogie Muzeală\, Muzeul „Traian Vuia” din localitatea cu același nume și cel dedicat maestrului Ștefan Popa Popas. Organizează peste 15 expoziții anuale\, dedicate culturii și patrimoniului regional\, multe interdisciplinare\, unele dedicate valorilor universitare politehniste. \n\n			\n				\n			\n			\n				\n			\n			\n				\n			\n		\n\nAnual\, din 2019\, Proiectul Patrimoniul sub reflectoare Timișoara este realizat de către Universitatea Politehnica Timișoara in parteneriat cu Muzeul National al Banatului. Prin el\, poveștile istoriei și culturii sunt transpuse digital\, oferindu-ne șansa să ne plimbam prin cartierele istorice ale Timișoarei\, prin istoria comunităților\, îmbogățindu-ne simțurile\, celebrând viața de zi cu zi. \nDin 2016\, inovația tehnica marcantă a universității – prima mașină electronică de calcul MECIPT -\,  s-a reîntors\, alături de alte peste 100 de echipamente tehnice\, in Muzeul tehnic UPT\, după ce acestea au fost conservate si îngrijite de  MNAB. \nCu curaj\, muzeul a adus in  2021 sportul in expoziție\, celebrând  Politehnica la Centenar\, prin „ O istorie romanțată a uneia dintre cele mai frumoase povești din fotbalul românesc”. \nDin Comisia pentru Premiul Excelență în Cultură au făcut parte Dr.ing. Diana ANDONE\, Sorina JECZA și Ș.l.dr.ing. Ioan Mărginean.
URL:https://spotlight-timisoara.eu/en/eveniment/premiul-pentru-excelenta-in-cultura-pentru-partenerul-upt-in-implementarea-spotlight-heritage-timisoara-muzeul-national-al-banatului/
LOCATION:Universitatea Politehnica Timișoara
CATEGORIES:News
ATTACH;FMTTYPE=image/jpeg:https://spotlight-timisoara.eu/wp-content/uploads/2021/12/Screenshot_3.jpg
END:VEVENT
END:VCALENDAR