BEGIN:VCALENDAR
VERSION:2.0
PRODID:-//Patrimoniul sub reflectoare Timisoara Spotlight Heritage Timisoara - ECPv6.15.20//NONSGML v1.0//EN
CALSCALE:GREGORIAN
METHOD:PUBLISH
X-WR-CALNAME:Patrimoniul sub reflectoare Timisoara Spotlight Heritage Timisoara
X-ORIGINAL-URL:https://spotlight-timisoara.eu/en
X-WR-CALDESC:Events for Patrimoniul sub reflectoare Timisoara Spotlight Heritage Timisoara
REFRESH-INTERVAL;VALUE=DURATION:PT1H
X-Robots-Tag:noindex
X-PUBLISHED-TTL:PT1H
BEGIN:VTIMEZONE
TZID:Europe/Bucharest
BEGIN:DAYLIGHT
TZOFFSETFROM:+0200
TZOFFSETTO:+0300
TZNAME:EEST
DTSTART:20230326T010000
END:DAYLIGHT
BEGIN:STANDARD
TZOFFSETFROM:+0300
TZOFFSETTO:+0200
TZNAME:EET
DTSTART:20231029T010000
END:STANDARD
BEGIN:DAYLIGHT
TZOFFSETFROM:+0200
TZOFFSETTO:+0300
TZNAME:EEST
DTSTART:20240331T010000
END:DAYLIGHT
BEGIN:STANDARD
TZOFFSETFROM:+0300
TZOFFSETTO:+0200
TZNAME:EET
DTSTART:20241027T010000
END:STANDARD
BEGIN:DAYLIGHT
TZOFFSETFROM:+0200
TZOFFSETTO:+0300
TZNAME:EEST
DTSTART:20250330T010000
END:DAYLIGHT
BEGIN:STANDARD
TZOFFSETFROM:+0300
TZOFFSETTO:+0200
TZNAME:EET
DTSTART:20251026T010000
END:STANDARD
END:VTIMEZONE
BEGIN:VEVENT
DTSTART;TZID=Europe/Bucharest:20240927T180000
DTEND;TZID=Europe/Bucharest:20240927T230000
DTSTAMP:20260425T175859
CREATED:20240927T100403Z
LAST-MODIFIED:20240927T100451Z
UID:34891-1727460000-1727478000@spotlight-timisoara.eu
SUMMARY:Spotlight Heritage Timișoara - Unde poveștile Timișoarei prind viață la Noaptea Cercetătorilor 2024! 
DESCRIPTION:Departamentul de ID/IFR și Educație digitală\, alături de proiectul cultural Spotlight Heritage Timișoara\, vă invită să să participați la o nouă ediție a evenimentului Noaptea Cercetătorilor în 2024! Pe 27 septembrie\, între orele 18:00 și 23:00\, te așteptăm la Nokia Campus\, unde vor fi prezentate demonstrații de realitate virtuală și mixtă.  \n\n\n\nVizitatorii vor deveni turiști virtuali ai orașului și vor descoperi istoria\, cultura și patrimoniul Timișoarei prin metode alternative inedite\, având ocazia să interacționeze cu o lume real-virtuală complexă\, prin utilizarea tehnologiilor digitale de ultimă generație! \n\n\n\nIntrarea este liberă\, așa că și lăsați-vă purtați prin istoria a 5 cartiere istorice! Programează un tur aici: https://form.123formbuilder.com/6737319 \n\n\n\nCe puteți explora: \n\n\n\n\nPoveștile oamenilor și a 5 cartiere istorice din Timișoara;\n\n\n\nAplicațiile interactive de edutainment\, mobile și de realitate mixtă;\n\n\n\nUltimele aplicații Patrimoniul sub reflectoare/Spotlight Heritage Timișoara de Realitate Virtuală (VR) și Realitate Mixtă (AR/MR);\n\n\n\nJocuri în AR\, prin care poți interacționa cu obiecte din patrimoniul cultural al orașului.\n\n\n\n\nVă așteaptă o seară plină de interacțiuni digitale captivante! Lăsați-vă purtați de simțuri și curiozitate și descoperiți cum orașul Timișoara prinde viață într-un mod cu totul nou. Nu ratați această oportunitate unică de a experimenta ultimele instalații digitale marca Spotlight Heritage Timișoara\, dar și tot ceea ce urmează să descoperiți la Nokia Campus în data de 27 septembrie 2024\, între orele 18:00 – 23:00! Toate instalațiile sunt cuprinse în proiectul cultural Spotlight Heritage Timișoara\, parte a evenimentului Noaptea Cercetătorilor Europeni. \n\n\n\nComponentele digitale ale proiectului sunt accesibile online la adresa https://spotlight-timisoara.eu/ și prin aplicațiile mobile care pot fi descărcate din magazinele Android și Apple sau căutând „Spotlight Heritage Timișoara”. \n\n\n\n\nLink aplicații pentru utilizatorii Android: https://is.gd/SjiIgv   \n\n\n\nLink aplicații pentru utilizatorii iOS: https://is.gd/y6JxeV   \n\n\n\n\nInformații despre eveniment sunt disponibile și pe: \n\n\n\n\nPagina web: https://spotlight-timisoara.eu/ \n\n\n\nFacebook: https://www.facebook.com/SpotlightHeritageTimisoara/ \n\n\n\nTwitter: @spotlight_TM21 \n\n\n\nInstagram: @spotlight_tm
URL:https://spotlight-timisoara.eu/en/eveniment/noaptea-cercetatorilor-2024/
LOCATION:Muzeul Tehnic UPT și Experimentarium TM\, Experimentarium TM\, Timisoara\, Timis\, 300750\, România
CATEGORIES:Event,News
ATTACH;FMTTYPE=image/jpeg:https://spotlight-timisoara.eu/wp-content/uploads/2024/09/NCE_2024_Event_cover.jpg
ORGANIZER;CN="Spotlight Heritage Timisoara":MAILTO:contact@spotlight-timisoara.eu
END:VEVENT
BEGIN:VEVENT
DTSTART;TZID=Europe/Bucharest:20240928T180000
DTEND;TZID=Europe/Bucharest:20240928T230000
DTSTAMP:20260425T175859
CREATED:20240927T102736Z
LAST-MODIFIED:20240927T102737Z
UID:34894-1727546400-1727564400@spotlight-timisoara.eu
SUMMARY:Muzeul tehnic UPT - Unde poveștile Timișoarei prind viață la Noaptea Cercetătorilor 2024!
DESCRIPTION:Universitatea Politehnica Timișoara și Departamentul de ID/IFR și Educație digitală\, alături de proiectul cultural Campus Creativ UPT\, vă invită să să participați la Noaptea Campusului Deschis – unde alături de peste 60 de laboratoare\, expoziții\, instalații de artă și ateliere\, vă așteptăm pe 28 septembrie\, între orele 18:00 și 23:00\,  la Muzeul Tehnic UPT  și la ExperimentariumTM (Splailul Spiru Haret\, Timișoara) la o seară de neuitat\, plină de povești unice din istoria și cultura orașului noastru.  \n\n\n\nIntrarea este liberă! Programează un tur aici: https://form.123formbuilder.com/6737319 \n\n\n\n\n\n\n\n\n\nCe puteți explora în Muzeul Tehnic UPT? \n\n\n\n\nPoveștile oamenilor și a 5 cartiere istorice din Timișoara;\n\n\n\nAplicațiile interactive de edutainment\, mobile și de realitate mixtă;\n\n\n\nUltimele aplicații Patrimoniul sub reflectoare/Spotlight Heritage Timișoara de realitate virtuală (VR) și realitate Mixtă (AR/MR);\n\n\n\nPatrimoniul sub reflectoare – 𝐓𝐢𝐩𝐚𝐫𝐞 𝐚𝐥𝐞 𝐏𝐨𝐞𝐳𝐢𝐞𝐢: descoperă Timișoara prin poezie și culoare (artist: Marius Jurca\, 13m10j);\n\n\n\n𝐏𝐡𝐲𝐬𝐢𝐜 𝐀𝐈 𝐆𝐚𝐫𝐝𝐞𝐧: o grădină virtuală dinamică cu plante și ciuperci virtuale (artiști: Anna Dumitriu & Alex May\, în colaborare cu CAPABLE Project și BioArt Revolution);\n\n\n\nIstoria tehnologiilor informaționale: vizitează MECIPT-1\, primul calculator universitar din România\, dar și toate celelalte aparaturi tehnologice pentru a vedea cu proprii ochi evoluția tehnologică a erei noastre.\n\n\n\nIstoria calculatoarelor prin Plan Zero – Retro IT – Muzeul de calculatoare\, invitat cu calculatoare vechi\, atât româneşti din gama CIP/HC\, o serie de laptopuri din anii 80 şi 90\, cele mai multe funcționale\n\n\n\nCentrul de prezentare interactivă a fenomenelor fizice ExperimentariumTM – să descoperiți fenomene fizice\, experimentele care permit participanților să devină exploratori activi sporind încrederea în capacitatea proprie de a înțelege cum funcționează universul.\n\n\n\nAplicații științifice internaționale\, prezentate de partenerii UPT din cadrul Alianței de Universități Europene E3UDRES2 și de partenerii E3UDRES2 Ent-r-e-novators\n\n\n\n\nVă așteaptă o seară plină de interacțiuni științifice\, tehnice\, digitale captivante\, prin care puteți descoperi experimente fizice\, istoria tehnologiei informaționale\, de la primele calculatoare și device-uri\, la ultimele generații tehnologice\, ce îmbină trecutul cu prezentul în moduri neașteptate\, având ocazia să interacționați cu o lume real-virtuală complexă\, prin utilizarea tehnologiilor digitale de ultimă generație! \n\n\n\nNu rata această oportunitate unică de a experimenta ultimele instalații la Noaptea Campusului Deschis în data de 28 septembrie 2024\, între orele 18:00 – 23:00!  \n\n\n\nComponentele digitale ale Patrimoniul sub reflectoare sunt accesibile online la adresa https://spotlight-timisoara.eu/ și prin aplicațiile mobile care pot fi descărcate din magazinele Android și Apple sau căutând „Spotlight Heritage Timișoara”. \n\n\n\n\nLink aplicații pentru utilizatorii Android: https://is.gd/SjiIgv   \n\n\n\nLink aplicații pentru utilizatorii iOS: https://is.gd/y6JxeV  \n\n\n\nPagina web: https://spotlight-timisoara.eu/ \n\n\n\n\nInformații despre eveniment sunt disponibile și pe: \n\n\n\n\nNoaptea Campusului Deschis  https://www.facebook.com/events/506886658552211 \n\n\n\nSite Muzeul Tehnic al UPT  https://muzeu.upt.ro/ \n\n\n\nSite Departament de ID/IFr și Educație Digitală https://elearning.upt.ro/ro/\n\n\n\nFacebook: https://www.facebook.com/SpotlightHeritageTimisoara/ \n\n\n\nExperimentariumTM https://www.facebook.com/profile.php?id=100057560405965 \n\n\n\n\nToate instalațiile sunt parte a evenimentului Noaptea Cercetătorilor Europeni\, alături de Noaptea Campusului Deschis\, organizată și susținută de Campus Creativ UPT.
URL:https://spotlight-timisoara.eu/en/eveniment/muzeul-tehnic-upt-la-noaptea-cercetatorilor-2024/
LOCATION:Muzeul Tehnic UPT și Experimentarium TM\, Experimentarium TM\, Timisoara\, Timis\, 300750\, România
CATEGORIES:Event,News
ATTACH;FMTTYPE=image/png:https://spotlight-timisoara.eu/wp-content/uploads/2024/09/NCD_Interactiune_006-e1727432772460.png
END:VEVENT
BEGIN:VEVENT
DTSTART;TZID=Europe/Bucharest:20240929T000000
DTEND;TZID=Europe/Bucharest:20240929T235959
DTSTAMP:20260425T175859
CREATED:20250619T113845Z
LAST-MODIFIED:20250619T113916Z
UID:35276-1727568000-1727654399@spotlight-timisoara.eu
SUMMARY:Aplicații digitale inedite\, Timișoara în VR și călătorii în lumea digitală la Noaptea Cercetătorilor Europeni 2024 și Noaptea Campusului Deschis 2024
DESCRIPTION:e 27 și 28 septembrie\, Universitatea Politehnica Timișoara\, alături de Departamentul de ID/IFR și Educație digitală și UPT Campus Creativ\, prin proiectul cultural Spotlight Heritage Timișoara\, au participat la Noaptea Cercetătorilor Europeni 2024 și Noaptea Campusului Deschis 2024. \n\n\n\nCele două evenimente dinamice\, care se focuzează pe învățarea prin experiențe\, au oferit la mii de oameni oportunitatea de a descoperi Timișoara în lumea digitală și nu numai\, descoperind aplicații digitale unice\, instalații dinamice și aplicațiile de VR și MR marca Patrimoniul sub reflectoare Timișoara/Spotlight Heritage Timisoara\, devenind turiști virtuali în lumea digitală! \n\n\n\nToate acestea au fost realizate de studenți și profesori din cadrul Universității Politehnica Timișoara\, în parteneriat cu studenți internaționali și facultăți internaționale din Alianța Universitară Europeană E³UDRES²\, cu artiști locali și internaționali și nu numai\, creând astfel un portofoliu complex de obiecte\, aplicații\, instalații și proiecte creative. \n\n\n\nNoaptea Cercetătorilor Europeni 2024 Timișoara \n\n\n\nPe 27 septembrie\, la Nokia Campus\, a avut loc în acest an o nouă ediție a evenimentului Noaptea Cercetătorilor Europeni (NCE)\, găzduind zeci de parteneri și invitați care au invitat publicul larg într-o incursiune în lumea științei prin experiențe de neuitat.  \n\n\n\nÎn acest an\, Departamentul de ID/IFR și Educație digitală\, alături de proiectul cultural Spotlight Heritage Timișoara au creat pentru participanți un spațiu imersiv\, unde publicul a putut descoperi diferite proiecte și instalații digitale create de studenți din cadrul Universității Politehnica Timișoara\, în parteneriat cu studenți internaționali din Alianța Universitară Europeană E³UDRES². \n\n\n\nPeste 1600 de oameni\, de la copii energici și entuziasmați\, la părinți curioși care au vrut să încerce și să experimenteze aplicațiile și instalațiile digitale din spațiul dedicat\, iar studenții au avut ocazia de a-și prezenta proiectele și exemplele din cadrul programul de studii I Living Labs. \n\n\n\nPrintre aceastea se numără: \n\n\n\n\nPoveștile oamenilor și a 5 cartiere istorice din Timișoara;\n\n\n\nAplicațiile interactive de edutainment\, mobile și de realitate mixtă;\n\n\n\nUltimele aplicații Patrimoniul sub reflectoare/Spotlight Heritage Timișoara de Realitate Virtuală (VR) și Realitate Mixtă (AR/MR);\n\n\n\nJocuri în AR\, prin care au putut interacționa cu obiecte istorice din patrimoniul cultural al orașului\, din arhiva Muzeului Național al Banatului.\n\n\n\n\nNoaptea Campusului Creativ 2024 \n\n\n\nNoaptea Campusului Deschis a fost organizată pe 28 septembrie și a adus în prim-plan Muzeul Tehnic UPT\, oferind publicului oportunitatea de a descoperi exponatele muzeului\, experimente de fizică și chimie și nu numai.  \n\n\n\nPentru toți cei care nu au putut participa la Noaptea Cercetătorilor Europeni\, Spotlight Heritage Timișoara\, prin Departamentul de ID/IFR și Educație digitală\, în parteneritat cu UPT Campus Creativ\, a pregătit pentru aceștia încă o seară de neuitat. Peste 300 de vizitatori au avut încă o șansă de a interacționa cu aplicațiile și instalațiile digitale realizate de-a lungul anilor. \n\n\n\nPe lângă atracțiile deja prezentate la Noaptea Cercetătorilor Europeni 2024\, publicul a mai descoperit și: \n\n\n\n\nPatrimoniul sub reflectoare – 𝐓𝐢𝐩𝐚𝐫𝐞 𝐚𝐥𝐞 𝐏𝐨𝐞𝐳𝐢𝐞𝐢: descoperind Timișoara prin poezie și culoare (artist: Marius Jurca\, 13m10j);\n\n\n\n𝐏𝐡𝐲𝐬𝐢𝐜 𝐀𝐈 𝐆𝐚𝐫𝐝𝐞𝐧: o grădină virtuală dinamică cu plante și ciuperci virtuale (artiști: Anna Dumitriu & Alex May\, în colaborare cu CAPABLE Project și BioArt Revolution);\n\n\n\nIstoria tehnologiilor informaționale: au vizitat MECIPT-1\, primul calculator universitar din România\, dar și toate celelalte aparaturi tehnologice pentru a vedea cu proprii ochi evoluția tehnologică a erei noastre;\n\n\n\nIstoria calculatoarelor prin Plan Zero – Retro IT – Muzeul de calculatoare\, care a invitat vizitatorii să descopere calculatoare vechi\, atât româneşti din gama CIP/HC\, cât și o serie de laptopuri din anii ‘80 şi ‘90\, cele mai multe funcționale;\n\n\n\nCentrul de prezentare interactivă a fenomenelor fizice ExperimentariumTM – descoperind fenomene fizice și experimente care au perms participanților să devină exploratori activi\, sporind încrederea în capacitatea proprie de a înțelege cum funcționează universul;\n\n\n\nAplicații științifice internaționale\, prezentate de partenerii UPT din cadrul Alianței de Universități Europene E³UDRES² și de partenerii E³UDRES² Ent-r-e-novators.\n\n\n\n\nProiecte cu impact pentru comunitatea europeană \n\n\n\nUniversitatea Politehnica Timișoara susține deschis și în mod activ dezvoltarea personală și academică pentru toți studenții și partenerii săi\, de aceea parteneriatele internaționale cu parteneri precum Alianța Universitară Europeană E³UDRES² și E³UDRES² Ent-r-e-novators\, sunt o parte prin care UPT oferă cât mai multe oportunități prin programe de studii precum I Living Labs – ce reprezintă unități de cursuri extracurriculare în care echipe de studenți lucrează la o provocare. \n\n\n\nAlianța Universitară Europeană E³UDRES²\, cât și partenerii săi\, urămăresc să dezvolte în mod activ toate instituțiile partenere și regiunile acestora prin crearea de oportunități pentru studenți\, personal și cetățeni să se implice în comunitate din care fac parte. \n\n\n\nComponentele digitale ale proiectului Patrimoniul sub reflectoare Timișoara/Spotlight Heritage Timisoara sunt accesibile online la adresa https://spotlight-timisoara.eu/ și prin aplicațiile mobile care pot fi descărcate din magazinele Android și Apple sau căutând „Spotlight Heritage Timișoara”. \n\n\n\n\nLink aplicații pentru utilizatorii Android: https://is.gd/SjiIgv   \n\n\n\nLink aplicații pentru utilizatorii iOS: https://is.gd/y6JxeV   \n\n\n\n\nInformații despre eveniment sunt disponibile și pe: \n\n\n\n\nPagina web: https://spotlight-timisoara.eu/ \n\n\n\nFacebook: https://www.facebook.com/SpotlightHeritageTimisoara/  \n\n\n\nTwitter: @spotlight_TM21 \n\n\n\nInstagram: @spotlight_tm \n\n\n\n\n\n\n\n\nPatrimoniul sub reflectoare / Spotlight Heritage Timișoara este o inițiativă culturală digitală a Universității Politehnica Timișoara realizată în parteneriat cu Muzeul Național al Banatului\, parte a Programului Cultural Timișoara 2023 Capitală Europeană a Culturii. Proiect cultural co-finanțat de Municipiul Timișoara prin Centrul de Proiecte\, Consiliul Județean Timiș\, Ministerul Culturii\, EAA and Norway Grants. \n\n\n\n”Enhance: UPT Campus Creativ” este un proiect inițiat de Liga AC și Universitatea Politehnica Timișoara ce face parte din Programul cultural național „Timișoara – Capitală Europeană a Culturii în anul 2023”\, finanțat prin programul Legacy Timișoara 2023\, derulat de Centrul de Proiecte al Municipiului Timișoara cu sume alocate de la bugetul de stat\, prin bugetul Ministerului Culturii. \n\n\n\n13m10j (Marius Jurca – n. 2 Noiembrie\, 1984)\, este un artist new media din Timișoara preocupat de conexiunile dintre artă\, știință și tehnologie. Folosește numere\, coduri\, sunete și algoritmi pentru a surprinde complexitatea fluxului mental personal și pentru a transpune activitatea utilizatorilor în obiecte virtuale tridimensionale. Proiectele sale sunt prezentate sub formă de aplicații sau programe interactive\, create în relație directă cu specificațiile tehnice  \n\n\n\nPhysic AI Garden – Credit: Anna Dumitriu și Alex May în colaborare cu Proiectul CAPABLE. Proiectul CAPABLE a primit finanțare din partea programului de cercetare și inovare Orizont 2020 al Uniunii Europene\, în cadrul acordului de grant nr. 875052. Materiale: Video generat pe calculator. Anul: 2023
URL:https://spotlight-timisoara.eu/en/eveniment/aplicatii-digitale-inedite-timisoara-in-vr-si-calatorii-in-lumea-digitala-la-noaptea-cercetatorilor-europeni-2024-si-noaptea-campusului-deschis-2024/
CATEGORIES:Event,News
ATTACH;FMTTYPE=image/jpeg:https://spotlight-timisoara.eu/wp-content/uploads/2025/06/NCD_2024.jpg
ORGANIZER;CN="Spotlight Heritage Timisoara":MAILTO:contact@spotlight-timisoara.eu
END:VEVENT
END:VCALENDAR