BEGIN:VCALENDAR
VERSION:2.0
PRODID:-//Patrimoniul sub reflectoare Timisoara Spotlight Heritage Timisoara - ECPv6.15.20//NONSGML v1.0//EN
CALSCALE:GREGORIAN
METHOD:PUBLISH
X-ORIGINAL-URL:https://spotlight-timisoara.eu/en
X-WR-CALDESC:Events for Patrimoniul sub reflectoare Timisoara Spotlight Heritage Timisoara
REFRESH-INTERVAL;VALUE=DURATION:PT1H
X-Robots-Tag:noindex
X-PUBLISHED-TTL:PT1H
BEGIN:VTIMEZONE
TZID:Europe/Bucharest
BEGIN:DAYLIGHT
TZOFFSETFROM:+0200
TZOFFSETTO:+0300
TZNAME:EEST
DTSTART:20210328T010000
END:DAYLIGHT
BEGIN:STANDARD
TZOFFSETFROM:+0300
TZOFFSETTO:+0200
TZNAME:EET
DTSTART:20211031T010000
END:STANDARD
BEGIN:DAYLIGHT
TZOFFSETFROM:+0200
TZOFFSETTO:+0300
TZNAME:EEST
DTSTART:20220327T010000
END:DAYLIGHT
BEGIN:STANDARD
TZOFFSETFROM:+0300
TZOFFSETTO:+0200
TZNAME:EET
DTSTART:20221030T010000
END:STANDARD
BEGIN:DAYLIGHT
TZOFFSETFROM:+0200
TZOFFSETTO:+0300
TZNAME:EEST
DTSTART:20230326T010000
END:DAYLIGHT
BEGIN:STANDARD
TZOFFSETFROM:+0300
TZOFFSETTO:+0200
TZNAME:EET
DTSTART:20231029T010000
END:STANDARD
END:VTIMEZONE
BEGIN:VEVENT
DTSTART;TZID=Europe/Bucharest:20220705T190000
DTEND;TZID=Europe/Bucharest:20220705T203000
DTSTAMP:20260426T023155
CREATED:20220706T075738Z
LAST-MODIFIED:20221219T140844Z
UID:29478-1657047600-1657053000@spotlight-timisoara.eu
SUMMARY:Vernisajul expoziției „Patrimoniul sub reflectoare Timișoara. Cartierul Cetate - O lume în oglindă
DESCRIPTION:Universitatea Politehnica Timișoara prin Centrul de ID/IFR și e-Learning\, Centrul Multimedia\, împreună cu Muzeul Național al Banatului vă invită marți\, 5 iulie\, ora 19:00 \, la Vernisajul expoziției „Patrimoniul sub reflectoare Timișoara. Cartierul Cetate – O lume în oglindă ” \nParticiparea este gratuită. \nÎn 2022 sfidăm granițele timpului cu ajutorul tehnologiei și explorăm literatura\, cultura și patrimoniul Timișoarei prin Cartierul Cetate – o lume în oglindă\, prin poezie\, literatură\, inovație și parfumul trandafirilor! \n \n2022: Cetate – O lume în oglindă: aduce sub reflector literatura și poezia care celebrează Timișoara \nÎn cadrul evenimentului vor fi lansate expoziția de la Bastionul Theresia\, expoziția stradală cu cele 18 locații emblematice din cartierul Cetate\, dar și aplicațiile online\, mobile și de realitate virtuală\, prin care timișorenii și nu numai sunt invitați să descopere multiplele povești ale Timișoarei. Anul 2022 pune sub reflector literatura și poezia care celebrează Timișoara\, dublată de ilustrarea alegoriei simțului olfactiv prin valorificarea mitului urban de oraș al trandafirilori\, care recreează atmosfera cartierului Cetate de acum și altădată – atmosferă care este transpusă totodată și virtual\, cu ajutorul tehnologiilor de ultimă generație. \nGazdele vernisajului sunt echipele Universității Politehnica Timișoara și a Muzeului Național al Banatului. \nSpotlight Heritage Timișoara / Patrimoniul sub reflectoare Timișoara invită timișorenii și nu numai într-o incursiune în lumea din Timișoara de altădată\, îmbinând multiplele povești ale Timișoarei – poveștile patrimoniului cultural și istoric\, ale dezvoltării tehnice\, ale comunităților\, etniilor și locuitorilor – cu tehnologiile de ultimă generație pentru a oferi o experiență complexă\, inspirată de istorie și îmbunătățită cu ajutorul lumii digitale. \nSelecția de texte literare culese de prof.univ.dr. Smaranda Vultur și de asist.univ.dr. Roxana Rogobete\, amintirile din istoria orală timișoreană valorificate de Grupul de Istorie Orală și Antropologie Culturală sunt îmbinate cu poeziile originale\, create pentru Patrimoniul sub Reflectoare Timișoara\, de către cunoscutul poet timișorean Robert Șerban. \nExplorarea istorică și literară a cartierului Cetate este dublată de ilustrarea alegoriei simțului olfactiv prin valorificarea mitului urban despre Timișoara ca oraș al trandafirilor\, creat în a doua jumătate a secolului al XIX-lea prin activitatea unor dinastii de grădinari. Imaginile de epocă redau activitatea familiei Mühle\, o secvență din expoziție fiind dedicată florilor și alta experimentelor științifice\, într-o transpunere modernă și tradițiilor timișorene. \nUrmărește evenimentul și pe: \nFacebook: https://www.facebook.com/SpotlightHeritageTimisoara \nTwitter: @spotlight_TM21 \nInstagram: @spotlight_tm \nDescarcă aplicațiile mobile Spotlight Heritage Timișoara: \nPentru utilizatorii Android \nPentru utilizatorii iOS \nVizionează un videoclip reprezentativ pentru cartierul Cetate aici. \n \n____________________ \nSpotlight Heritage Timișoara / Patrimoniul sub reflectoare este o inițiativă culturală digitală a Universității Politehnica Timișoara realizată în parteneriat cu Muzeul Național al Banatului\, parte a Programului Cultural Timișoara 2023 Capitală Europeană a Culturii. Proiect cultural co-finanțat de Municipiul Timișoara prin Centrul de Proiecte\, Consiliul Județean Timiș. \n  \n 
URL:https://spotlight-timisoara.eu/en/eveniment/vernisajul-expozitiei-patrimoniul-sub-reflectoare-timisoara-cartierul-cetate-o-lume-in-oglinda/
CATEGORIES:Event
ATTACH;FMTTYPE=image/jpeg:https://spotlight-timisoara.eu/wp-content/uploads/2022/07/SH_2022_Event_cover.jpg
ORGANIZER;CN="Spotlight Heritage Timisoara":MAILTO:contact@spotlight-timisoara.eu
END:VEVENT
END:VCALENDAR