BEGIN:VCALENDAR
VERSION:2.0
PRODID:-//Patrimoniul sub reflectoare Timisoara Spotlight Heritage Timisoara - ECPv6.15.20//NONSGML v1.0//EN
CALSCALE:GREGORIAN
METHOD:PUBLISH
X-ORIGINAL-URL:https://spotlight-timisoara.eu/en
X-WR-CALDESC:Events for Patrimoniul sub reflectoare Timisoara Spotlight Heritage Timisoara
REFRESH-INTERVAL;VALUE=DURATION:PT1H
X-Robots-Tag:noindex
X-PUBLISHED-TTL:PT1H
BEGIN:VTIMEZONE
TZID:Europe/Bucharest
BEGIN:DAYLIGHT
TZOFFSETFROM:+0200
TZOFFSETTO:+0300
TZNAME:EEST
DTSTART:20210328T010000
END:DAYLIGHT
BEGIN:STANDARD
TZOFFSETFROM:+0300
TZOFFSETTO:+0200
TZNAME:EET
DTSTART:20211031T010000
END:STANDARD
BEGIN:DAYLIGHT
TZOFFSETFROM:+0200
TZOFFSETTO:+0300
TZNAME:EEST
DTSTART:20220327T010000
END:DAYLIGHT
BEGIN:STANDARD
TZOFFSETFROM:+0300
TZOFFSETTO:+0200
TZNAME:EET
DTSTART:20221030T010000
END:STANDARD
BEGIN:DAYLIGHT
TZOFFSETFROM:+0200
TZOFFSETTO:+0300
TZNAME:EEST
DTSTART:20230326T010000
END:DAYLIGHT
BEGIN:STANDARD
TZOFFSETFROM:+0300
TZOFFSETTO:+0200
TZNAME:EET
DTSTART:20231029T010000
END:STANDARD
END:VTIMEZONE
BEGIN:VEVENT
DTSTART;VALUE=DATE:20220719
DTEND;VALUE=DATE:20220720
DTSTAMP:20260426T023303
CREATED:20220719T135424Z
LAST-MODIFIED:20221101T212522Z
UID:29668-1658188800-1658275199@spotlight-timisoara.eu
SUMMARY:Atelier de povești pentru copiii de la Asociația "Generația Tânără"
DESCRIPTION:În data de 19.07.2022\, ne-am bucurat de un nou atelier de povești despre Timișoara – oraș al rozelor\, pentru 33 de copii\, de vârstă școlară mică\, și 5 însoțitori de la Asociația „Generația Tânără” din zona Calacea.\n\n\n\nAtelierul a fost susținut de Marius Cornea\, muzeograf al Muzeul Național al Banatului\, la Mansarda Bastionului Maria Theresia\, evenimentul fiind realizat în cadrul expoziției 𝐏𝐚𝐭𝐫𝐢𝐦𝐨𝐧𝐢𝐮𝐥 𝐬𝐮𝐛 𝐫𝐞𝐟𝐥𝐞𝐜𝐭𝐨𝐚𝐫𝐞 𝐓𝐢𝐦𝐢𝐬̦𝐨𝐚𝐫𝐚. 𝐂𝐚𝐫𝐭𝐢𝐞𝐫𝐮𝐥 𝐂𝐞𝐭𝐚𝐭𝐞 – 𝐎 𝐥𝐮𝐦𝐞 𝐢̂𝐧 𝐨𝐠𝐥𝐢𝐧𝐝𝐚̆.\n\n 
URL:https://spotlight-timisoara.eu/en/eveniment/atelier-de-povesti-pentru-copii-de-la-asociatia-generatia-tanara/
LOCATION:Bastionul Maria Theresia\, str. Martin Luther nr. 4\, Timișoara\, Timis\, România
CATEGORIES:News
ATTACH;FMTTYPE=image/jpeg:https://spotlight-timisoara.eu/wp-content/uploads/2022/07/294673866_765434408210254_5703802862824150017_n.jpg
ORGANIZER;CN="Spotlight Heritage Timisoara":MAILTO:contact@spotlight-timisoara.eu
END:VEVENT
END:VCALENDAR