BEGIN:VCALENDAR
VERSION:2.0
PRODID:-//Patrimoniul sub reflectoare Timisoara Spotlight Heritage Timisoara - ECPv6.15.20//NONSGML v1.0//EN
CALSCALE:GREGORIAN
METHOD:PUBLISH
X-WR-CALNAME:Patrimoniul sub reflectoare Timisoara Spotlight Heritage Timisoara
X-ORIGINAL-URL:https://spotlight-timisoara.eu/en
X-WR-CALDESC:Events for Patrimoniul sub reflectoare Timisoara Spotlight Heritage Timisoara
REFRESH-INTERVAL;VALUE=DURATION:PT1H
X-Robots-Tag:noindex
X-PUBLISHED-TTL:PT1H
BEGIN:VTIMEZONE
TZID:Europe/Bucharest
BEGIN:DAYLIGHT
TZOFFSETFROM:+0200
TZOFFSETTO:+0300
TZNAME:EEST
DTSTART:20210328T010000
END:DAYLIGHT
BEGIN:STANDARD
TZOFFSETFROM:+0300
TZOFFSETTO:+0200
TZNAME:EET
DTSTART:20211031T010000
END:STANDARD
BEGIN:DAYLIGHT
TZOFFSETFROM:+0200
TZOFFSETTO:+0300
TZNAME:EEST
DTSTART:20220327T010000
END:DAYLIGHT
BEGIN:STANDARD
TZOFFSETFROM:+0300
TZOFFSETTO:+0200
TZNAME:EET
DTSTART:20221030T010000
END:STANDARD
BEGIN:DAYLIGHT
TZOFFSETFROM:+0200
TZOFFSETTO:+0300
TZNAME:EEST
DTSTART:20230326T010000
END:DAYLIGHT
BEGIN:STANDARD
TZOFFSETFROM:+0300
TZOFFSETTO:+0200
TZNAME:EET
DTSTART:20231029T010000
END:STANDARD
END:VTIMEZONE
BEGIN:VEVENT
DTSTART;TZID=Europe/Bucharest:20220721T210000
DTEND;TZID=Europe/Bucharest:20220721T220000
DTSTAMP:20260426T045945
CREATED:20220725T081502Z
LAST-MODIFIED:20221126T105812Z
UID:29690-1658437200-1658440800@spotlight-timisoara.eu
SUMMARY:Spotlighting Timisoara's Heritage through Dance. Spectacol de dans\, cu utilizarea tehnologiei digitale și elemente de AR
DESCRIPTION:Cartierul Iosefin – Lumea Valeriei\nSpotlighting Timisoara’s Heritage through Dance\nDescoperă patrimoniul Timișoare în pas de dans\nSpectacol de dans\, cu utilizarea tehnologiei digitale și elemente de AR\nLumea Valeriei. Podul de Fier din Cartierul Iosefin | Joi | 21 Iulie 2022 | ora 21:00 \nPornește alături de noi într-o călătorie în timp\, să cunoaștem Timișoara de altădată. Acest spectacol spune în pași de dans povestea din cartierul Iosefin a Valeriei Pintea. Elementele de realitate virtuală și augmentată prezente în show\, te ajută  să îți imaginezi orașul din alte vremuri. \nProiectul cultural numit „Spotlighting Timisoara’s Heritage through Dance/Descoperă patrimoniul Timișoarei în pas de dans”\, proiect co-finanțat de Primăria Municipiului Timișoara prin Centrul de Proiecte\, inițiativă a Asociației Club de Dans Sportiv Magnum\, face parte din Programul Cultural Timișoara 2023 Capitală Europeană a Culturii și spune în pași de dans poveștile din cartierele Timișoarei\, într-un spectacol care aduce trecutul în prezent. \nMai multe detalii despere eveniment și imagini se află aici. \nSpectacolul de dans înregistrat într-o experiență multimedia cu AR poate fi vizionat aici:  \n \n \n 
URL:https://spotlight-timisoara.eu/en/eveniment/spotlighting-timisoaras-heritage-through-dance-spectacol-de-dans-cu-utilizarea-tehnologiei-digitale-si-elemente-de-ar/
LOCATION:Podul de Fier\, Cartier Iosefin\, Strada Andrei Mureșanu 2\, Timișoara\, Timișoara\, Timis\, 300160\, România
CATEGORIES:Dans,Event,Happenings
ATTACH;FMTTYPE=image/jpeg:https://spotlight-timisoara.eu/wp-content/uploads/2022/07/SH_Magnum_Iosefin_Podul-de-Fier_2022Artboard-2-1024x576-1.jpg
ORGANIZER;CN="Spotlight Heritage Timisoara":MAILTO:contact@spotlight-timisoara.eu
END:VEVENT
END:VCALENDAR