BEGIN:VCALENDAR
VERSION:2.0
PRODID:-//Patrimoniul sub reflectoare Timisoara Spotlight Heritage Timisoara - ECPv6.15.20//NONSGML v1.0//EN
CALSCALE:GREGORIAN
METHOD:PUBLISH
X-ORIGINAL-URL:https://spotlight-timisoara.eu/en
X-WR-CALDESC:Events for Patrimoniul sub reflectoare Timisoara Spotlight Heritage Timisoara
REFRESH-INTERVAL;VALUE=DURATION:PT1H
X-Robots-Tag:noindex
X-PUBLISHED-TTL:PT1H
BEGIN:VTIMEZONE
TZID:Europe/Bucharest
BEGIN:DAYLIGHT
TZOFFSETFROM:+0200
TZOFFSETTO:+0300
TZNAME:EEST
DTSTART:20210328T010000
END:DAYLIGHT
BEGIN:STANDARD
TZOFFSETFROM:+0300
TZOFFSETTO:+0200
TZNAME:EET
DTSTART:20211031T010000
END:STANDARD
BEGIN:DAYLIGHT
TZOFFSETFROM:+0200
TZOFFSETTO:+0300
TZNAME:EEST
DTSTART:20220327T010000
END:DAYLIGHT
BEGIN:STANDARD
TZOFFSETFROM:+0300
TZOFFSETTO:+0200
TZNAME:EET
DTSTART:20221030T010000
END:STANDARD
BEGIN:DAYLIGHT
TZOFFSETFROM:+0200
TZOFFSETTO:+0300
TZNAME:EEST
DTSTART:20230326T010000
END:DAYLIGHT
BEGIN:STANDARD
TZOFFSETFROM:+0300
TZOFFSETTO:+0200
TZNAME:EET
DTSTART:20231029T010000
END:STANDARD
END:VTIMEZONE
BEGIN:VEVENT
DTSTART;VALUE=DATE:20220901
DTEND;VALUE=DATE:20220902
DTSTAMP:20260425T191450
CREATED:20220901T122753Z
LAST-MODIFIED:20221101T210005Z
UID:29917-1661990400-1662076799@spotlight-timisoara.eu
SUMMARY:Atelier de povești pentru beneficiarii Fundației Pentru Voi
DESCRIPTION:În data de 1 Septembrie\, un grup de adulți cu dizabilități de intelect \, beneficiari ai Fundației Pentru Voi\, au explorat Timișoara prin simțuri și culori\, bucurându-ne de poveștile digitale realizate de Universitatea Politehnica\, în parteneriat cu Muzeul Național al Banatului\, în cadrul expoziției „Patrimoniul sub reflectoare Timișoara. Cartierul Cetate – O lume în oglindă”.\n\nAceștia au ascultat povești despre Parcul Rozelor\, culorile trandafirilor și poezia poetului Robert Șerban inspirată de acest parc\, într-un atelier de povești interactive\, susținut de Marius Cornea\, muzeograf al Muzeului Național al Banatului.
URL:https://spotlight-timisoara.eu/en/eveniment/atelier-de-povesti-pentru-beneficiarii-fundatiei-pentru-voi/
LOCATION:Bastionul Maria Theresia\, str. Martin Luther nr. 4\, Timișoara\, Timis\, România
CATEGORIES:News
ATTACH;FMTTYPE=image/jpeg:https://spotlight-timisoara.eu/wp-content/uploads/2022/09/304777374_7860646024005613_7869886376450535998_n.jpg
ORGANIZER;CN="Spotlight Heritage Timisoara":MAILTO:contact@spotlight-timisoara.eu
END:VEVENT
END:VCALENDAR