BEGIN:VCALENDAR
VERSION:2.0
PRODID:-//Patrimoniul sub reflectoare Timisoara Spotlight Heritage Timisoara - ECPv6.15.19//NONSGML v1.0//EN
CALSCALE:GREGORIAN
METHOD:PUBLISH
X-ORIGINAL-URL:https://spotlight-timisoara.eu/en
X-WR-CALDESC:Events for Patrimoniul sub reflectoare Timisoara Spotlight Heritage Timisoara
REFRESH-INTERVAL;VALUE=DURATION:PT1H
X-Robots-Tag:noindex
X-PUBLISHED-TTL:PT1H
BEGIN:VTIMEZONE
TZID:Europe/Bucharest
BEGIN:DAYLIGHT
TZOFFSETFROM:+0200
TZOFFSETTO:+0300
TZNAME:EEST
DTSTART:20210328T010000
END:DAYLIGHT
BEGIN:STANDARD
TZOFFSETFROM:+0300
TZOFFSETTO:+0200
TZNAME:EET
DTSTART:20211031T010000
END:STANDARD
BEGIN:DAYLIGHT
TZOFFSETFROM:+0200
TZOFFSETTO:+0300
TZNAME:EEST
DTSTART:20220327T010000
END:DAYLIGHT
BEGIN:STANDARD
TZOFFSETFROM:+0300
TZOFFSETTO:+0200
TZNAME:EET
DTSTART:20221030T010000
END:STANDARD
BEGIN:DAYLIGHT
TZOFFSETFROM:+0200
TZOFFSETTO:+0300
TZNAME:EEST
DTSTART:20230326T010000
END:DAYLIGHT
BEGIN:STANDARD
TZOFFSETFROM:+0300
TZOFFSETTO:+0200
TZNAME:EET
DTSTART:20231029T010000
END:STANDARD
END:VTIMEZONE
BEGIN:VEVENT
DTSTART;TZID=Europe/Bucharest:20220912T200000
DTEND;TZID=Europe/Bucharest:20220912T210000
DTSTAMP:20260423T225633
CREATED:20220828T161640Z
LAST-MODIFIED:20221126T105734Z
UID:29954-1663012800-1663016400@spotlight-timisoara.eu
SUMMARY:Spotlighting Timisoara's Heritage through Dance. Spectacol de dans\, cu utilizarea tehnologiei digitale și elemente de realitate augmentată
DESCRIPTION:Cartierul Fabric – Lumi în Destine\nSpotlighting Timisoara’s Heritage through Dance\nDescoperă patrimoniul Timișoare în pas de dans\nSpectacol de dans\, cu utilizarea tehnologiei digitale și elemente de realitate augmentată\n  \nParcul Regina Maria\, Zona Statuii | Luni | 12 Septembrie 2022 | ora 20:00 \nMomentele de dans descriu scene din viața de zi cu zi a copiilor de odinioară\, întâlniri ale elitei artistice a vremii sau secvențe dintr-o nuntă evreiască\, toate acestea în decorul asigurat de minunatele clădiri din zonă. Spectacolul este inspirat din expoziția „Cartierul Fabric – Lumi în destine”\, organizată în 2021 de Muzeul Național al Banatului și Universitatea Politehnica Timișoara \, care cuprinde istorii personale ale locuitorilor Fabricului\, intervievați de echipa condusă de prof.univ.dr. Smaranda Vultur\, coordonator al Grupului de Istorie Orală și Antropologie Culturală. \nEvenimentul a avut loc în 12 septembrie\, în Parcul Regina Maria din cartierul Fabric\, de la ora 20:00 și a fost influențat de  utilizarea tehnologiei digitale și a elementelor de realitate augmentată\, elemente realizate de studenți ai Universității Politehnica Timișoara\, implicați în proiectul „Spotlight Heritage Timișoara”. \n\nProiectul cultural „Spotlighting Timisoara’s Heritage through Dance/Descoperă patrimoniul Timișoarei în pas de dans”\, proiect co-finanțat de Primăria Municipiului Timișoara prin Centrul de Proiecte\, este o inițiativă a Asociației Club de Dans Sportiv Magnum\,  în colaborare cu Universitatea Politehnica din Timișoara și Muzeul Național al Banatului și este inspirat din proiectul “Spotlight Heritage Timisoara / Patrimoniul sub reflectoare Timisoara”\,  parte a Programului Cultural Timișoara Capitală Culturală Europeană 2023. \nMai multe detalii despere eveniment și imagini se află aici. \nSpectacolul de dans înregistrat într-o experiență multimedia cu AR poate fi vizionat aici:  \n \n\n 
URL:https://spotlight-timisoara.eu/en/eveniment/spotlighting-timisoaras-heritage-through-dance-spectacol-de-dans-cu-utilizarea-tehnologiei-digitale-si-elemente-de-ar-2/
LOCATION:Podul de Fier\, Cartier Iosefin\, Strada Andrei Mureșanu 2\, Timișoara\, Timișoara\, Timis\, 300160\, România
CATEGORIES:Dans,Event,Happenings
ATTACH;FMTTYPE=image/jpeg:https://spotlight-timisoara.eu/wp-content/uploads/2022/08/WhatsApp-Image-2022-09-09-at-16.10.37.jpeg
ORGANIZER;CN="Spotlight Heritage Timisoara":MAILTO:contact@spotlight-timisoara.eu
END:VEVENT
END:VCALENDAR