BEGIN:VCALENDAR
VERSION:2.0
PRODID:-//Patrimoniul sub reflectoare Timisoara Spotlight Heritage Timisoara - ECPv6.15.20//NONSGML v1.0//EN
CALSCALE:GREGORIAN
METHOD:PUBLISH
X-WR-CALNAME:Patrimoniul sub reflectoare Timisoara Spotlight Heritage Timisoara
X-ORIGINAL-URL:https://spotlight-timisoara.eu/en
X-WR-CALDESC:Events for Patrimoniul sub reflectoare Timisoara Spotlight Heritage Timisoara
REFRESH-INTERVAL;VALUE=DURATION:PT1H
X-Robots-Tag:noindex
X-PUBLISHED-TTL:PT1H
BEGIN:VTIMEZONE
TZID:Europe/Bucharest
BEGIN:DAYLIGHT
TZOFFSETFROM:+0200
TZOFFSETTO:+0300
TZNAME:EEST
DTSTART:20210328T010000
END:DAYLIGHT
BEGIN:STANDARD
TZOFFSETFROM:+0300
TZOFFSETTO:+0200
TZNAME:EET
DTSTART:20211031T010000
END:STANDARD
BEGIN:DAYLIGHT
TZOFFSETFROM:+0200
TZOFFSETTO:+0300
TZNAME:EEST
DTSTART:20220327T010000
END:DAYLIGHT
BEGIN:STANDARD
TZOFFSETFROM:+0300
TZOFFSETTO:+0200
TZNAME:EET
DTSTART:20221030T010000
END:STANDARD
BEGIN:DAYLIGHT
TZOFFSETFROM:+0200
TZOFFSETTO:+0300
TZNAME:EEST
DTSTART:20230326T010000
END:DAYLIGHT
BEGIN:STANDARD
TZOFFSETFROM:+0300
TZOFFSETTO:+0200
TZNAME:EET
DTSTART:20231029T010000
END:STANDARD
END:VTIMEZONE
BEGIN:VEVENT
DTSTART;VALUE=DATE:20220921
DTEND;VALUE=DATE:20220922
DTSTAMP:20260425T161715
CREATED:20220923T182812Z
LAST-MODIFIED:20221101T211959Z
UID:30237-1663718400-1663804799@spotlight-timisoara.eu
SUMMARY:Atelier de povești pentru beneficiarii Centrului de integrare și reintegrare socială a persoanelor aflate în dificultate de Ziua Internațională Alzheimer
DESCRIPTION:În data de 21 Septembrie 2022 a fost Ziua Internațională Alzheimer și totodată aniversarea celor 10 ani de colaborare a unui muzeograf-povestitor cu centrele de zi pentru seniori ale Direcției de Asistență Socială a Municipiului Timișoara din cadrul Primăriei Municipiului Timișoara.\n\n\n\nPentru a comerora această zi\, Marius Cornea\, muzeograf la Muzeul Național al Banatului și parte din echipa Spotlight Heritage Timișoara\, a fost prezent la Centrul de Proiecte Timișoara\, unde a expus o serie de imagini însoțite de povesti despre relația dintre patrimoniul muzeal și beneficiarii Centrului de Zi Alzheimer\, devenit astăzi parte a Centrului de integrare și reintegrare socială a persoanelor aflate în dificultate.\n\n\n\nPovestea a început în primăvara anului 2012 cu picturile lui Corneliu Baba si continuă în zilele noastre cu poveștile digitale din proiectul „Patrimoniul sub reflectoare Timișoara”. Pentru noi este o mare bucurie să putem contribui la astfel de momente.\n\n\n\n 
URL:https://spotlight-timisoara.eu/en/eveniment/atelier-de-povesti-pentru-beneficiarii-centrului-de-integrare-si-reintegrare-sociala-a-persoanelor-aflate-in-dificultate-de-ziua-internationala-alzheimer/
LOCATION:Centrul de Proiecte Timișoara\, Str. Vasile Alecsandri\, nr. 1\, SAD7\, Timișoara\, Timis\, 300078\, România
CATEGORIES:News
ATTACH;FMTTYPE=image/jpeg:https://spotlight-timisoara.eu/wp-content/uploads/2022/09/308443197_502437601893105_1943025355556984988_n.jpg
ORGANIZER;CN="Spotlight Heritage Timisoara":MAILTO:contact@spotlight-timisoara.eu
END:VEVENT
END:VCALENDAR