BEGIN:VCALENDAR
VERSION:2.0
PRODID:-//Patrimoniul sub reflectoare Timisoara Spotlight Heritage Timisoara - ECPv6.15.19//NONSGML v1.0//EN
CALSCALE:GREGORIAN
METHOD:PUBLISH
X-ORIGINAL-URL:https://spotlight-timisoara.eu/en
X-WR-CALDESC:Events for Patrimoniul sub reflectoare Timisoara Spotlight Heritage Timisoara
REFRESH-INTERVAL;VALUE=DURATION:PT1H
X-Robots-Tag:noindex
X-PUBLISHED-TTL:PT1H
BEGIN:VTIMEZONE
TZID:Europe/Bucharest
BEGIN:DAYLIGHT
TZOFFSETFROM:+0200
TZOFFSETTO:+0300
TZNAME:EEST
DTSTART:20210328T010000
END:DAYLIGHT
BEGIN:STANDARD
TZOFFSETFROM:+0300
TZOFFSETTO:+0200
TZNAME:EET
DTSTART:20211031T010000
END:STANDARD
BEGIN:DAYLIGHT
TZOFFSETFROM:+0200
TZOFFSETTO:+0300
TZNAME:EEST
DTSTART:20220327T010000
END:DAYLIGHT
BEGIN:STANDARD
TZOFFSETFROM:+0300
TZOFFSETTO:+0200
TZNAME:EET
DTSTART:20221030T010000
END:STANDARD
BEGIN:DAYLIGHT
TZOFFSETFROM:+0200
TZOFFSETTO:+0300
TZNAME:EEST
DTSTART:20230326T010000
END:DAYLIGHT
BEGIN:STANDARD
TZOFFSETFROM:+0300
TZOFFSETTO:+0200
TZNAME:EET
DTSTART:20231029T010000
END:STANDARD
END:VTIMEZONE
BEGIN:VEVENT
DTSTART;TZID=Europe/Bucharest:20221004T190000
DTEND;TZID=Europe/Bucharest:20221005T200000
DTSTAMP:20260423T211724
CREATED:20220922T135843Z
LAST-MODIFIED:20221126T105653Z
UID:30220-1664910000-1665000000@spotlight-timisoara.eu
SUMMARY:Cartierul Cetate\, sub reflector! Spectacol de teatru\,  cu utilizarea tehnologiei digitale și elemente de realitate augmentată\, în colaborare cu Teatrul Thespis
DESCRIPTION:Două lumi distincte\, dar complet opuse își dau întâlnire prin intermediul unei studente pasionate de vintage și o pasionată de tehnologie. O incursiune urbană de redescoperire a patrimoniului timișorean.” Ce a fost”\, ” Ce este” și „Ce va fi” se împletesc prin viziune tehnologică și creativitate artistică\, într-un Experimentarium de imaginație\, menit să deschidă noi perspective în mentalul colectiv. \nTe așteptăm în 4 și 5 Octombrie 2022\, de la ora 19:00\, la Muzeul Tehnic UPT și Experimentarium TM\, să sfidăm granițele timpului și să explorăm cultura și patrimoniul Timișoarei\, printr-un spectacol de teatru\, cu utilizarea tehnologiei de ultimă generație. Participarea este gratuită! \nBilete GRATUITE pentru reprezentații https://form.123formbuilder.com/6259279/form. \nLocurile sunt limitate! \nAcest spectacol face parte din seria de evenimente dedicate programului cultural Timișoara Capitală Culturală Europeană 2023\, desfășurate în cadrul proiectului Spotlight Heritage Timișoara\, proiect cultural co-finanțat de Municipiul Timișoara\,  prin Centrul de Proiecte\, Consiliul Județean Timiș\, realizat de Universitatea Politehnica Timișoara\, în colaborare cu Muzeul Național al Banatului. \n\n\n \nRegia spectacolului este inspirată din expoziția „Patrimoniul sub reflectoare. Cartierul Cetate – O lume în oglindă”\, organizată chiar în acest an\, de Muzeul Național al Banatului și Universitatea Politehnica Timișoara\, care are la bază selecția de texte literare culese de prof.univ.dr. Smaranda Vultur și de asist.univ.dr. Roxana Rogobete\, precum și amintirile culese din istoria orală timișoreană\, valorificate de Grupul de Istorie Orală și Antropologie Culturală\, care sunt îmbinate cu poeziile originale\, create pentru Patrimoniul sub Reflectoare Timișoara\, de către cunoscutul poet timișorean Robert Șerban. \nPrin acest spectacol\, gazdele evenimentului doresc să aducă sub reflector – posibilitățile pe care ni le oferă lumea digitală\, care ne permit să „sfidăm” granițele timpului și să explorăm cultura și patrimoniul orașului nostru\, prin mijloace care ne captivează simțurile\, într-o transpunere modernă a tradițiilor timișorene.
URL:https://spotlight-timisoara.eu/en/eveniment/cartierul-cetate-sub-reflector-spectacol-de-teatru-cu-utilizarea-tehnologiei-digitale-si-elemente-de-realitate-augmentata-in-colaborare-cu-teatrul-thespis/
LOCATION:Muzeul Tehnic UPT și Experimentarium TM\, Experimentarium TM\, Timisoara\, Timis\, 300750\, România
CATEGORIES:Event,Happenings,Teatru
ATTACH;FMTTYPE=image/jpeg:https://spotlight-timisoara.eu/wp-content/uploads/2022/09/SH_Teatru_Cetate_2022event-cover.jpg
ORGANIZER;CN="Spotlight Heritage Timisoara":MAILTO:contact@spotlight-timisoara.eu
END:VEVENT
END:VCALENDAR