BEGIN:VCALENDAR
VERSION:2.0
PRODID:-//Patrimoniul sub reflectoare Timisoara Spotlight Heritage Timisoara - ECPv6.15.19//NONSGML v1.0//EN
CALSCALE:GREGORIAN
METHOD:PUBLISH
X-WR-CALNAME:Patrimoniul sub reflectoare Timisoara Spotlight Heritage Timisoara
X-ORIGINAL-URL:https://spotlight-timisoara.eu/en
X-WR-CALDESC:Events for Patrimoniul sub reflectoare Timisoara Spotlight Heritage Timisoara
REFRESH-INTERVAL;VALUE=DURATION:PT1H
X-Robots-Tag:noindex
X-PUBLISHED-TTL:PT1H
BEGIN:VTIMEZONE
TZID:Europe/Bucharest
BEGIN:DAYLIGHT
TZOFFSETFROM:+0200
TZOFFSETTO:+0300
TZNAME:EEST
DTSTART:20210328T010000
END:DAYLIGHT
BEGIN:STANDARD
TZOFFSETFROM:+0300
TZOFFSETTO:+0200
TZNAME:EET
DTSTART:20211031T010000
END:STANDARD
BEGIN:DAYLIGHT
TZOFFSETFROM:+0200
TZOFFSETTO:+0300
TZNAME:EEST
DTSTART:20220327T010000
END:DAYLIGHT
BEGIN:STANDARD
TZOFFSETFROM:+0300
TZOFFSETTO:+0200
TZNAME:EET
DTSTART:20221030T010000
END:STANDARD
BEGIN:DAYLIGHT
TZOFFSETFROM:+0200
TZOFFSETTO:+0300
TZNAME:EEST
DTSTART:20230326T010000
END:DAYLIGHT
BEGIN:STANDARD
TZOFFSETFROM:+0300
TZOFFSETTO:+0200
TZNAME:EET
DTSTART:20231029T010000
END:STANDARD
END:VTIMEZONE
BEGIN:VEVENT
DTSTART;TZID=Europe/Bucharest:20221011T100000
DTEND;TZID=Europe/Bucharest:20221014T170000
DTSTAMP:20260423T210543
CREATED:20221003T152304Z
LAST-MODIFIED:20221128T102455Z
UID:30291-1665482400-1665766800@spotlight-timisoara.eu
SUMMARY:Exhibition Spotlight Heritage Timisoara in Kaunas - Virtuali paroda „Spotlight Heritage” Kaunas
DESCRIPTION:soluții tehnice inovatoare\, tehnologii VR și o experiență interculturală excepțională\n\n„Exhibition Spotlight Heritage Timisoara in Kaunas” este o expoziție digitală a orașului Timișoara\, România\, parte din programul Kaunas 2022 #ECoC\, în cadrul căreia participanții vor fi invitați să cunoască mai îndeaproape orașul\, care va prelua în 2023 rolul de Capitală Europeană a Culturii.\n\n\nEvenimentul de deschidere va avea loc marți\, 11 Octombrie 2022\, de la ora 10:00\, în incinta noii biblioteci a Universității Tehnologice Kaunas din Lituania și va fi transmis LIVE.\n\n\nVizitatorii vor avea o oportunitate unică nu doar de a comunica cu o parte din echipa proiectului din România\, ci și de a cunoaște mai îndeaproape cultura\, arhitectura și istoria Timișoarei cu ajutorul realității virtuale.\n\nParticipanții vor putea să se plimbe pe străzile orașului\, să viziteze cele mai cunoscute monumente ale orașului Timișoara\, locuri istorice păstrate și clădiri fără a părăsi incinta confortabilă a noii biblioteci din Universitatea Tehnologică Kaunas\, KTU (Lituania).\n\nExpoziția va avea loc în limba engleză și lituaniană și este organizată de Universitatea Politehnica Timișoara\, Facultatea de Informatică KTU și Muzeul National al Banatului. Mai multe informații despre eveniment aici.\n\n\n\nVezii mai multe informații și imagini de la expoziție aici.
URL:https://spotlight-timisoara.eu/en/eveniment/exhibition-spotlight-heritage-timisoara-in-kaunas-virtuali-paroda-spotlight-heritage-kaunas/
LOCATION:KTU Universiteto miestelio biblioteka\, Studentų gatvė 48\, Kaunas Žiūrėti žemėlapyje\, Kaunas\, Lituania
CATEGORIES:Event,Expoziții Internaționale
ATTACH;FMTTYPE=image/jpeg:https://spotlight-timisoara.eu/wp-content/uploads/2022/10/SH_Kahunas_event_cover.jpg
ORGANIZER;CN="Spotlight Heritage Timisoara":MAILTO:contact@spotlight-timisoara.eu
END:VEVENT
END:VCALENDAR