BEGIN:VCALENDAR
VERSION:2.0
PRODID:-//Patrimoniul sub reflectoare Timisoara Spotlight Heritage Timisoara - ECPv6.15.19//NONSGML v1.0//EN
CALSCALE:GREGORIAN
METHOD:PUBLISH
X-WR-CALNAME:Patrimoniul sub reflectoare Timisoara Spotlight Heritage Timisoara
X-ORIGINAL-URL:https://spotlight-timisoara.eu/en
X-WR-CALDESC:Events for Patrimoniul sub reflectoare Timisoara Spotlight Heritage Timisoara
REFRESH-INTERVAL;VALUE=DURATION:PT1H
X-Robots-Tag:noindex
X-PUBLISHED-TTL:PT1H
BEGIN:VTIMEZONE
TZID:Europe/Bucharest
BEGIN:DAYLIGHT
TZOFFSETFROM:+0200
TZOFFSETTO:+0300
TZNAME:EEST
DTSTART:20210328T010000
END:DAYLIGHT
BEGIN:STANDARD
TZOFFSETFROM:+0300
TZOFFSETTO:+0200
TZNAME:EET
DTSTART:20211031T010000
END:STANDARD
BEGIN:DAYLIGHT
TZOFFSETFROM:+0200
TZOFFSETTO:+0300
TZNAME:EEST
DTSTART:20220327T010000
END:DAYLIGHT
BEGIN:STANDARD
TZOFFSETFROM:+0300
TZOFFSETTO:+0200
TZNAME:EET
DTSTART:20221030T010000
END:STANDARD
BEGIN:DAYLIGHT
TZOFFSETFROM:+0200
TZOFFSETTO:+0300
TZNAME:EEST
DTSTART:20230326T010000
END:DAYLIGHT
BEGIN:STANDARD
TZOFFSETFROM:+0300
TZOFFSETTO:+0200
TZNAME:EET
DTSTART:20231029T010000
END:STANDARD
END:VTIMEZONE
BEGIN:VEVENT
DTSTART;VALUE=DATE:20221022
DTEND;VALUE=DATE:20221023
DTSTAMP:20260423T192950
CREATED:20221122T103108Z
LAST-MODIFIED:20221128T105207Z
UID:30624-1666396800-1666483199@spotlight-timisoara.eu
SUMMARY:Cartierul Elisabetin în diferite etape ale trecutului\, sub reflectorul timișorean
DESCRIPTION:Cartierul Elisabetin în diferite etape ale trecutului\, sub reflectorul timișorean\nAl treilea spectacol de dans\, care a avut loc în 21 Octombrie la Cinema Victoria Timișoara a adus sub reflector imaginea cartierului Elisabetin în diferite etape ale trecutului\, având în centrul său pe cele trei personaje feminine: Netti – Timișoara interbelică\, Carla – Timișoara în anii comunismului și Pia – Timișoara postdecembristă. \n\n\nRevenim cu câteva imagini de la finalul săptămânii trecute\, de la un spectacol deosebit despre familie\, emoții\, senzații și amintiri\, o reimprimare a poveștilor mai puțin știute ale unui cartier de legendă\, acolo unde dansul s-a împletit cu tehnologia.\n\n\n\n\n			\n				\n			\n			\n				\n			\n			\n				\n			\n			\n				\n			\n			\n				\n			\n			\n				\n			\n		\n\n\nUn public numeros și impresionat ne-a fost alături în seara de vineri\, la Cinema Victoria Timișoara\, unde cartierul Elisabetin a fost destăinuit prin prisma vocilor pluriculturale\, a emoților și a familiei de odinioară\,  într-o călătorie atipică prin amintirile familiei Brînzeu\, din timpul celor trei generații.\n\n\n\nAu fost atât de multe de (re)văzut și (re)descoperit\, iar noi suntem mai mult decât bucuroși că am putut crea o astfel de interacțiune cu cetățenii și că am putut lega istoria de demult a orașului cu oamenii de azi.\n\n\n\n			\n				\n			\n			\n				\n			\n			\n				\n			\n			\n				\n			\n			\n				\n			\n			\n				\n			\n		\n\n\n\nSpectacolul este realizat de Clubul de Dans Sportiv Magnum Team\, în colaborare cu Universitatea Politehnica din Timișoara și Muzeul Național al Banatului și face parte din seria de evenimente dedicate programului cultural Timișoara Capitală Culturală Europeană 2023\, desfășurate în cadrul proiectului „Spotlighting Timisoara’s Heritage through Dance/Descoperă patrimoniul Timișoarei în pas de dans”\, proiect co-finanțat de Primăria Municipiului Timișoara prin Centrul de Proiecte. \nExpoziția „Patrimoniul sub reflectoare Timișoara. Cartierul Elisabetin și  Netti dr. Diel  – O lume într-un cufăr”\, organizată de Muzeul Național al Banatului și Universitatea Politehnica Timișoara în 2020\, care a avut la bază manuscrisul Jurnal de familie al doamnei prof.dr.Pia Brînzeu\, a fost punctul de plecare al acestui spectacol. \nMomentele de dans descriu povestea a trei femei\, trăitoate în epoci istorice foarte diferite: Timișoara interbelică (Netti)\, Timișoara în anii comunismului (Carla) și Timișoara postdecembristă (Pia) și utilizează tehnologia digitală și elemente de realitate augmentată\, componente realizate de studenți politehniști\, implicați în proiectul „Spotlight Heritage Timișoara”. \nSpectacolul de dans înregistrat într-o experiență multimedia cu AR poate fi vizionat aici: \n \n\n\nProiectul „Spotlighting Timisoaraʹs Heritage through Dance” duce mai departe demersurile a două proiecte precedente: unul marca Magnum Team\, intitulat „În pași de dans prin clădiri de patrimoniu”\, derulat în 2021\, iar cel de-al doilea al Universității Politehnica Timișoara\, în parteneriat cu Muzeul Național al Banatului\, intitulat „Spotlight Heritage Timișoara”. \nUltimul spectacol de dans va ilustra o poveste din cartierul Cetate.
URL:https://spotlight-timisoara.eu/en/eveniment/cartierul-elisabetin-in-diferite-etape-ale-trecutului-sub-reflectorul-timisorean/
LOCATION:Cinema VICTORIA\, Strada Ciprian Porumbescu 2\, Timișoara\, Timiș\, 300425
CATEGORIES:Dans,Happenings,News
ATTACH;FMTTYPE=image/jpeg:https://spotlight-timisoara.eu/wp-content/uploads/2022/11/311567255_533895055414026_8373583900243033092_n.jpg
ORGANIZER;CN="Spotlight Heritage Timisoara":MAILTO:contact@spotlight-timisoara.eu
END:VEVENT
END:VCALENDAR