BEGIN:VCALENDAR
VERSION:2.0
PRODID:-//Patrimoniul sub reflectoare Timisoara Spotlight Heritage Timisoara - ECPv6.15.19//NONSGML v1.0//EN
CALSCALE:GREGORIAN
METHOD:PUBLISH
X-ORIGINAL-URL:https://spotlight-timisoara.eu/en
X-WR-CALDESC:Events for Patrimoniul sub reflectoare Timisoara Spotlight Heritage Timisoara
REFRESH-INTERVAL;VALUE=DURATION:PT1H
X-Robots-Tag:noindex
X-PUBLISHED-TTL:PT1H
BEGIN:VTIMEZONE
TZID:Europe/Bucharest
BEGIN:DAYLIGHT
TZOFFSETFROM:+0200
TZOFFSETTO:+0300
TZNAME:EEST
DTSTART:20210328T010000
END:DAYLIGHT
BEGIN:STANDARD
TZOFFSETFROM:+0300
TZOFFSETTO:+0200
TZNAME:EET
DTSTART:20211031T010000
END:STANDARD
BEGIN:DAYLIGHT
TZOFFSETFROM:+0200
TZOFFSETTO:+0300
TZNAME:EEST
DTSTART:20220327T010000
END:DAYLIGHT
BEGIN:STANDARD
TZOFFSETFROM:+0300
TZOFFSETTO:+0200
TZNAME:EET
DTSTART:20221030T010000
END:STANDARD
BEGIN:DAYLIGHT
TZOFFSETFROM:+0200
TZOFFSETTO:+0300
TZNAME:EEST
DTSTART:20230326T010000
END:DAYLIGHT
BEGIN:STANDARD
TZOFFSETFROM:+0300
TZOFFSETTO:+0200
TZNAME:EET
DTSTART:20231029T010000
END:STANDARD
END:VTIMEZONE
BEGIN:VEVENT
DTSTART;VALUE=DATE:20221116
DTEND;VALUE=DATE:20221117
DTSTAMP:20260420T024821
CREATED:20221001T115237Z
LAST-MODIFIED:20230111T130932Z
UID:30897-1668556800-1668643199@spotlight-timisoara.eu
SUMMARY:Regulamentul Concursului Internațional Studențesc Spotlight Heritage 2022
DESCRIPTION:1. Considerații generale\nA doua ediție a Concursului Internațional Studențesc Spotlight Heritage 2022\, denumit de acum înainte ISHSC 2022\, este organizată de Universitatea Politehnica Timișoara din România în cadrul „Spotlight Heritage 2022 – Cetate – O Lume în Oglindă”\, proiect finanțat în 2022 de către Centrul de Proiecte al Municipiului Timișoara. \nPrima ediție se găsește aici https://spotlight-timisoara.eu/en/eveniment/ishsc-2021-si-a-prezentat-castigatorii-tururi-virtuale-interactive-si-aplicatii-ar-dezvoltate-de-studenti-internationali/ \nPartenerii acestui concurs sunt Aalborg Universitet din Danemarca\, Università di Modena e Reggio Emilia din Italia și Kauno technologijos universitetas din Lituania. \nAcest regulament a fost redactat în conformitate cu legislația națională a României și cu reglementările interne ale Universității Politehnica Timișoara privind activitățile studențești\, colaborarea internațională cu alte universități etc. \nParticipanții au obligația de a respecta termenii și condițiile prezentului regulament pentru desfășurarea activităților din cadrul ISHSC 2022. \n2. Condiții obligatorii de înscriere la concursul ISHSC 2022\nPentru a se înscrie pentru participarea la ISHSC 2022 \, participanții trebuie să fie studenți la una dintre aceste patru universități (indiferent de nivelul de studii la care sunt înscriși în prezent – ​​licență\, master\, doctorat): \n\nUniversitatea Politehnica Timișoara (România)\nAalborg Universitet (Danemarca)\nUniversità di Modena e Reggio Emilia (Italia)\nKauno technologijos universitetas (Lituania)\n\nParticipanții trebuie să completeze un formular\, accesibil la linkul https://form.123formbuilder.com/6242990/form/\, care va conține următoarele informații: \n\nNume complet\nE-mail\nTelefon\nUniversitate\nFacultate\nSpecializare\nAbilități/competențe\nScurtă descriere a ideii\n\nParticipanții vor primi de la organizatori\, la scurt timp după depunere\, un e-mail care le va confirma înregistrarea. \n3. Concursul ISHSC 2022 – rezultat\, juriu\, premii\n Concursul cere ca studenții să lucreze în echipe internaționale (fiecare formată din studenți de la cel puțin 2 universități din cele 4 partenere în concurs). Dacă\, atunci când înscriu ideea de proiect\, participanții nu cunosc colegi din alte universități\, organizatorii îi vor pune în legătură printr-o sesiune de mix & match (după ce înscrierea tuturor proiectelor s-a încheiat). Așadar\, studenții își pot înscrie ideea de proiect chiar dacă nu au o echipă internațională\, fiind apoi invitați să discute și să armonizeze proiectul lor cu colegii din celelalte universități. \nIdeea proiectului ar trebui să se bazeze pe crearea unui artefact de povestire digitală în realitate virtuală sau realitate augmentată\, cu resurse Spotlight Heritage\, folosind artefactele\, textul și poveștile multimedia existente\, și integrarea acestuia într-o experiență de realitate virtuală/realitate augmentată. Participanții vor putea crea alte artefacte multimedia sau digitale (de exemplu\, imagini 3D)\, vor putea integra alte funcționalități sau se vor putea conecta cu poveștile lor locale/naționale/internaționale. Ei ar trebui să poată lucra în limba engleză în cadrul echipei lor internaționale. \nResursele Spotlight Heritage sunt disponibile în limba română și engleză pe site-ul https://spotlight-timisoara.eu/ și în aplicațiile mobile pentru Android și iOS care se pot găsi în magazinele de aplicații cu denumirea „Spotlight Timisoara”. Aceste resurse vor fi puse la dispoziția participanților în format brut\, la cererea acestora. \nCronologia concursului: \n\nÎnscriere: 1.10.2022 – 28.10.2022\nFormarea echipelor (acolo unde este necesar): 28.10.2022 – 31.10.2022\nImplementarea ideii: 1.11.2022 – 8.11.2022\nPrezentare / pitching / jurizare: 9.11.2022\n\n  \nProiectele vor fi evaluate de un juriu format din  specialiști din cadrul proiectului Spotlight Heritage Timișoara\, iar rezultatele vor fi anunțate în aceeași zi. Pitching-ul și jurizarea vor avea loc\, ca secțiune de sine stătătoare\, în cadrul concursului Interactive Digital Media Student Contest organizat de Universitatea Politehnica Timișoara. \nCâștigătorii vor primi premii și vor fi nominalizați la EU Medeea Awards 2023 https://www.medea-awards.com/ și la Interactive Digital Media Student Contest ediția 2023.  \nParticiparea în 2021 la Medea Awards este reflectată aici: \nhttps://spotlight-timisoara.eu/en/eveniment/international-spotlight-heritage-student-contest-2021-finalist-la-premiile-medea-2022/ \nCriterii de evaluare: \n\nUtilizarea creativă resurselor multimedia din cadrul Spotlight Heritage Timisoara și perspectiva povestirii digitale\nEvaluare tehnică – produs final AR/VR obligatoriu\, complexitatea și interactivitatea produsului și posibilitatea acestuia de a fi integrat în aplicațiile Spotlight Heritage existente\nPerspectiva internațională a echipei și ideilor\n\n  \nPremii  \nVor fi maxim 3 premii pe echipă în sumă totală de 5000 de Euro. Contribuțiile vor fi deduse din valoarea premiilor. \nUniversitatea Politehnica Timisoara își rezervă dreptul de a adapta evaluarea proiectelor și valorile premiilor\, în funcție de numărul și valoarea produselor finale realizate de echipe. \n4. Protecția datelor cu caracter personal\nUniversitatea Politehnica Timișoara\, în calitate de organizatori\, se obligă să respecte prevederile Regulamentului General pentru Protecția Datelor (UE) 2016/679 (GDPR)\, privind protecția datelor cu caracter personal\, stocate pe perioada înscrierii și a concursului în sine. Ca atare\, organizatorii se obligă sa păstreze confidențialitatea datelor personale ale participanților la acest concurs și ăa le utilizeze în conformitate cu această procedura și cu legislația în vigoare. \nPrin simpla participare la concurs\, prin transmiterea datelor cu caracter personal organizatorilor și a altor informații solicitate în contextul acestei proceduri\, sau prin comunicarea datelor cu caracter personal\, participanții sunt de acord ca datele lor să intre în baza de date a organizatorilor\, să fie prelucrate și utilizate în viitor de către organizatori sau persoane juridice autorizate de aceștia\, ca să informeze participanții despre noi proiecte\, campanii de publicitate și marketing. La cererea scrisă expresă a participanților\, organizatorii nu vor mai folosi datele lor personale. \nVezi rezultatele concursului aici.
URL:https://spotlight-timisoara.eu/en/eveniment/regulation-for-international-spotlight-heritage-student-contest-2022/
CATEGORIES:Event,ISHSC
ATTACH;FMTTYPE=image/jpeg:https://spotlight-timisoara.eu/wp-content/uploads/2022/10/288557141_743577667062595_5945044006192279407_n.jpg
ORGANIZER;CN="Spotlight Heritage Timisoara":MAILTO:contact@spotlight-timisoara.eu
END:VEVENT
BEGIN:VEVENT
DTSTART;VALUE=DATE:20221116
DTEND;VALUE=DATE:20221117
DTSTAMP:20260420T024821
CREATED:20221116T095133Z
LAST-MODIFIED:20221208T133123Z
UID:30601-1668556800-1668643199@spotlight-timisoara.eu
SUMMARY:ISHSC 2022 și-a prezentat câștigătorii: Tururi virtuale interactive și aplicații AR dezvoltate de studenți internaționali
DESCRIPTION:Aplicațiile câștigătoare ale concursului  International Spotlight Heritage Student Contest 2022 au fost prezentate miercuri\, 16 noiembrie 2022\, în format hibrid\,  în prezența studenților și elevilor prezenți\, cât și a specialiștilor din universitate\, industrie și companiile timișorene\, în cadrul competiției Interactive Digital Media Student Contest 2022. \nInițiativa aparține Universității Politehnica Timișoara și a fost organizată în cadrul proiectului „Spotlight Heritage Timișoara 2022 – Cetate –O lume în Oglindă”\, finanțat în 2022 de Centrul de Proiecte al Municipiului Timișoara și Consiliul Județean Timiș\, iar partenerii concursului au fost Aalborg Universitet din Danemarca\, Università di Modena e Reggio Emilia din Italia și Kauno technologijos universitetas din Lituania. \n\n			\n				\n			\n			\n				\n			\n			\n				\n			\n		\n\nÎn cadrul concursului\, studenții au lucrat în echipe internaționale\, formate din câte un reprezentant al studenților de la fiecare universitate parteneră\, și au creat împreună o povestire digitală în realitate virtuală cu resursele din cadrul proiectului Spotlight Heritage Timișoara\, folosind artefactele\, textul și poveștile multimedia existente și\, totodată\, integrând acestea într-o experiență de realitate virtuală. \nCele două premii pentru secțiunea International Spotlight Heritage Student Contest (eXtended Reality) au fost oferite de către inițiatorul proiectului Patrimoniul sub Reflectoare Timișoara/Spotlight Heritage Timișoara\, proiect co-finanțat de Centrul de Proiecte al Municipiului Timişoara și Consiliul Județean Timiș și au mers către următoarele proiecte care au dezvoltat aplicații de povestire digitală în realitate virtuală și realitate augmentată: \nExplore Timișoara in VR \nExplore Timișoara in VR\, aplicație dezvoltată de Marius-Cosmin Tătaru\, Sorina Zorita Gavriliuc-Voina\, Radu-Dorian Stamatoiu (studenți doctorat la Universitatea Politehnica Timișoara\, România)\, Giulia Innocentini (studentă masterandă la Università di Modena și Reggio Emilia\, Italia) și Eliana Maria Torre (studentă doctorandă la Università di Modena și Reggio Emilia\, Italia) și Peter Guld Leth\, Oskar Bill Zhou (studenți master la Universitatea din Aalborg\, Danemarca) – care presupune o nouă interfață cu utilizatorul\, adăugarea unei hărți 3D a orașului\, a unor noi obiective din Timișoara\, inclusiv cu audio și schimbarea completă a modului în care utilizatorul selectează o locație. \n  \n  \nTimișoara quest in XR \nTimișoara quest in XR\, un mediu virtual dezvoltat de Silviu Berzescu (student masterand la Universitatea Politehnica Timișoara)\, Maria Tolaini (studentă masterandă la Università di Modena și Reggio Emilia\, Italia)\, Mikkel Sang Mee Baunsgaard (student master la Universitatea din Aalborg\, Danemarca) – unde utilizatorii pot interacționa și afla mai multe informații despre obiecte din patrimoniul Muzeului Național al Banatului. Tot conținutul aplicației este suprapus peste realitate\, utilizatorii pot vedea mediul din jurul lor. Utilizatorul poate să interacționeze cu obiectele din interiorul cutiilor care se află împrăștiate în mediul real. \n  \nVezi mai multe detalii despre regulament și concurs aici: International Spotlight Heritage Student Contest 2022.
URL:https://spotlight-timisoara.eu/en/eveniment/ishsc-2022-si-a-prezentat-castigatorii-tururi-virtuale-interactive-si-aplicatii-ar-dezvoltate-de-studenti-internationali/
CATEGORIES:News
ATTACH;FMTTYPE=image/jpeg:https://spotlight-timisoara.eu/wp-content/uploads/2022/11/ISHC-prezentare-scaled-2.jpeg
END:VEVENT
BEGIN:VEVENT
DTSTART;TZID=Europe/Bucharest:20221116T120000
DTEND;TZID=Europe/Bucharest:20221116T170000
DTSTAMP:20260420T024821
CREATED:20221117T100004Z
LAST-MODIFIED:20230316T121033Z
UID:31338-1668600000-1668618000@spotlight-timisoara.eu
SUMMARY:ISHSC 2022 și-a prezentat câștigătorii: Tururi VR interactive și aplicații MR dezvoltate de studenți internaționali
DESCRIPTION:Aplicațiile câștigătoare ale concursului  International Spotlight Heritage Student Contest 2022 au fost prezentate hibrid\, miercuri\, 16 noiembrie\, în cadrul Concursului Studențesc Interactive Digital Media Student Contest 2022. \nInițiativa aparține Universității Politehnica Timișoara și a fost organizată în cadrul proiectului „Spotlight Heritage Timișoara 2022 – Cetate – O lume în oglindă”\, finanțat în 2022 de Centrul de Proiecte al Municipiului Timișoara\, iar partenerii concursului au fost Aalborg Universitet din Danemarca și Università di Modena e Reggio Emilia din Italia. \n\n			\n				\n			\n			\n				\n			\n			\n				\n			\n			\n				\n			\n		\n\n  \nÎn cadrul concursului\, studenții au lucrat în echipe internaționale\, formate din reprezentanți ai studenților de la fiecare universitate parteneră\, și au creat împreună o povești digitale în realitate virtuală și augmentată/mixtă cu resursele din cadrul proiectului Spotlight Heritage Timișoara\, folosind artefactele\, textul și poveștile multimedia existente și\, totodată\, integrând acestea într-o experiență virtuală.  \nPrimul proiect câștigător a fost Explore Timișoara in VR\, aplicație dezvoltată de Marius-Cosmin Tătaru\, Sorina Zorita Gavriliuc-Voina\, Radu-Dorian Stamatoiu (studenți doctorat la Universitatea Politehnica Timișoara\, România)\, Giulia Innocentini (studentă masterandă la Università di Modena și Reggio Emilia\, Italia) și Eliana Maria Torre (studentă doctorandă la Università di Modena și Reggio Emilia\, Italia) și Peter Guld Leth\, Oskar Bill Zhou (studenți master la Universitatea din Aalborg\, Danemarca)\, – care presupune o nouă interfață cu utilizatorul\, adăugarea unei hărți 3D a orașului\, a unor noi obiective din Timișoara\, inclusiv cu audio și schimbarea completă a modului în care utilizatorul selectează o locație. \n \nAl doilea proiect câștigător a fost Timișoara quest in XR\, un mediu virtual dezvoltat de Silviu Berzescu (student masterand la Universitatea Politehnica Timișoara)\, Maria Tolaini (studentă masterandă la Università di Modena și Reggio Emilia\, Italia)\, Mikkel Sang Mee Baunsgaard (student master la Universitatea din Aalborg\, Danemarca) – unde utilizatorii pot interacționa și afla mai multe informații despre obiecte din patrimoniul Muzeului Național al Banatului. Tot conținutul aplicației este suprapus peste realitate\, utilizatorii pot vedea mediul din jurul lor. Utilizatorul poate să interacționeze cu obiectele din interiorul cutiilor care se află împrăștiate în mediul real. \n \nAplicațiile vor putea fi descărcate și utilizate pe ochelarii de realitate virtuală Oculus Quest 2 și pe oechlarii de realitate mixtă Microsoft Hololens 2. \nResursele Spotlight Heritage Timișoara utilizate de studenți în dezvoltarea aplicațiilor sunt disponibile în limba română și engleză pe site-ul https://spotlight-timisoara.eu/ și în aplicațiile mobile pentru Android și iOS pe care le puteți găsi în magazinele de aplicații cu denumirea „Spotlight Timișoara”. \nProiectele au fost evaluate de un juriu format din Dr. Diana Andone și Dr. Silviu Vert\, Universitatea Politehnica Timișoara\, și Marius Cornea\, Muzeul Național al Banatului\, fiind acordate premii ce au totalizat 5000 de euro. De asemenea\, câștigătorii vor fi nominalizați la Premiile EU Medeea 2023\, secțiunea pentru studenți\, dar și la Interactive Digital Media Student Contest 2023.
URL:https://spotlight-timisoara.eu/en/eveniment/ishsc-2022-si-a-prezentat-castigatorii-tururi-vr-interactive-si-aplicatii-mr-dezvoltate-de-studenti-internationali/
CATEGORIES:ISHSC,News
ATTACH;FMTTYPE=image/png:https://spotlight-timisoara.eu/wp-content/uploads/2022/11/Image-Pasted-at-2023-3-16-14-07.png
END:VEVENT
END:VCALENDAR