BEGIN:VCALENDAR
VERSION:2.0
PRODID:-//Patrimoniul sub reflectoare Timisoara Spotlight Heritage Timisoara - ECPv6.15.19//NONSGML v1.0//EN
CALSCALE:GREGORIAN
METHOD:PUBLISH
X-WR-CALNAME:Patrimoniul sub reflectoare Timisoara Spotlight Heritage Timisoara
X-ORIGINAL-URL:https://spotlight-timisoara.eu/en
X-WR-CALDESC:Events for Patrimoniul sub reflectoare Timisoara Spotlight Heritage Timisoara
REFRESH-INTERVAL;VALUE=DURATION:PT1H
X-Robots-Tag:noindex
X-PUBLISHED-TTL:PT1H
BEGIN:VTIMEZONE
TZID:Europe/Bucharest
BEGIN:DAYLIGHT
TZOFFSETFROM:+0200
TZOFFSETTO:+0300
TZNAME:EEST
DTSTART:20220327T010000
END:DAYLIGHT
BEGIN:STANDARD
TZOFFSETFROM:+0300
TZOFFSETTO:+0200
TZNAME:EET
DTSTART:20221030T010000
END:STANDARD
BEGIN:DAYLIGHT
TZOFFSETFROM:+0200
TZOFFSETTO:+0300
TZNAME:EEST
DTSTART:20230326T010000
END:DAYLIGHT
BEGIN:STANDARD
TZOFFSETFROM:+0300
TZOFFSETTO:+0200
TZNAME:EET
DTSTART:20231029T010000
END:STANDARD
BEGIN:DAYLIGHT
TZOFFSETFROM:+0200
TZOFFSETTO:+0300
TZNAME:EEST
DTSTART:20240331T010000
END:DAYLIGHT
BEGIN:STANDARD
TZOFFSETFROM:+0300
TZOFFSETTO:+0200
TZNAME:EET
DTSTART:20241027T010000
END:STANDARD
END:VTIMEZONE
BEGIN:VEVENT
DTSTART;TZID=Europe/Bucharest:20230504T000000
DTEND;TZID=Europe/Bucharest:20230930T235959
DTSTAMP:20260421T002421
CREATED:20240218T115512Z
LAST-MODIFIED:20240218T120905Z
UID:34317-1683158400-1696118399@spotlight-timisoara.eu
SUMMARY:Experiența tururilor ghidate 2023
DESCRIPTION:Prin aceste tururi ghidate s-au împărtășit istoriile celor 5 cartiere ale orașului: Iosefin\, Elisabetin\, Fabric\, Cetate\, Calea Girocului\, folosind aplicațiile de realitate virtuală și augmentată create de Universitatea Politehnica Timișoara. Publicul a fost format din copii de grădiniță\, elevi și studenți de la Liceul William Shakespeare\, Liceul Nikolaus Lenau\, Clubul Rotary Internațional\, școli primare\, gimnaziale și licee din județele Timiș\, Arad și Cluj\, Universitatea de Vest Timișoara\, Clubul Impact Shakespeare\, beneficiarii Centrului de integrare/reintegrare socială pentru persoanele aflate în dificultate al Consiliului Local Timișoara (seniori cu boli degenerative\, alături de  tineri cu dizabilități de intelect) și beneficiarii Fundației Pentru Voi (adulți cu dizabilități de intelect). \n\n\n\nS-au realizat activități de mediere culturală pentru un public cu sau fără dizabilități (copii de grădiniță\, elevi de vârstă școlară mică\, adolescenți\, adulți și seniori)\, inclusiv în fiecare duminică din lunile august – septembrie.  \n\n\n\nMAI \n\n\n\n1. 13 mai\, sâmbătă\, Noaptea Muzeelor\,  elevii din Clubul IMPACT Shakespeare Timișoara\,  17 elevi și 2 profesoare2. 17 mai\, Arad\, școală gimnazială Virgil Iovanaș din Sofronea\, clasele VII-VIII\, 20 elevi și un profesor3. 20 mai\, primul tur pentru conferinta internațională de Istorie medievală\, 28 persoane4. 20 mai\, al doilea tur pentru conferința internațională de Istorie medievală\, 31 persoane5. 24 mai\, tur pentru invitații Conferinței internaționale organizate de Universitatea Politehnica Timișoara\, 3 persoane6. 24 mai\, tur pentru angajații Consiliului Județean Timiș\, 6 persoane7. 25 mai\, 30 seniori și adulți cu dizabilități intelectuale\, Centrul de zi de integrare/reintegrare socială pentru persoane aflate în dificultate din cadrul Direcției de Asistență Socială a Municipiului Timișoara\, strada Ioan Plavoșin nr. 218.26 mai\, sâmbătă\, tur pentru invitații Conferinței internaționale organizate de Universitatea Politehnica Timișoara9.26 mai\, tur pentru angajații Consiliului Județean Timiș\, 7 persoane10. 30 mai\, primul tur\, grădiniță din Lugoj\, 20 copii11. 30 mai\, al doilea tur\, grădiniță din Lugoj\, 20 copii \n\n\n\nIUNIE12. 7 iunie\, tur ghidat pentru 11studenți\, anul II\, Facultatea de Istorie13. 8 iunie\, delegație italiană\, 9 profesori\, conduși de prof. dr. Carmen Holotescu14. 13 iunie\, delegație străină\, 3 persoane\, conduși de Oana Romocea15. 27 iunie\, atelier de povești pentru 24 persoane \n\n\n\nIULIE16. 21 iulie\, grup de 15 elevi\, clasele I-VI\, școală de vară ExamPlus din Timișoara17. 24 iulie\, Școala de Vară  UVT\, primul tur pentru 26 studenți străini18. 24 iulie\, Școala de Vară UVT\, al doilea tur pentru 24 studenți străini19. 28 iulie\, Ziua Județului\, primul tur la ora 12 pentru 7 persoane20. 28 iulie\, Ziua Judetului\, al doilea tur la ora 14 pentru 10 persoane21. 29 iulie\, sâmbătă\, invitații Consiliului Județean Timiș din R. Moldova și Germania\, 15 persoane \n\n\n\nAUGUST22. 2 august\, 30 elevi invitați de Primăria  Municipiului Timișoara de Ziua orașului23. 3 august\, grup de 50 turiști adulți din jud. Ialomița24. 6 august\, duminică\, 12 persoane din România și Germania25. 10 august\, joi\, grup de 18 elevi din clasele I-IV\, Timișoara26. 13 august\, duminică\,  21 persoane din România și Germania27. 17 august\, joi\, grup de 12 persoane28. Duminica\, 20 august\,  grup de 17 persoane29. Miercuri\, 23 august\, grup de 5 persoane\, 1 cronicar cu dizabilități de auz30. Joi\, 24 august\, 2 persoane din Botoșani și Tulcea31. Duminică\,  27 august\, 15 persoane32. Joi\, 31 august\, 2 persoane din New York \n\n\n\nSEPTEMBRIE33.  Vineri\, 1 septembrie\, tur ghidat pentru 40 liceeni și studenți din județul Cluj34. Sâmbătă\,  2 septembrie\, ghidaj pentru 31 persoane din Serbia\, Ungaria\, Germania și România\, invitații Primăriei orașului Sânnicolau Mare35. Luni\, 4 septembrie\, tur ghidat pentru Clubul Rotary Timișoara\,  15 persoane36. Joi\, 7 septembrie\, tur ghidat pentru 2 persoane37. Duminică\, 10 septembrie\,  tur ghidat pentru 4 muzeografi arheologi din Târgu-Mureș38. Duminică\, 17 septembrie\, 4 tururi ghidate pentru 8 persoane39. Duminică\,  24 septembrie\,  tur ghidat pentru doamna Sorina Jecza și 30 de invitați \n\n\n\n40. Marți\, 26 septembrie – tur video în expoziție înregistrat de Rafael Leucuța41. Miercuri\, 27 septembrie\, tur ghidat pentru Liceul Teologic Romano-Catolic Gerhardinum din Timișoara\, 24 elevi din clasa a II-a42. Joi\, 28 septembrie\,  tur ghidat pentru 6 adulți cu dizabilități de la Fundatia Pentru Voi43. Vineri\, 29 septembrie\, ora 18\, primul tur ghidat pentru 10 persoane\, Noaptea Cercetătorilor (tur video înregistrat de Rafael Leucuța)44. Vineri\, 29 septembrie\,  ora 21\, al doilea tur ghidat pentru 13 persoane\, Noaptea CercetătorilorOCTOMBRIE45. Duminică\,  1 octombrie\, tur ghidat pentru 25 persoane (tur video înregistrat de Rafael Leucuța)
URL:https://spotlight-timisoara.eu/en/eveniment/experienta-tururilor-ghidate-2023/
LOCATION:Bastionul Maria Theresia\, str. Martin Luther nr. 4\, Timișoara\, Timis\, România
CATEGORIES:News
ATTACH;FMTTYPE=image/jpeg:https://spotlight-timisoara.eu/wp-content/uploads/2023/10/WhatsApp-Image-2023-09-01-at-14.28.26-1-1.jpeg
END:VEVENT
BEGIN:VEVENT
DTSTART;TZID=Europe/Bucharest:20230512T000000
DTEND;TZID=Europe/Bucharest:20231001T235959
DTSTAMP:20260421T002421
CREATED:20230429T170410Z
LAST-MODIFIED:20240220T100310Z
UID:31486-1683849600-1696204799@spotlight-timisoara.eu
SUMMARY:Expoziția ”Patrimoniul sub reflectoare Timișoara – Lumi paralele”
DESCRIPTION:Expoziția ”Patrimoniul sub reflectoare Timișoara – Lumi paralele” \n\n\n\n12 mai – 1 octombrie 2023 \n\n\n\nMuzeul Național al Banatului\, Bastion Maria Theresia\, mansarda B2\, Timișoara  \n\n\n\nÎn anul 2023 expoziția ”Patrimoniul sub reflectoare Timișoara – Lumi paralele”\, organizată în Mansarda B2 a Bastionului Maria Theresia\, parte a proiectului Patrimoniul sub reflectoare / Spotlight Heritage Timișoara\, din Programul cultural național Timișoara – Capitală Europeană a Culturii în anul 2023 este organizată de Muzeului Național al Banatului\, în parteneriat cu Universitatea Politehnica Timișoara\, prin Centrul de ID/IFR și e-Learning și Centrul Multimedia. Expoziția propune publicului o incursiune în istoria cartierelor printr-o cheie barocă: alegoria simțurilor\, \, reunind intr-o singură expoziție\, toate expozițiile anterioare  cu secvențe din viața cotidiană din Iosefin (2019)\, Elisabetin (2020)\, Fabric (2021)\, Cetate (2022) și Giroc (2023)\, un cartier-dormitor din perioada comunistă.  \n\n\n\nÎn mansarda bastionului Theresia vor fi expuse bunuri culturale de patrimoniu din colecțiile Muzeului Național al Banatului\, care ilustrează viața economică\, socială și culturală a celor 5 cartiere din Timișoara\, alături de diverse surse de memorie: fragmente de interviuri și texte literare (roman\, jurnal\, memorii). Expoziția cuprinde o selecție importantă de cărți poștale\, fotografii\, sigilii\, diplome de breaslă\, care depun mărturie despre secvențe din istoria celor 5 cartiere ale Timișoarei și diversele comunități cultural-lingvistice. \n\n\n\nVizitatorii vor rămâne cu bucuria de a fi explorat spații urbane prin prisma unor personalități marcante ale orașului. Voi avea ocazia de a explora istoria acestor cartiere prin simțuri:  \n\n\n\n\nvăzul și lumea Valeriei Pintea din cartierul Iosefin\, prin romanul Lianei Maria Gomboșiu; \n\n\n\ntactilul și lumea ascunsă într-un cufăr a lui Netti Diel din cartierul Elisabetin\, prin intermediul jurnalului de familie al Piei Brînzeu; \n\n\n\nauzul și lumile în destine din cartierul Fabric\, aflate în arhiva Grupului de Istorie Orală și Antropologie Culturală\, înființat și coordonat de doamna Smaranda Vultur; \n\n\n\nolfactivul și lumea din oglinda cartierului Cetate\, din perspectiva poeziilor scrise de Robert Șerban și a textelor selectate de Smaranda Vultur și Roxana Rogobete; \n\n\n\ngustativul și lumile paralele din cartierul Giroc\, suprinse în jurnalul Sorinei Jecza\, impresii vizuale și informații din Revoluția din ‘89.\n\n\n\n\nViața cartierului Giroc din Timișoara este ilustrată complex într-o metaforă a oglindirii lumii reale prin arta contemporană\, a unui jurnal de familie realizate de dr. Sorina Jecza Ianovici și introspecție asupra industrializării comuniste și Revoluției din 1989 prin selecții furnizate de Muzeul Revoluției din 1989\, imagini realizate de Constantin Duma. Simțul Gustativ va fi prezent prin experimente chimice de reproducere a gustului\, de transpunere în lumea materială a gustului cafelei\, ciocolatei și vinului\, gusturile alese pentru anul 2023.   \n\n\n\nVizitatorii vor putea participa imersiv prin diverse instalații care utilizează  tehnologii de realitate augmentată\, virtuală\, mobilă la descoperirea poveștilor din spatele exponatelor sau a diverselor locații din Timișoara\, vor putea interacționa cu instalațiile imersive vizuale și auditive.  \n\n\n\nFragmentele de interviuri și texte literare (roman\, jurnal\, memorii) sunt folosite de cadrele didactice și studenții Universității Politehnica Timișoara pentru dezvoltarea unei aplicații web și a 2 aplicații mobile (Android și iOS)\, pe baza unei structuri ierarhice\, dar și de mapare geografică\, și punerea lor la dispoziție prin intermediul unor mese interactive multimedia\, a ochelarilor de realitate virtuală\, a telefoanelor și tabletelor mobile și a display-urilor acre vor permite explorarea picturilor în realitate augmentată. Aplicațiile digitale vor permite utilizatorilor să lase comentarii și să adauge propriile povești personale. Fragmentele de interviuri și texte literare (roman\, jurnal\, memorii)  vor fi folosite și în aplicațiile de realitate augmentată și virtuală. Toate materialele create sunt sub licență liberă\, reutilizabilă\, parțial unele vor fi integrate în Biblioteca digitală Europeana\, cel mai mare portal de arhivare a memoriei culturale din Europa.  \n\n\n\nExpoziția muzeală poate fi urmărită atât în format fizic\, dar informațiile sunt și în format digital\, evenimentele vor fi transmise online și se vor organiza tururi virtuale.  \n\n\n\n\n\n\n\nSpotlight Heritage Timișoara/Patrimoniul sub reflectoare este o inițiativă culturală digitală a Universității Politehnica Timișoara realizată în parteneriat cu Muzeul Național al Banatului\, parte a Programului Cultural Timișoara 2023 Capitală Europeană a Culturii. Proiect cultural co-finanțat de Municipiul Timișoara prin Centrul de Proiecte\, Consiliul Județean Timiș\, Ministerul Culturii\, EEA and Norway Grants. \n\n\n\n\n\n\n\n\n\n\n\n\n\n\n\nComponentele digitale ale proiectului sunt accesibile online la adresa https://spotlight-timisoara.eu/ și prin aplicațiile mobile care pot fi descărcate din magazinele Android și Apple sau căutând „Spotlight Heritage Timișoara”. \n\n\n\n\nLink aplicații pentru utilizatorii Android: https://is.gd/SjiIgv   \n\n\n\nLink aplicații pentru utilizatorii iOS: https://is.gd/y6JxeV   \n\n\n\n\nInformații despre eveniment sunt disponibile și pe: \n\n\n\n\nPagina web: https://spotlight-timisoara.eu/ \n\n\n\nFacebook: https://www.facebook.com/SpotlightHeritageTimisoara/ \n\n\n\nTwitter: @spotlight_TM21 \n\n\n\nInstagram: @spotlight_tm
URL:https://spotlight-timisoara.eu/en/eveniment/expozitia-patrimoniul-sub-reflectoare-timisoara-lumi-paralele/
LOCATION:Bastionul Maria Theresia\, str. Martin Luther nr. 4\, Timișoara\, Timis\, România
CATEGORIES:Event
ATTACH;FMTTYPE=image/png:https://spotlight-timisoara.eu/wp-content/uploads/2023/04/SH_Event-cover-site_Vernisaj_12-Mai-2023.png
ORGANIZER;CN="Spotlight Heritage Timisoara":MAILTO:contact@spotlight-timisoara.eu
END:VEVENT
BEGIN:VEVENT
DTSTART;TZID=Europe/Bucharest:20230918T100000
DTEND;TZID=Europe/Bucharest:20230920T170000
DTSTAMP:20260421T002421
CREATED:20230915T134255Z
LAST-MODIFIED:20240220T083339Z
UID:32614-1695031200-1695229200@spotlight-timisoara.eu
SUMMARY:Festivalul Internațional de Cultură și Patrimoniu Digital Spotlight Heritage Timișoara cu demonstrații XR la St. Pölten
DESCRIPTION:Cu ocazia Timișoara 2023 Capitală Europeană a Culturii\, Fachhochschule St. Pölten în parteneriat cu Universitatea Politehnica din Timișoara\, Asociația Timișoara 2023 Capitală Europeană a Culturii și Muzeul Național al Banatului\, și în cadrul alianței universitare europene E3UDRES2 vă invită să aflați ultimele noutăți despre cel mai important program cultural al anului 2023 în România\, în cadrul evenimentului „Spotlight Heritage Timișoara – Festivalul Internațional de Cultură și Patrimoniu Digital – Demonstrații XR”\, în perioada 18 – 20 septembrie 2023\, între orele 10:00 – 17:00\, în sala mare a Fachhochschule St. Pölten\, Campus-Platz 1\, St. Pölten\, Austria. \n\n\n\nÎn cadrul festivalului va fi prezentată o instalație interactivă\, vizibilă prin ochelari de realitate virtuală și mixtă\, un concept al Universității Politehnica din Timișoara. \n\n\n\nÎn cadrul demonstrațiilor XR\, participanții vor avea ocazia să interacționeze cu o lume real-virtuală complexă\, prin utilizarea tehnologiilor digitale de ultimă generație\, care prezintă reperele Timișoarei și să se plimbe virtual pe străzile orașului\, să viziteze și să învețe despre cele mai cunoscute monumente fără a părăsi Austria. \n\n\n\nDemonstrațiile și instalațiile interactive XR combină ilustrații și povești documentate\, prezentate într-o structură multiplicată care suprapune vizualurile tipărite cu spațiile interactive prin intermediul ecranelor tactile\, aplicațiilor mobile\, realității virtuale (VR)\, realității augmentate (AR) și aplicațiilor mixte (XR). \n\n\n\nÎn aplicația de realitate virtuală Spotlight Heritage Timișoara\, veți putea face un „scurt tur” prin istoria cartierelor vechi ale Timișoarei și a patru cartiere emblematice ale Timișoarei – Iosefin\, Elisabetin\, Fabric și Cetate\, și veți putea asculta povești despre istoria multiculturală și multietnică a orașului cu ajutorul tehnologiilor de realitate virtuală. Pornind de la o perspectivă panoramică și spectaculoasă a orașului\, participanții vor putea să se „teleporteze” pe străzi\, în parcuri sau în piețe publice\, vizitând repere emblematice\, așa cum ar face-o în viața reală. Profitând de interacțiunile oferite de tehnologia VR\, de imaginile 360 de înaltă calitate\, de videoclipurile 3D și de scanările\, fotografiile și videoclipurile 3D\, veți afla date istorice și arhitecturale și amintiri personale din trecut și prezent\, documentate în Spotlight Heritage Timișoara. Aplicația este bilingvă\, în limbile română și engleză. \n\n\n\nAplicația Spotlight Heritage Timișoara Mixed Reality oferă posibilitatea de a testa tehnologiile de realitate augmentată și mixtă. Cu ajutorul unor ochelari holografici speciali\, participanții vor interacționa atât cu obiectele fizice din jurul lor\, cât și vor putea manipula în timp real obiecte virtuale de patrimoniu obținute prin scanări 3D ale celor reale din colecția Muzeului Național al Banatului. Găsind informații despre obiectele de patrimoniu\, veți putea crea propria expoziție muzeală personală în realitate mixtă. \n\n\n\nAplicațiile sunt un concept al Universității Politehnica din Timișoara și au fost dezvoltate în comun de cadre didactice și studenți de la Universitatea Politehnica din Timișoara\, România\, Universita Modena e Reggio Emilia\, Italia\, și Universitatea Aalborg\, Danemarca: https://spotlight-timisoara.eu/mobil-ar-vr/.  \n\n\n\nParticipanții vor interacționa activ cu Patterns of Poetry a artistului new media din Timișoara\, 13m10j (Marius Jurca)\, o instalație grafică\, un software personalizat pentru a descoperi Timișoara prin poezie și culoare\, bazat pe cele 9 poezii create de scriitorul Robert Șerban\, sub titlul „Poezii despre domnișoara Timișoara”\, pentru proiectul Spotlight Heritage Timișoara. \n\n\n\nSpotlight Heritage Timișoara este o inițiativă culturală digitală a Universității Politehnica din Timișoara\, România\, în parteneriat cu Muzeul Național al Banatului\, care suprapune patrimoniul în format digital și fizic. Spotlight Heritage Timișoara sporește interesul publicului larg pentru cartierele istorice ale Timișoarei\, marginale și neglijate\, folosind tururi ghidate și povești digitale pentru a da posibilitatea localnicilor și turiștilor să vadă\, să audă\, să simtă\, să acționeze\, să co-creeze și să interiorizeze orașul.  Este\, de asemenea\, un model de patrimoniu cultural digital de tip crowdsourcing participativ de povestire a orașului\, pentru a le permite cetățenilor și turiștilor să își transforme apetitul tehnologic în cultură. Proiectul îmbină amintirile personale\, din trecut și prezent\, cu datele istorice și arhitecturale\, prin suprapunerea digitală a patrimoniului imaterial din cărți\, amintiri\, povești orale și artă\, în timp ce cinci femei ne ghidează proiectul în fiecare an. Itinerariile digitale și fizice ale cartierelor Iosefin (2019)\, Elisabetin (2020)\, Fabric (2021)\, Cetate (2022)\, toate anterioare și Giroc (2023) își divulgă poveștile prin straturi multiple: o expoziție muzeală\, o expoziție de stradă\, un site online\, aplicații mobile\, o aplicație de realitate augmentată\, o aplicație de realitate virtuală (istorie & patrimoniu)\, o aplicație holografică de realitate mixtă\, realitate mixtă cu artefacte de patrimoniu 3D\, aplicația SH Culture App – realitate augmentată pentru patrimoniu & aplicații de realitate virtuală cu vederi panoramice ale Timișoarei\, aplicațiile NFT-urilor culturale SH\, Concursul Internațional Spotlight Heritage Student Contest\, Festivalul & Talks International Digital Culture & Spotlight Heritage\, happening-uri de teatru & dans și instalații digitale\, tururi mediate și virtuale\, un catalog final. \n\n\n\nVezi mai multe despre eveniment aici! \n\n\n\n\n\n\n\n \n\n\n\n\n\n\n\n\n\nAflați mai multe despre evenimentul Spotlight Heritage Timișoara și aplicații: \n\n\n\n\nWebsite: https://spotlight-timisoara.eu/\n\n\n\nFacebook: https://www.facebook.com/SpotlightHeritageTimisoara/  \n\n\n\nTwitter: @spotlight_TM21\n\n\n\nInstagram: @spotlight_tm\n\n\n\n\nComponentele digitale ale proiectului sunt accesibile online la https://spotlight-timisoara.eu/ și prin intermediul aplicațiilor mobile care pot fi descărcate din magazinele Android și Apple sau căutând „Spotlight Heritage Timișoara”. \n\n\n\n\nLinkul aplicației pentru utilizatorii de Android: https://is.gd/SjiIgv  \n\n\n\nLinkul aplicației pentru utilizatorii iOS: https://is.gd/y6JxeV  \n\n\n\n\nPatrimoniul sub reflectoare / Spotlight Heritage Timișoara este o inițiativă culturală digitală a Universității Politehnica Timișoara în parteneriat cu Muzeul Național al Banatului\, parte a Programului Cultural Timișoara 2023 Capitală Europeană a Culturii. Proiect cultural cofinanțat de Centrul de Proiecte al Municipiului Timișoara\, Consiliul Județean Timiș\, Ministerul Culturii\, România\, EEA și Norway Grants. În Austria\, proiectul este prezentat la inițiativa Fachhochschule St. Pölten și a alianței universitare europene E3UDRES2. \n\n\n\nEvenimentul face parte din inițiativa digitală culturală Spotlight Heritage Timișoara\, parte a Programului Cultural Timișoara 2023 Capitală Europeană a Culturii și este co-finanțat de fondurile EEA și Norway Grants.
URL:https://spotlight-timisoara.eu/en/eveniment/festivalul-international-de-cultura-si-patrimoniu-digital-spotlight-heritage-timisoara-cu-demonstratii-xr-st-polten/
LOCATION:Fachhochschule St. Pölten\, Fachhochschule St. Pölten\, Campus-Platz 1\, St. Pölten\, Austria\, St. Pölten\, Austria
CATEGORIES:News,XR Festival
ATTACH;FMTTYPE=image/jpeg:https://spotlight-timisoara.eu/wp-content/uploads/2023/09/SH_Austria_2023_Event-Cover_EN.jpg
ORGANIZER;CN="Spotlight Heritage Timisoara":MAILTO:contact@spotlight-timisoara.eu
END:VEVENT
BEGIN:VEVENT
DTSTART;TZID=Europe/Bucharest:20230918T100000
DTEND;TZID=Europe/Bucharest:20230920T180000
DTSTAMP:20260421T002421
CREATED:20230929T091633Z
LAST-MODIFIED:20240220T083338Z
UID:32645-1695031200-1695232800@spotlight-timisoara.eu
SUMMARY:Festivalul Internațional de Cultură și Patrimoniu Digital Spotlight Heritage Timișoara cu demonstrații XR la St. Pölten
DESCRIPTION:Cu ocazia Timișoara 2023 Capitală Europeană a Culturii\, Fachhochschule St. Pölten în parteneriat cu Universitatea Politehnica din Timișoara\, Asociația Timișoara 2023 Capitală Europeană a Culturii și Muzeul Național al Banatului\, și în cadrul alianței universitare europene E3UDRES2 vă invită să aflați ultimele noutăți despre cel mai important program cultural al anului 2023 în România\, în cadrul evenimentului „Spotlight Heritage Timișoara – Festivalul Internațional de Cultură și Patrimoniu Digital – Demonstrații XR”\, în perioada 18 – 20 septembrie 2023\, între orele 10:00 – 17:00\, în sala mare a Fachhochschule St. Pölten\, Campus-Platz 1\, St. Pölten\, Austria. \n\n\n\nÎn cadrul festivalului va fi prezentată o instalație interactivă\, vizibilă prin ochelari de realitate virtuală și mixtă\, un concept al Universității Politehnica din Timișoara. \n\n\n\nÎn cadrul demonstrațiilor XR\, participanții vor avea ocazia să interacționeze cu o lume real-virtuală complexă\, prin utilizarea tehnologiilor digitale de ultimă generație\, care prezintă reperele Timișoarei și să se plimbe virtual pe străzile orașului\, să viziteze și să învețe despre cele mai cunoscute monumente fără a părăsi Austria. \n\n\n\nDemonstrațiile și instalațiile interactive XR combină ilustrații și povești documentate\, prezentate într-o structură multiplicată care suprapune vizualurile tipărite cu spațiile interactive prin intermediul ecranelor tactile\, aplicațiilor mobile\, realității virtuale (VR)\, realității augmentate (AR) și aplicațiilor mixte (XR). \n\n\n\nÎn aplicația de realitate virtuală Spotlight Heritage Timișoara\, veți putea face un „scurt tur” prin istoria cartierelor vechi ale Timișoarei și a patru cartiere emblematice ale Timișoarei – Iosefin\, Elisabetin\, Fabric și Cetate\, și veți putea asculta povești despre istoria multiculturală și multietnică a orașului cu ajutorul tehnologiilor de realitate virtuală. Pornind de la o perspectivă panoramică și spectaculoasă a orașului\, participanții vor putea să se „teleporteze” pe străzi\, în parcuri sau în piețe publice\, vizitând repere emblematice\, așa cum ar face-o în viața reală. Profitând de interacțiunile oferite de tehnologia VR\, de imaginile 360 de înaltă calitate\, de videoclipurile 3D și de scanările\, fotografiile și videoclipurile 3D\, veți afla date istorice și arhitecturale și amintiri personale din trecut și prezent\, documentate în Spotlight Heritage Timișoara. Aplicația este bilingvă\, în limbile română și engleză. \n\n\n\nAplicația Spotlight Heritage Timișoara Mixed Reality oferă posibilitatea de a testa tehnologiile de realitate augmentată și mixtă. Cu ajutorul unor ochelari holografici speciali\, participanții vor interacționa atât cu obiectele fizice din jurul lor\, cât și vor putea manipula în timp real obiecte virtuale de patrimoniu obținute prin scanări 3D ale celor reale din colecția Muzeului Național al Banatului. Găsind informații despre obiectele de patrimoniu\, veți putea crea propria expoziție muzeală personală în realitate mixtă. \n\n\n\nAplicațiile sunt un concept al Universității Politehnica din Timișoara și au fost dezvoltate în comun de cadre didactice și studenți de la Universitatea Politehnica din Timișoara\, România\, Universita Modena e Reggio Emilia\, Italia\, și Universitatea Aalborg\, Danemarca: https://spotlight-timisoara.eu/mobil-ar-vr/.  \n\n\n\nParticipanții vor interacționa activ cu Patterns of Poetry a artistului new media din Timișoara\, 13m10j (Marius Jurca)\, o instalație grafică\, un software personalizat pentru a descoperi Timișoara prin poezie și culoare\, bazat pe cele 9 poezii create de scriitorul Robert Șerban\, sub titlul „Poezii despre domnișoara Timișoara”\, pentru proiectul Spotlight Heritage Timișoara. \n\n\n\nSpotlight Heritage Timișoara este o inițiativă culturală digitală a Universității Politehnica din Timișoara\, România\, în parteneriat cu Muzeul Național al Banatului\, care suprapune patrimoniul în format digital și fizic. Spotlight Heritage Timișoara sporește interesul publicului larg pentru cartierele istorice ale Timișoarei\, marginale și neglijate\, folosind tururi ghidate și povești digitale pentru a da posibilitatea localnicilor și turiștilor să vadă\, să audă\, să simtă\, să acționeze\, să co-creeze și să interiorizeze orașul.  Este\, de asemenea\, un model de patrimoniu cultural digital de tip crowdsourcing participativ de povestire a orașului\, pentru a le permite cetățenilor și turiștilor să își transforme apetitul tehnologic în cultură. Proiectul îmbină amintirile personale\, din trecut și prezent\, cu datele istorice și arhitecturale\, prin suprapunerea digitală a patrimoniului imaterial din cărți\, amintiri\, povești orale și artă\, în timp ce cinci femei ne ghidează proiectul în fiecare an.  \n\n\n\nItinerariile digitale și fizice ale cartierelor Iosefin (2019)\, Elisabetin (2020)\, Fabric (2021)\, Cetate (2022)\, toate anterioare și Giroc (2023) își divulgă poveștile prin straturi multiple: o expoziție muzeală\, o expoziție de stradă\, un site online\, aplicații mobile\, o aplicație de realitate augmentată\, o aplicație de realitate virtuală (istorie & patrimoniu)\, o aplicație holografică de realitate mixtă\, realitate mixtă cu artefacte de patrimoniu 3D\, aplicația SH Culture App – realitate augmentată pentru patrimoniu & aplicații de realitate virtuală cu vederi panoramice ale Timișoarei\, aplicațiile NFT-urilor culturale SH\, Concursul Internațional Spotlight Heritage Student Contest\, Festivalul & Talks International Digital Culture & Spotlight Heritage\, happening-uri de teatru & dans și instalații digitale\, tururi mediate și virtuale\, un catalog final. \n\n\n\nVezi mai multe despre eveniment aici! \n\n\n\n\n\n\n\n \n\n\n\n\n\n\n\n\n\nAflați mai multe despre evenimentul Spotlight Heritage Timișoara și aplicații: \n\n\n\n\nWebsite: https://spotlight-timisoara.eu/\n\n\n\nFacebook: https://www.facebook.com/SpotlightHeritageTimisoara/  \n\n\n\nTwitter: @spotlight_TM21\n\n\n\nInstagram: @spotlight_tm\n\n\n\n\nComponentele digitale ale proiectului sunt accesibile online la https://spotlight-timisoara.eu/ și prin intermediul aplicațiilor mobile care pot fi descărcate din magazinele Android și Apple sau căutând „Spotlight Heritage Timișoara”. \n\n\n\n\nLinkul aplicației pentru utilizatorii de Android: https://is.gd/SjiIgv  \n\n\n\nLinkul aplicației pentru utilizatorii iOS: https://is.gd/y6JxeV  \n\n\n\n\nPatrimoniul sub reflectoare / Spotlight Heritage Timișoara este o inițiativă culturală digitală a Universității Politehnica Timișoara în parteneriat cu Muzeul Național al Banatului\, parte a Programului Cultural Timișoara 2023 Capitală Europeană a Culturii. Proiect cultural cofinanțat de Centrul de Proiecte al Municipiului Timișoara\, Consiliul Județean Timiș\, Ministerul Culturii\, România\, EEA și Norway Grants. În Austria\, proiectul este prezentat la inițiativa Fachhochschule St. Pölten și a alianței universitare europene E3UDRES2. \n\n\n\n \n\n\n\nEvenimentul face parte din inițiativa digitală culturală Spotlight Heritage Timișoara\, parte a Programului Cultural Timișoara 2023 Capitală Europeană a Culturii și este co-finanțat de fondurile EEA și Norway Grants.
URL:https://spotlight-timisoara.eu/en/eveniment/festivalul-international-de-cultura-si-patrimoniu-digital-spotlight-heritage-timisoara-cu-demonstratii-xr-la-st-polten-2/
CATEGORIES:Event,XR Festival
ATTACH;FMTTYPE=image/jpeg:https://spotlight-timisoara.eu/wp-content/uploads/2023/09/SH_Austria_2023_Event-Cover_EN.jpg
ORGANIZER;CN="Spotlight Heritage Timisoara":MAILTO:contact@spotlight-timisoara.eu
END:VEVENT
END:VCALENDAR