BEGIN:VCALENDAR
VERSION:2.0
PRODID:-//Patrimoniul sub reflectoare Timisoara Spotlight Heritage Timisoara - ECPv6.15.19//NONSGML v1.0//EN
CALSCALE:GREGORIAN
METHOD:PUBLISH
X-ORIGINAL-URL:https://spotlight-timisoara.eu/en
X-WR-CALDESC:Events for Patrimoniul sub reflectoare Timisoara Spotlight Heritage Timisoara
REFRESH-INTERVAL;VALUE=DURATION:PT1H
X-Robots-Tag:noindex
X-PUBLISHED-TTL:PT1H
BEGIN:VTIMEZONE
TZID:Europe/Bucharest
BEGIN:DAYLIGHT
TZOFFSETFROM:+0200
TZOFFSETTO:+0300
TZNAME:EEST
DTSTART:20220327T010000
END:DAYLIGHT
BEGIN:STANDARD
TZOFFSETFROM:+0300
TZOFFSETTO:+0200
TZNAME:EET
DTSTART:20221030T010000
END:STANDARD
BEGIN:DAYLIGHT
TZOFFSETFROM:+0200
TZOFFSETTO:+0300
TZNAME:EEST
DTSTART:20230326T010000
END:DAYLIGHT
BEGIN:STANDARD
TZOFFSETFROM:+0300
TZOFFSETTO:+0200
TZNAME:EET
DTSTART:20231029T010000
END:STANDARD
BEGIN:DAYLIGHT
TZOFFSETFROM:+0200
TZOFFSETTO:+0300
TZNAME:EEST
DTSTART:20240331T010000
END:DAYLIGHT
BEGIN:STANDARD
TZOFFSETFROM:+0300
TZOFFSETTO:+0200
TZNAME:EET
DTSTART:20241027T010000
END:STANDARD
END:VTIMEZONE
BEGIN:VEVENT
DTSTART;TZID=Europe/Bucharest:20231002T000000
DTEND;TZID=Europe/Bucharest:20231002T235959
DTSTAMP:20260420T200335
CREATED:20240215T124406Z
LAST-MODIFIED:20240215T124407Z
UID:34233-1696204800-1696291199@spotlight-timisoara.eu
SUMMARY:Finisajul expoziției „Patrimoniul sub reflectoare - Lumi Paralele”
DESCRIPTION:Ieri\, 𝟎𝟏 𝐨𝐜𝐭𝐨𝐦𝐛𝐫𝐢𝐞 𝟐𝟎𝟐𝟑\, am încheiat un alt capitol al poveștii noastre și a orașului și anume finisajul expoziția „𝑷𝒂𝒕𝒓𝒊𝒎𝒐𝒏𝒊𝒖𝒍 𝒔𝒖𝒃 𝒓𝒆𝒇𝒍𝒆𝒄𝒕𝒐𝒂𝒓𝒆 – 𝑳𝒖𝒎𝒊 𝑷𝒂𝒓𝒂𝒍𝒆𝒍𝒆„. Este momentul să ne oprim pentru o clipă și să transmitem mulțumiri întregii echipe Spotlight Heritage\, pentru 6 ani de pasiune\, dedicare și pentru povestea minunată pe care ați creat-o pentru Timișoara și oamenii săi. Ne-am bucurat de peste 4600 de vizitatori de-a lungul perioade în care expoziția a fost deschisă publicului\, cu peste 45 de tururi ghidate gratuite\, oferite la cerere pentru vârstnici\, elevi de liceu\, persoane cu dizabilități și nu numai. \n\n\n\nSpotlight Heritage Timișoara/Patrimoniul sub refelctoare Timișoara este un proiect de suflet\, o călătorie în timp și cultură\, iar echipa noastră a făcut din el o experiență digitală incredibilă. Povestea orașului Timișoara și a oamenilor săi a prins viață în fața ochilor noștri\, datorită pasiunii și efortului neîntrerupt. \n\n\n\n\n\n			\n				\n			\n		\n\n\n\n\nCu sprijinul celor de la Muzeul Național al Banatului\, am reușit să aducem patrimoniul nostru neprețuit în lumea digitală\, oferindu-vă șansa de a-l descoperi și de a-l admira în doar câteva click-uri și pentru acest lucru vă mulțumim! \n\n\n\nMulțumim și pentru sprijinul oferit de către Universitatea Politehnica Timisoara\, care este un partener de neprețuit\, iar susținerea sa ne-a dat aripi în toate momentele acestui proiect. \n\n\n\nNu în ultimul rând\, le mulțumim tuturor partenerilor noștri care ne-au însoțit pe parcursul acestei frumoase călătorii – Asociația Timișoara 2023 – Capitală Europeană a Culturii\, Centrul de Proiecte din Timișoara\, CJT\, Ministerul Culturii și tuturor celor care au fost alături de noi în fiecare etapă. \n\n\n\nEchipa Spotlight Heritage vă mulțumește cu inimile pline de recunoștință și emoție. Suntem bucuroși că am putut împărtăși această călătorie cu voi\, iar amintirile noastre vor rămâne mereu vii în tot ceea ce vom continua să facem de-a lungul proiectului nostru. \n\n\n\n\n\n\n\n\n\n\n\n			\n				\n			\n		\n\n\n\n\n			\n				\n			\n		\n\n\n\n\n			\n				\n			\n		\n\n\n\n\n			\n				\n			\n		\n\n\n\n\n			\n				\n			\n		\n\n\n\n\n			\n				\n			\n		\n\n\n\n\n			\n				\n			\n		\n\n\n\n\n			\n				\n			\n		\n\n\n\n\n			\n				\n			\n		\n\n\n\n\n			\n				\n			\n		\n\n\n\n\n			\n				\n			\n		\n\n\n\n\n			\n				\n			\n		\n\n\n\n\n			\n				\n			\n		\n\n\n\n\n			\n				\n			\n		\n\n\n\n\n			\n				\n			\n		\n\n\n\n\n			\n				\n			\n		\n\n\n\n\n			\n				\n			\n		\n\n\n\n\n			\n				\n			\n		\n\n\n\n\n			\n				\n			\n		\n\n\n\n\n			\n				\n			\n		\n\n\n\n\n			\n				\n			\n		\n\n\n\n\n			\n				\n			\n		\n\n\n\n\n			\n				\n			\n		\n\n\n\n\n			\n				\n			\n		\n\n\n\n\n			\n				\n			\n		\n\n\n\n\n			\n				\n			\n		\n\n\n\n\n			\n				\n			\n		\n\n\n\n\n			\n				\n			\n		\n\n\n\n\n			\n				\n			\n		\n\n\n\n\n			\n				\n			\n		\n\n\n\n\n			\n				\n			\n		\n\n\n\n\n			\n				\n			\n		\n\n\n\n\n			\n				\n			\n		\n\n\n\n\n			\n				\n			\n		\n\n\n\n\n			\n				\n			\n		\n\n\n\n\n			\n				\n			\n		\n\n\n\n\n			\n				\n			\n		\n\n\n\n\n			\n				\n			\n		\n\n\n\n\n			\n				\n			\n		\n\n\n\n\n			\n				\n			\n		\n\n\n\n\n			\n				\n			\n		\n\n\n\n\n			\n				\n			\n		\n\n\n\n\n			\n				\n			\n		\n\n\n\n\n			\n				\n			\n		\n\n\n\n\n			\n				\n			\n		\n\n\n\n\n			\n				\n			\n		\n\n\n\n\n			\n				\n			\n		\n\n\n\n\n			\n				\n			\n		\n\n\n\n\n			\n				\n			\n		\n\n\n\n\n			\n				\n			\n		\n\n\n\n\n			\n				\n			\n		\n\n\n\n\n			\n				\n			\n		\n\n\n\n\n			\n				\n			\n		\n\n\n\n\n			\n				\n			\n		\n\n\n\n\n			\n				\n			\n		\n\n\n\n\n			\n				\n			\n		\n\n\n\n\n			\n				\n			\n		\n\n\n\n\n			\n				\n			\n		\n\n\n\n\n			\n				\n			\n		\n\n\n\n\n			\n				\n			\n		\n\n\n\n\n			\n				\n			\n		\n\n\n\n\n			\n				\n			\n		\n\n\n\n\nPatrimoniul sub reflectoare / Spotlight Heritage Timișoara este o inițiativă culturală digitală a Universității Politehnica Timișoara realizată în parteneriat cu Muzeul Național al Banatului\, parte a Programului Cultural Timișoara 2023 Capitală Europeană a Culturii. Proiect cultural co-finanțat de Municipiul Timișoara prin Centrul de Proiecte\, Consiliul Județean Timiș\, Ministerul Culturii\, EAA and Norway Grants.
URL:https://spotlight-timisoara.eu/en/eveniment/finisajul-expozitiei-patrimoniul-sub-reflectoare-lumi-paralele-2/
CATEGORIES:News
ATTACH;FMTTYPE=image/jpeg:https://spotlight-timisoara.eu/wp-content/uploads/2024/02/WhatsApp-Image-2023-10-01-at-14.24.27.jpeg
ORGANIZER;CN="Spotlight Heritage Timisoara":MAILTO:contact@spotlight-timisoara.eu
END:VEVENT
END:VCALENDAR