BEGIN:VCALENDAR
VERSION:2.0
PRODID:-//Patrimoniul sub reflectoare Timisoara Spotlight Heritage Timisoara - ECPv6.15.19//NONSGML v1.0//EN
CALSCALE:GREGORIAN
METHOD:PUBLISH
X-WR-CALNAME:Patrimoniul sub reflectoare Timisoara Spotlight Heritage Timisoara
X-ORIGINAL-URL:https://spotlight-timisoara.eu/en
X-WR-CALDESC:Events for Patrimoniul sub reflectoare Timisoara Spotlight Heritage Timisoara
REFRESH-INTERVAL;VALUE=DURATION:PT1H
X-Robots-Tag:noindex
X-PUBLISHED-TTL:PT1H
BEGIN:VTIMEZONE
TZID:Europe/Bucharest
BEGIN:DAYLIGHT
TZOFFSETFROM:+0200
TZOFFSETTO:+0300
TZNAME:EEST
DTSTART:20220327T010000
END:DAYLIGHT
BEGIN:STANDARD
TZOFFSETFROM:+0300
TZOFFSETTO:+0200
TZNAME:EET
DTSTART:20221030T010000
END:STANDARD
BEGIN:DAYLIGHT
TZOFFSETFROM:+0200
TZOFFSETTO:+0300
TZNAME:EEST
DTSTART:20230326T010000
END:DAYLIGHT
BEGIN:STANDARD
TZOFFSETFROM:+0300
TZOFFSETTO:+0200
TZNAME:EET
DTSTART:20231029T010000
END:STANDARD
BEGIN:DAYLIGHT
TZOFFSETFROM:+0200
TZOFFSETTO:+0300
TZNAME:EEST
DTSTART:20240331T010000
END:DAYLIGHT
BEGIN:STANDARD
TZOFFSETFROM:+0300
TZOFFSETTO:+0200
TZNAME:EET
DTSTART:20241027T010000
END:STANDARD
END:VTIMEZONE
BEGIN:VEVENT
DTSTART;TZID=Europe/Bucharest:20231007T120000
DTEND;TZID=Europe/Bucharest:20231008T170000
DTSTAMP:20260420T172601
CREATED:20231005T071504Z
LAST-MODIFIED:20240220T082944Z
UID:32652-1696680000-1696784400@spotlight-timisoara.eu
SUMMARY:Spotlight Heritage Timișoara celebrează cultura și patrimoniul istoric al Timișoarei șa City Celebration. Descoperă Timișoara prin aplicații inovatoare de realitate virtuală și mixtă.
DESCRIPTION:În perioada 7-8 octombrie 2023\, Spotlight Heritage Timișoara va face parte din evenimentul City Celebration\, aducând în prim-plan bogăția patrimoniului timișorean. Cu această ocazie și pentru a sărbători orașul Timișoara\, echipa Spotlight a pregătit o serie de evenimente pentru a sărbători istoria și cultura orașului și a Canalului Bega. \n\n\n\n\n\n\n\nFestivalul Internațional de Cultură și Patrimoniu Digital – Demonstrații XR \n\n\n\nÎn Muzeul Tehnic UPT – ExperimentariumTM va găzdui\, în perioada 07 – 08 octombrie 2023\, Festivalul Internațional de Cultură și Patrimoniu Digital – Demonstrații  XR – Science and Tech Playground. \n\n\n\nAceastă componentă a festivalului va aduce tehnologia digitală în inima orașului\, oferind participanților oportunitatea de a se aventura într-o lume real-virtuală complexă. Cu ajutorul tehnologiilor de ultimă generație\, vizitatorii vor explora virtual străzile Timișoarei\, vor descoperi cele mai renumite monumente și vor învăța despre istoria și patrimoniul orașului prezentate în proiectul Patrimoniul sub reflectoare Timișoara. \n\n\n\nCopiii și tinerii vor avea șansa de a explora fascinantele experimente de fizică și de a învăța despre istoria calculatoarelor și a orașului\, ghidați de tutori cu experiență. \n\n\n\nTipare ale poeziei este o altă instalație digitală de care publicul se poate bucura. Realizată de artistul Marius Jurca (13m10j)\, aceasta este o instalație interactivă cu software personalizat prin care orașul Timișoara este descoperit prin poezie și culoare! Este un proiect interactiv care are la bază poezii create de scriitorul Robert Șerban\, sub titlul „Poeme despre Domnișoara Timișoara”\, parte din proiectul Patrimoniul sub reflectoare. \n\n\n\nDe asemenea\, în muzeu va fi amplasată și instalația Physic AI Garden. Bazată pe inteligență artificială\, aceasta este realizată de Anna Dumitru și Alex May\, în colaborare cu proiectul CAPABLE și cu Revolution BioArt organizată de către Romanian Science Festival. Instalația oferă o experiență interactivă unică pentru participanți. Utilizând cele mai noi tehnologii digitale\, aceasta prezintă o grădină virtuală dinamică\, în care plante și ciuperci virtuale cresc și interacționează unele cu altele și cum diferite medicamente pot afecta organismele organice și le poate influența dezvoltarea. \n\n\n\nScience and Tech Playground va fi deschis zilnic între orele 12:00 și 17:00\, pentru a oferi o experiență captivantă tuturor celor dornici să descopere Timișoara într-un mod inovator. \n\n\n\nFestivalul Internațional de Cultură și Patrimoniu Digital – Patrimoniul Canalului Bega \n\n\n\nÎn cadrul Patrimoniul sub reflectoare Timișoara\, Universitatea Politehnica Timișoara a adus în prim-plan canalul Bega și mediul său natural și istoric prin două instalații impresionante. În Spațiul UPT Campus Creativ  (Bd. Vasile Pârvan Nr. 2\, curtea Electro) va avea loc Festivalul Internațional de Cultură și Patrimoniu Digital –  Patrimoniul Canalului Bega\, prin care publicul poate descoperi Canalul Bega într-o altă lumină. \n\n\n\nPrin intermediul tehnologiei de cartografiere și capturare a monumentelor și siturilor antropocentrice\, artista norvegiană Ingrid Bjørnaali și artistul român Marius Jurca au reușit să surprindă detaliat canalul Bega și să-l readucă la viață prin intermediul scanărilor 3D. Munca celor doi artiști s-a materializat în lucrarea Ecourile Bega/ Bega Echoes\, care va fi expusă pentru public. \n\n\n\nDe asemenea\, prin lucrarea de realitate virtuală Patrimoniul Canalului Bega\, realizată de studenții UPT\, participanții vor avea ocazia să descopere poveștile oamenilor și informații despre biosfera din jurul Canalului Bega folosind tehnologii digitale de ultimă generație\, acompaniați de versurile poetului Robert Șerban pentru a crea o atmosferă de neuitat. \n\n\n\nPatrimoniul Canalului Bega va fi deschis zilnic între orele 12:00 și 17:00\, invitând publicul să descopere bogăția istoriei și a naturii Canalului Bega. \n\n\n\nPatrimoniul sub reflectoare Timișoara – Expoziția stradală \n\n\n\nAceastă expoziție va invita publicul să pășească într-o călătorie de stimulare a simțurilor pe malurile Canalului Bega\, prin diverse locații. Pornind de la Restaurant Flora\, de pe malul Canalului Bega\, sub ghidajul mediatorilor culturali\, participanții vor explora spații urbane și puncte cheie ale dezvoltării orașului. \n\n\n\nVa fi pusă în lumină importanța poveștilor personale și a experiențelor individuale în construirea identității orașului și a culturii sale. Programul de vizitare a expoziției stradale va fi zilnic între orele 15:00 și 17:00\, oferind tuturor ocazia de a adăuga propria contribuție la categoria „Povestea Ta”\, regăsită pe site-ul https://spotlight-timisoara.eu/. \n\n\n\nComponentele digitale ale proiectului sunt accesibile online la adresa https://spotlight-timisoara.eu/ și prin aplicațiile mobile care pot fi descărcate din magazinele Android și Apple sau căutând „Spotlight Heritage Timișoara”. \n\n\n\nInformații despre eveniment sunt disponibile și pe: \n\n\n\n\nPagina web: https://spotlight-timisoara.eu/ \n\n\n\nFacebook: https://www.facebook.com/SpotlightHeritageTimisoara/ \n\n\n\nTwitter: @spotlight_TM21 \n\n\n\nInstagram: @spotlight_tm\n\n\n\n\n\n\n\n\n\n\n\n\n\n\n\n\n\n\n\n\n\n\n\n\n\n\n\n\n\n\n\n\n\n\n\n\n\n\n\n\n\n\n\n\n\n\n\n\n\n\n\n\n\n\n\n\n\n\n\n\n\n\n\n\n\n\n\n\n\n\n\n\n\n\n\n\n\n\n\n\n\n\n\n\n\n\n\n\n\n\n\n\n\n\n\n\n\n\n\n\n\n\n\n\n\n\n\n\n\n\n\n\n\n\n\n\nEvenimentul face parte din inițiativa digitală culturală Spotlight Heritage Timișoara\, parte a Programului Cultural Timișoara 2023 Capitală Europeană a Culturii și este co-finanțat de fondurile EEA și Norway Grants și de Municipiul Timișoara prin Centrul de Proiecte.
URL:https://spotlight-timisoara.eu/en/eveniment/city-celebration-2023/
CATEGORIES:Event,News,XR Festival,XR Show
ATTACH;FMTTYPE=image/jpeg:https://spotlight-timisoara.eu/wp-content/uploads/2023/10/Cover-City-Celebration_FB-1.jpg
ORGANIZER;CN="Spotlight Heritage Timisoara":MAILTO:contact@spotlight-timisoara.eu
END:VEVENT
END:VCALENDAR