BEGIN:VCALENDAR
VERSION:2.0
PRODID:-//Patrimoniul sub reflectoare Timisoara Spotlight Heritage Timisoara - ECPv6.15.19//NONSGML v1.0//EN
CALSCALE:GREGORIAN
METHOD:PUBLISH
X-WR-CALNAME:Patrimoniul sub reflectoare Timisoara Spotlight Heritage Timisoara
X-ORIGINAL-URL:https://spotlight-timisoara.eu/en
X-WR-CALDESC:Events for Patrimoniul sub reflectoare Timisoara Spotlight Heritage Timisoara
REFRESH-INTERVAL;VALUE=DURATION:PT1H
X-Robots-Tag:noindex
X-PUBLISHED-TTL:PT1H
BEGIN:VTIMEZONE
TZID:Europe/Bucharest
BEGIN:DAYLIGHT
TZOFFSETFROM:+0200
TZOFFSETTO:+0300
TZNAME:EEST
DTSTART:20220327T010000
END:DAYLIGHT
BEGIN:STANDARD
TZOFFSETFROM:+0300
TZOFFSETTO:+0200
TZNAME:EET
DTSTART:20221030T010000
END:STANDARD
BEGIN:DAYLIGHT
TZOFFSETFROM:+0200
TZOFFSETTO:+0300
TZNAME:EEST
DTSTART:20230326T010000
END:DAYLIGHT
BEGIN:STANDARD
TZOFFSETFROM:+0300
TZOFFSETTO:+0200
TZNAME:EET
DTSTART:20231029T010000
END:STANDARD
BEGIN:DAYLIGHT
TZOFFSETFROM:+0200
TZOFFSETTO:+0300
TZNAME:EEST
DTSTART:20240331T010000
END:DAYLIGHT
BEGIN:STANDARD
TZOFFSETFROM:+0300
TZOFFSETTO:+0200
TZNAME:EET
DTSTART:20241027T010000
END:STANDARD
END:VTIMEZONE
BEGIN:VEVENT
DTSTART;TZID=Europe/Bucharest:20231120T000000
DTEND;TZID=Europe/Bucharest:20231120T235959
DTSTAMP:20260420T212358
CREATED:20231120T092655Z
LAST-MODIFIED:20240319T135131Z
UID:33364-1700438400-1700524799@spotlight-timisoara.eu
SUMMARY:Câștigătorii concursului International Spotlight Heritage Student Contest 2023 și Interactive Digital Media Student Contest 2023
DESCRIPTION:Universitatea Politehnica din Timișoara a organizat cea de-a treia ediție a International Spotlight Heritage Student Contest (ISHSC) 2023 și Interactive Digital Media Student Contest (IDMSC) 2023\, aflat la a 9-a ediție\, în data de 17 noiembrie 2023\, în Sala Polivalentă a Bibliotecii Centrale UPT. \n\n\n\nÎn cadrul concursului International Spotlight Heritage Student Contest (ISHSC) 2023\, au participat studenți din 3 universități partenere de renume din România\, Norvegia și Italia\, care au conlucrat în echipe internaționale pentru a dezvolta proiecte ce au integrat realitatea mixtă și virtuală și au creat artefacte digitale care să valorifice și să celebreze bogăția patrimoniului cultural al Timișoarei\, ca parte a proiectului Spotlight Heritage Timișoara. Evenimentul face parte din inițiativa digitală culturală Spotlight Heritage Timișoara\, parte a Programului Cultural Timișoara 2023 Capitală Europeană a Culturii și este co-finanțat de fondurile EEA și Norway Grants și de Municipiul Timișoara prin Centrul de Proiecte. \n\n\n\nCâștigătorii secțiunii International Spotlight Heritage Student Contest (eXtended Reality)\, parte din Interactive Digital Media Student Contest\, a fost echipa formată din: Marius Tătaru și Emilian Porumb – Universitatea Politehnica Timișoara (România)\, Inge Johan Johannson – Universitatea din Agder (Norvegia)\, Mara Valente – Università Roma Tre (Italia)\, Ilaria Filonzi – Università di Genova (Italia)\, Giulia Vigo – Università di Modena e Reggio Emilia (Italia). \n\n\n\nMai multe detalii despre competiție puteți găsi AICI. \n\n\n\nAceștia au realizat proiectul Giroc & Timisoara 2023 în VR\, ca o continuă dezvoltare a aplicației de Realitate Virtuală(VR) Spotlight Heritage prin includerea de elemente de joc și de gamificare\, prin modificarea interfeței vizuale\, adăugarea de elemente grafice noi\, de integrarea cu elemente interactive a Muzeului Jecza\, Parcul de sculptură Triade și Casa Tineretului\, ca repere ale cartierului Giroc și\, de asemenea\, a fost adăugat un asistent\, care să însoțească utilizatorii prin aplicație. Echipa a realizat pe scena din realitate virtuală a Palatului Culturii din Timișoara și un joc care validează informațiile\, într-o îmbunătățire a experienței utilizatorilor și a elementelor participative\, de internalizare a poveștilor orașului.  \n\n\n\n\n\n			\n				\n			\n		\n\n\n\n\n			\n				\n			\n		\n\n\n\n\n			\n				\n			\n		\n\n\n\n\n			\n				\n			\n		\n\n\n\n\n			\n				\n			\n		\n\n\n\n\n			\n				\n			\n		\n\n\n\n\n			\n				\n			\n		\n\n\n\n\n			\n				\n			\n		\n\n\n\n\nPremiul doi a fost obținut  de aplicația de realitate mixtă  Timisoara 2023 Quest în MR realizată de Marius Tătaru\, Emilian Porumb – Universitatea Politehnica Timișoara (România) și Minh Tuan Hua – Universitatea din Agder (Norvegia)\, care a inclus modificări de intrefață\, noi elemente grafice și obiectele specifice artei contemporane și Revoluției din 1989\, integrate cu scopul de a stimula utilizatorii prin personalizarea interacțiunii cu artefactele și obiectele de artă. \n\n\n\n\n\n			\n				\n			\n		\n\n\n\n\n			\n				\n			\n		\n\n\n\n\n			\n				\n			\n		\n\n\n\n\n„Sunt impresionat de muncă studenților din echipele internaționale\, mai ales de modul în care au reușit să dezvolte lucrând și online și în Timișoara. Dorim să dezvoltăm în continuare și o componentă de cercetare în relația de Human- Robot Teaming\, de umanizare a roboților și a tehnologiilor\, care să conțină și o componentă de cultură și patrimoniu.”\, a declarat Filippo Sanfilippo\, profesor la Facultatea de Inginerie și Știință\, Universitatea din Agder (UiA)\, Norvegia. \n\n\n\nProfesoara Antonella Poce de la Universitatea Roma Tre\, Italia a declarat ” Este un proiect impresionat care permite co-crearea cu echipe de studenți mixte\, puternic inovator și unic în contextul experiențelor muzeale.” \n\n\n\n”Elementele de personalizare și de gamificare introduse în acest an\, modul în care se schimbă perspectiva personală a fiecărui utilizator\, cred că aduc multe beneficii aplicațiilor de realitate virtuală și mixtă. Felicitărilor studenților din trei țări pentru munca în echipă.” a declarat președintele juriului ISHSC 2023\, Dr. Diana Andone\, de la Universitatea Politehnica Timișoara. \n\n\n\nCentrul Multimedia și Departamentul de ID/IFR și educație digitală din cadrul Universității Politehnica Timișoara îi felicită pe toți participanții din acest an din cadrul Interactive Digital Media Student Contest\, dar în special pe câștigătorii pentru determinarea de a realiza proiecte diverse și modul inovativ în care au integrat tehnologii convergente multimedia. \n\n\n\n\n\n\n\n\n\n\n\n			\n				\n			\n		\n\n\n\n\n			\n				\n			\n		\n\n\n\n\n			\n				\n			\n		\n\n\n\n\n			\n				\n			\n		\n\n\n\n\n			\n				\n			\n		\n\n\n\n\n			\n				\n			\n		\n\n\n\n\n			\n				\n			\n		\n\n\n\n\n			\n				\n			\n		\n\n\n\n\n			\n				\n			\n		\n\n\n\n\n			\n				\n			\n		\n\n\n\n\n			\n				\n			\n		\n\n\n\n\n			\n				\n			\n		\n\n\n\n\n			\n				\n			\n		\n\n\n\n\n			\n				\n			\n		\n\n\n\n\n			\n				\n			\n		\n\n\n\n\n			\n				\n			\n		\n\n\n\n\n			\n				\n			\n		\n\n\n\n\n			\n				\n			\n		\n\n\n\n\n			\n				\n			\n		\n\n\n\n\n			\n				\n			\n		\n\n\n\n\nEvenimentul face parte din inițiativa digitală culturală Spotlight Heritage Timișoara\, parte a Programului Cultural Timișoara 2023 Capitală Europeană a Culturii și este co-finanțat de fondurile EEA și Norway Grants și de Municipiul Timișoara prin Centrul de Proiecte.
URL:https://spotlight-timisoara.eu/en/eveniment/castigatorii-concursului-international-spotlight-heritage-student-contest-2023-si-interactive-digital-media-student-contest-2023/
CATEGORIES:ISHSC,News
ATTACH;FMTTYPE=image/jpeg:https://spotlight-timisoara.eu/wp-content/uploads/2023/11/DSCF5732-scaled.jpg
ORGANIZER;CN="Spotlight Heritage Timisoara":MAILTO:contact@spotlight-timisoara.eu
END:VEVENT
END:VCALENDAR