BEGIN:VCALENDAR
VERSION:2.0
PRODID:-//Patrimoniul sub reflectoare Timisoara Spotlight Heritage Timisoara - ECPv6.15.19//NONSGML v1.0//EN
CALSCALE:GREGORIAN
METHOD:PUBLISH
X-WR-CALNAME:Patrimoniul sub reflectoare Timisoara Spotlight Heritage Timisoara
X-ORIGINAL-URL:https://spotlight-timisoara.eu/en
X-WR-CALDESC:Events for Patrimoniul sub reflectoare Timisoara Spotlight Heritage Timisoara
REFRESH-INTERVAL;VALUE=DURATION:PT1H
X-Robots-Tag:noindex
X-PUBLISHED-TTL:PT1H
BEGIN:VTIMEZONE
TZID:Europe/Bucharest
BEGIN:DAYLIGHT
TZOFFSETFROM:+0200
TZOFFSETTO:+0300
TZNAME:EEST
DTSTART:20220327T010000
END:DAYLIGHT
BEGIN:STANDARD
TZOFFSETFROM:+0300
TZOFFSETTO:+0200
TZNAME:EET
DTSTART:20221030T010000
END:STANDARD
BEGIN:DAYLIGHT
TZOFFSETFROM:+0200
TZOFFSETTO:+0300
TZNAME:EEST
DTSTART:20230326T010000
END:DAYLIGHT
BEGIN:STANDARD
TZOFFSETFROM:+0300
TZOFFSETTO:+0200
TZNAME:EET
DTSTART:20231029T010000
END:STANDARD
BEGIN:DAYLIGHT
TZOFFSETFROM:+0200
TZOFFSETTO:+0300
TZNAME:EEST
DTSTART:20240331T010000
END:DAYLIGHT
BEGIN:STANDARD
TZOFFSETFROM:+0300
TZOFFSETTO:+0200
TZNAME:EET
DTSTART:20241027T010000
END:STANDARD
END:VTIMEZONE
BEGIN:VEVENT
DTSTART;TZID=Europe/Bucharest:20231209T000000
DTEND;TZID=Europe/Bucharest:20231209T235959
DTSTAMP:20260420T224241
CREATED:20231213T133025Z
LAST-MODIFIED:20231213T133742Z
UID:33677-1702080000-1702166399@spotlight-timisoara.eu
SUMMARY:Expertize despre viitor\, educație\, digitalizare\, cultură și inovare la cea de-a opta ediție a Workshop-ului competențe digitale în cultură și industriile creative/ Digital Skills for Culture & Creative Industries Workshop
DESCRIPTION:Sute de participanți din țară și străinătate\, din mediul academic\, al inovării\, dar și din domeniul industriilor creative s-au adunat vineri\, 08 decembrie 2023\, la cea de-a opta ediție a workshop-ului internațional de competențe digitale în cultură și industriile creative/ Digital Skills for Culture & Creative Industries Workshop. Specialiști de nivel național și internațional (din SUA\, Austria\, Olanda\, Norvegia\, Grecia\, Italia\, Spania\, Suedia și România)\, studenți și experți\, au demonstrat prin exemple practice\, impactul pe care competențele digitale îl pot avea în cultură\, industrii creative\, educație și cum acestea pot stimula inovarea. \n\n\n\nUniversitatea Politehnica Timișoara a găzduit vineri cea de-a opta ediție a workshop-ului competențe digitale în cultură și industriile creative/ Digital Skills for Culture & Creative Industries Workshop – un eveniment cheie al colaborării internaționale a Universității Politehnica Timișoara cu actori din mediul tehnic\, digital și cultural\, fiind integrat în cadrul proiectului cultural Spotlight Heritage Timișoara. În colaborare cu Departamentul de ID/IFR și Educație Digitală\, Centrul Multimedia\, Alianța de Universități Europene E³UDRES²\, Muzeul Național al Banatului\, Proiectul EBSI-NE și IEEE Romania\, workshopul a reprezentat o adevărată oportunitate pentru participanți să schimbe idei și să prezinte ultimele inovații din lumea digitală. \n\n\n\nParticipanții\, inclusiv specialiști din SUA\, Austria\, Olanda\, Norvegia\, Grecia\, Italia\, Spania\, Suedia și România\, alături de studenți\, s-au dedicat prezentării și dezbaterii unor subiecte de importanță vitală pentru industria digitală actuală. Evenimentul a avut loc atât fizic\, în Centrul de Conferințe al Universității Politehnica Timișoara\, cu 50 de participanți\, cât și online fiind transmis simultan pe platformele Zoom și Facebook\, unde au fost prezente peste 750 de persoane. \n\n\n\nExplorarea competențelor digitale în domeniul cultural și creativ \n\n\n\nTematica evenimentului a fost Competențe digitale în cultură și industriile creative /Digital Skills for Culture & Creative Industries Workshop\, integrat în Spotlight Heritage Timișoara\, evenimentul fiind divizat în două componente esențiale.  \n\n\n\nPrima parte a constat dintr-un seminar public de demistificare EBSI-NE\, unde a fost discutată extinderea nodurilor EBSI și programul Europa Digitală (DEP)\, subliniind sprijinul oferit de infrastructura vitală a European Blockchain Services Infrastructure (EBSI). În această parte au avut loc următoarele prezentări:  \n\n\n\n\nProf. univ. Dr. Ing. Radu Vasiu & Dr. Ing. Diana Andone\, Universitatea Politehnica Timișoara\, Dr. Carmen Holotescu\, Universitatea „Ioan Slavici” Timișoara – EBSI-NE: Infrastructura europeană de servicii Blockchain – Extinderea nodurilor. Prezentare generală a proiectului și rolul UPT / ENSI-NE: European Blockchain Services Infrastructure – Nodes Expansion. Project overview and UPT role\n\n\n\nCosmin Cioranu\, UEFISCDI – EBSI-NE: Servicii de sprijin și centre de competență / EBSI-NE: Support services and Competences Centers\n\n\n\nȘ.l. Dr. ing. Andrei Ternauciuc\, drd. Ing. Victor Holotescu\, Universitatea Politehnica Timișoara – Modul în care acreditările verificabile pe EBSI îmbunătățesc educația și competențele digitale / How Verifiable Credentials on EBSI enhance Education and Digital Skills\n\n\n\nLluís Alfons Ariño Martín\, Universitat Rovira I Virgili\, Spain (online) – Actualizare privind grupurile EBSI pentru educație și alte sectoare / Update on EBSI clusters for education\, and other sectors\n\n\n\ndrd. Ing. Victor Holotescu\, Universitatea Politehnică Timișoara – Colecția de NFT-uri Spotlight Heritage Timișoara / Collection of the Spotlight Heritage Timisoara NFTs\n\n\n\n\nÎn cea de-a doua parte\, atenția s-a îndreptat către Competențele Digitale pentru Cultură și Industriile Creative. Această secțiune a adus în prim-plan actori cheie din domeniul culturii\, educației\, inovării și al industriilor creative\, oferind o platformă de colaborare și dialog\, esențială pentru evoluția continuă în acest domeniu. \n\n\n\n\nProf. univ. Dr. Ing. Radu Vasiu\, Universitatea Politehnica Timișoara – Implicarea E3UDRES2 în dezvoltarea de competențe digitale / Involvement of E3UDRES2 in the development of digital skills\n\n\n\nProf. dr. ing. Cristian-Győző Haba\, Universitatea Tehnică “Gh.Asachi” Iași (online) – Educația IEEE în România / IEEE Education in Romania\n\n\n\nDr. Ing. Diana Andone\, Universitatea Politehnica Timișoara – Using Generative Artificial intelligence for education and creative industries. / Inteligență artificială generativă pentru educație și industrii creative.\n\n\n\nProf. Rune Andersen\, University of Agder\, Norvegia – e-Sporturile în cadrul academic – educație pentru forța de muncă de mâine / Academic esports – education for the workforce of tomorrow\n\n\n\nAss.-Prof. Chiara Zuani\, University of Graz\, Austria (online) – Competențele digitale în muzee: de la implicare la sustenabilitate / Digital Competences in Museums: from engagement to sustainability\n\n\n\nArnold Pears\, KTH Royal Institute of Technology\, Suedia (online) – Competențe generative de inteligență artificială pentru viitorii profesioniști / Generative AI skills for future professionals\n\n\n\nProf. Markus Seidl\, Fachhochschule St. Pölten GmbH\, Austria (online) – Cultură Digitală / Digital culture\n\n\n\nSarah Bosch\,  Saxion University of Applied Sciences\, Olanda (online) – Media și învățare: Competența digitală și utilizarea metodelor inovatoare de învățare în învățământul superior / Media & learning: Digital competence and the use of innovative learning methods in higher education\n\n\n\nDimitra Vinatsella\, University of Piraeus\, Greece (online) – Competențe digitale deschise pentru educație – cursurile online / Open Digital Competences for Education – the Online Courses\n\n\n\ndrd. Ing. Marius Tătaru & Emilian Porumb\, Universitatea Politehnica Timișoara – Aplicațiile VR și MR Spotlight Heritage Timișoara / Spotlight Heritage VR and MR apps\n\n\n\nGiulia Vigo\, Università di Modena e Reggio Emilia\, Italia (online) – Cultură digitală și experiența Spotlight Heritage / Digital Culture and Spotlight Heritage Experiences\n\n\n\nSonja Schachinger – Producător\, curator și mediator în artă și știință\, Revoluția BioArt\, Austria – Lucrări de artă în materiale digitale / Artworks in Digital Materials\n\n\n\nOana Romocea\, Romanian Science Festival\, Revoluția BioArt\, Romania – Romanian Science Festival: Competentele digitale in educația STEM / Romanian Science Festival: Digital Competencies in STEM education\n\n\n\nMirela Stoeac Vlăduți\, MV Sci-Art\, Romania – MV Sci-Art actions\n\n\n\nProf. Mark Frydenberg\, Bentley University\, USA (online) – Cum folosesc profesorii Metaverse și AI / How teachers use Metaverse and AI\n\n\n\n\nWorkshopul a inclus și studii de caz despre impactul pe care digitalizarea îl are asupra educației și culturii\, cu exemple din Timișoara dar și din Europa\, precum și studii despre inițiativele și proiectele care pot modela educația viitorului. Printre exemplele de bună practică oferite\, se numără proiectele EBSI-NE\, OpenDigCompEdu\, E³UDRES² și Patrimoniul sub reflectoare/Spotlight Heritage Timișoara. \n\n\n\nParticiparea a fost liberă\, prezentările s-au desfășurat atât în română\, cât și în engleză iar participanții au primit Digital Skills for Education & Innovation Participant Open Badges (Certificate digitale deschise) pentru participarea online și în plus\, Certificate de participare pentru participanții din sală. \n\n\n\nToate workshopurile sunt integrate\, cu activități și teste în platforma de cursuri online gratuite a UPT\, UniCampus\, la https://unicampus.ro/ și pot fi urmate de către oricine\, la final fiind acordat un certificat de absolvire. \n\n\n\nÎnregistrarea evenimentului precum și informații suplimentare despre temele dezbătute și prezentatori sunt disponibile accesând:  https://elearning.upt.ro/ro/event/workshop-digital-skills-2023/  \n\n\n\n \n\n\n\n\n\n\n\n\n\n\n\n\n\n\n\n\n\n\n\n\n\n\n\n\n\n\n\n\n\n\n\n\n\n\n\n\n\n\n\n\n\n\n\n\n\n\n\n\n\n\n\n\n\n\n\n\n\n\n\n\n\n\n\n\n\n\n\n\n\n\n\n\n\n\n\n\n\nPatrimoniul sub reflectoare / Spotlight Heritage Timișoara este o inițiativă culturală digitală a Universității Politehnica Timișoara realizată în parteneriat cu Muzeul Național al Banatului\, parte a Programului Cultural Timișoara 2023 Capitală Europeană a Culturii. Proiect cultural co-finanțat de Municipiul Timișoara prin Centrul de Proiecte\, Consiliul Județean Timiș\, Ministerul Culturii\, EAA and Norway Grants.
URL:https://spotlight-timisoara.eu/en/eveniment/expertize-despre-viitor-educatie-digitalizare-cultura-si-inovare-la-digital-skills-workshop-2023/
CATEGORIES:News
ATTACH;FMTTYPE=image/jpeg:https://spotlight-timisoara.eu/wp-content/uploads/2023/12/IMG_5501-1-scaled.jpg
END:VEVENT
BEGIN:VEVENT
DTSTART;TZID=Europe/Bucharest:20231209T110000
DTEND;TZID=Europe/Bucharest:20231210T170000
DTSTAMP:20260420T224241
CREATED:20231124T131632Z
LAST-MODIFIED:20231124T131635Z
UID:33573-1702119600-1702227600@spotlight-timisoara.eu
SUMMARY:XR Show Patrimoniul sub reflectoare Timișoara | Timișoara 2023 la nesfârșit.
DESCRIPTION:XR Show Patrimoniul sub reflectoare Timișoara\, organizat de Universitatea Politehnica Timișoara\, va cuprinde demonstrații de tehnologii digitale\, experimente științifice și prezentări remarcabile ale patrimoniului cultural al orașului\, aducând în prim-plan inovații și tehnologii de vârf. \n\n\n\nEvenimentul va avea loc în data de 09 – 10 decembrie 2023\, în spațiul Muzeului Tehnic UPT – ExperimentariumTM\, între orele 11:00 – 17:00\, iar participarea este gratuită. \n\n\n\nVor fi incluse diferite tehnologii digitale precum realitatea augmentată\, virtuală și mixtă\, holograme și aplicații interactive\, toate prezentate sub forma unor tururi ghidate în incinta Muzeului UPT. Participanții vor avea oportunitatea de a experimenta demonstrații spectaculoase de fizică și experimente de chimie ce vor stimula toate cele 5 simțuri\, precum și de a descoperi premierele tehnice ale Timișoarei. \n\n\n\nPunctul central al evenimentului vor fi instalațiile interactive fiind posibile cu ajutorul ochelarilor de realitate virtuală și mixtă\, un concept dezvoltat de Universitatea Politehnica Timișoara. Vizitatorii vor putea experimenta „o călătorie virtuală scurtă” prin istoria cartierelor vechi ale orașului\, folosind tehnologii de realitate augmentată și virtuală\, și vor putea asculta povești ale diversității multiculturale și multietnice ale orașului.  \n\n\n\nDe asemenea\, se vor putea bucura de interacțiuni unice cu obiecte de patrimoniu scanate 3D și integrate în aplicațiile de realitate mixtă\, prin care vor avea oportunitatea de a completa jocul interactic pe care Spotlight Heritage l-a pregătit pentru cei curioși. \n\n\n\nPrintre elementele incluse în XR Show se numără: \n\n\n\n\n„Patrimoniul sub reflectoare Timișoara – Digital & Virtual”\, o colecție ce include un website online și mai multe aplicații mobile\, printre care se regăsesc aplicații de realitate augmentată și virtuală ce oferă o perspectivă interactivă asupra istoriei și patrimoniului orașului.\n\n\n\n„SH Culture App”\, o aplicație de realitate augmentată pentru patrimoniu și vederi panoramice ale Timișoarei\, unde publicul este purtat prin istoria a 5 cartiere emblematice\, dezvăluită prin videoclipuri 3D și scanări 3D ale patrimoniului muzeului\, putând să viziteze clădirile în 360 de grade cu ochelari VR.\n\n\n\nDiverse reprezentații culturale precum instalația digitală „Ecourile Bega”\, realizată de artista norvegiană Ingrid Bjørnaali și de artistul român Marius Jurca\, ce explorează istoria culturală a Canalului Bega.\n\n\n\n„Tipare ale poeziei”\, o altă instalație digitală realizată de artistul Marius Jurca (13m10j)\, bazându-se pe un software personalizat\, prin care poți „picta” orașul Timișoara prin culoare și pe versurile poeziilor lui Robert Șerban.\n\n\n\n„Physic AI Garden” creată de Anna Dumitru și Alex May\, în colaborare cu Proiectul CAPABLE\, oferind o perspectivă inedită asupra interacțiunii dintre fizică și inteligența artificială.\n\n\n\n„Istoria UPT și a MECIPT in VR”\, o prezentare virtuală a istoriei Universității Politehnica Timișoara și a primului calculator electronic universitar din România.\n\n\n\n\nPrin această expoziție remarcabilă\, evenimentul XR Show Patrimoniul sub reflectoare Timișoara oferă participanților nu doar o incursiune în tehnologii de ultimă generație\, ci și o călătorie captivantă prin istoria\, cultura și diversitatea orașului. Este o ocazie unică de a descoperi potențialul inovației tehnologice de a da viață și a evidenția valorile culturale și istorice bogate ale Timișoarei într-un mod spectaculos și interactiv. \n\n\n\nSpotlight Heritage Timișoara / Patrimoniul sub reflectoare este o inițiativă culturală digitală a Universității Politehnica Timișoara realizată în parteneriat cu Muzeul Național al Banatului\, parte a Programului Cultural Timișoara 2023 Capitală Europeană a Culturii. Proiect cultural co-finanțat de Municipiul Timișoara prin Centrul de Proiecte\, Consiliul Județean Timiș\, Ministerul Culturii\, EEA and Norway Grants. \n\n\n\nComponentele digitale ale proiectului sunt accesibile online la adresa https://spotlight-timisoara.eu/ și prin aplicațiile mobile care pot fi descărcate din magazinele Android și Apple\, căutând „Spotlight Timișoara” sau scanând codul QR alăturat acestui comunicat. \n\n\n\n\nLink aplicații pentru utilizatorii Android: https://is.gd/SjiIgv  \n\n\n\nLink aplicații pentru utilizatorii iOS: https://is.gd/y6JxeV  \n\n\n\n\nRegăsiți evenimentul pe social media AICI.
URL:https://spotlight-timisoara.eu/en/eveniment/xr-show-patrimoniul-sub-reflectoare-timisoara/
CATEGORIES:Event,News,XR Show,XR Show
ATTACH;FMTTYPE=image/jpeg:https://spotlight-timisoara.eu/wp-content/uploads/2023/11/SH_Closing_2023_Post.jpg
ORGANIZER;CN="Spotlight Heritage Timisoara":MAILTO:contact@spotlight-timisoara.eu
END:VEVENT
END:VCALENDAR