BEGIN:VCALENDAR
VERSION:2.0
PRODID:-//Patrimoniul sub reflectoare Timisoara Spotlight Heritage Timisoara - ECPv6.15.20//NONSGML v1.0//EN
CALSCALE:GREGORIAN
METHOD:PUBLISH
X-WR-CALNAME:Patrimoniul sub reflectoare Timisoara Spotlight Heritage Timisoara
X-ORIGINAL-URL:https://spotlight-timisoara.eu/en
X-WR-CALDESC:Events for Patrimoniul sub reflectoare Timisoara Spotlight Heritage Timisoara
REFRESH-INTERVAL;VALUE=DURATION:PT1H
X-Robots-Tag:noindex
X-PUBLISHED-TTL:PT1H
BEGIN:VTIMEZONE
TZID:Europe/Bucharest
BEGIN:DAYLIGHT
TZOFFSETFROM:+0200
TZOFFSETTO:+0300
TZNAME:EEST
DTSTART:20220327T010000
END:DAYLIGHT
BEGIN:STANDARD
TZOFFSETFROM:+0300
TZOFFSETTO:+0200
TZNAME:EET
DTSTART:20221030T010000
END:STANDARD
BEGIN:DAYLIGHT
TZOFFSETFROM:+0200
TZOFFSETTO:+0300
TZNAME:EEST
DTSTART:20230326T010000
END:DAYLIGHT
BEGIN:STANDARD
TZOFFSETFROM:+0300
TZOFFSETTO:+0200
TZNAME:EET
DTSTART:20231029T010000
END:STANDARD
BEGIN:DAYLIGHT
TZOFFSETFROM:+0200
TZOFFSETTO:+0300
TZNAME:EEST
DTSTART:20240331T010000
END:DAYLIGHT
BEGIN:STANDARD
TZOFFSETFROM:+0300
TZOFFSETTO:+0200
TZNAME:EET
DTSTART:20241027T010000
END:STANDARD
END:VTIMEZONE
BEGIN:VEVENT
DTSTART;TZID=Europe/Bucharest:20231212T000000
DTEND;TZID=Europe/Bucharest:20231212T235959
DTSTAMP:20260424T151758
CREATED:20231214T134018Z
LAST-MODIFIED:20240215T120221Z
UID:33702-1702339200-1702425599@spotlight-timisoara.eu
SUMMARY:XR Show Patrimoniul sub reflectoare Timișoara – evenimentul care a prezentat oamenii\, cultura și patrimoniul orașului Timișoara prin inovări tehnice și digitale
DESCRIPTION:Un sfârșit de săptămână cu adevărat fascinant plin de experimente de fizică și chimie\, demonstrații de tehnologie digitală și prezentări remarcabile ale patrimoniului cultural al orașului\, ce au adus în atenția a 200 de vizitatori inovații și tehnologii de vârf la liber acces! \n\n\n\nÎn weekend-ul 09-10 decembrie 2023\, cu prilejul desfășurării evenimentului de închidere a programului cultural național „Timișoara – Capitală a Culturii Europene în 2023”\, Universitatea Politehnica Timișoara a organizat\, prin Spotlight Heritage Timișoara\, XR Show Patrimoniul sub reflectoare Timiș. \n\n\n\nMuzeului Tehnic UPT – ExperimentariumTM a devenit pentru două zile întregi terenul de joaca\, de vizitat și de descoperit pentru copii și adulți de-o potrivă. Au fost incluse diferite tehnologii digitale pentru realitatea augmentată\, virtuală și mixtă\, holograme și aplicații interactive\, toate prezentate sub forma unor tururi ghidate în incinta Muzeului UPT. Participanții au avut oportunitatea de a experimenta demonstrații spectaculoase de fizică și experimente de chimie care le stimulau cele 5 simțuri\, pentru și de a descoperi premierele tehnice ale Timișoarei. \n\n\n\nPrintre elementele incluse în XR Show s-au enumerat: \n\n\n\n\n„Patrimoniul sub reflectoare Timișoara – Digital & Virtual”\, o colecție ce include un website online și mai multe aplicații mobile\, printre care se regăsesc aplicații de realitate augmentată și virtuală ce oferă o perspectivă interactivă asupra istoriei și patrimoniului orașului.\n\n\n\n„SH Culture App”\, o aplicație de realitate augmentată pentru patrimoniu și vederi panoramice ale Timișoarei\, unde publicul este purtat prin istoria a 5 cartiere emblematice\, dezvăluită prin videoclipuri 3D și scanări 3D ale patrimoniului muzeului\, putând să viziteze clădirile în 360 de grade cu ochelari VR.\n\n\n\nDiverse reprezentații culturale precum instalația digitală „Ecourile Bega”\, realizată de artista norvegiană Ingrid Bjørnaali și de artistul român Marius Jurca\, ce explorează istoria culturală a Canalului Bega.\n\n\n\n„Tipare ale poeziei”\, o altă instalație digitală realizată de artistul Marius Jurca (13m10j)\, bazându-se pe un software personalizat\, prin care poți „picta” orașul Timișoara prin culoare și pe versurile poeziilor lui Robert Șerban.\n\n\n\n„Physic AI Garden” creată de Anna Dumitru și Alex May\, în colaborare cu Proiectul CAPABLE\, și parte din Revoluția BioArt\, organizat de Romanian Science Festival\, oferind o perspectivă inedită asupra interacțiunii dintre fizică și inteligența artificială.\n\n\n\n„Istoria UPT și a MECIPT in VR”\, o prezentare virtuală a istoriei Universității Politehnica Timișoara și a primului calculator electronic universitar din România.\n\n\n\n\nEvenimentul a oferit participanților nu doar o incursiune în tehnologii de ultimă generație\, ci și o călătorie excepțională prin istoria\, cultura și diversitatea pe care orașul Timișoara o are de oferit. A reprezentat o ocazie unică de a descoperi potențialul inovației tehnologice de a da viață obiectelor neînsuflețite și de a evidenția valorile culturale și istorice ale orașului prin moduri spectaculoase și interactive. \n\n\n\nComponentele digitale ale proiectului sunt accesibile online la adresa https://spotlight-timisoara.eu/ și prin aplicațiile mobile care pot fi descărcate din magazinele Android și Apple\, căutând „Spotlight Timișoara” sau scanând codul QR alăturat acestui comunicat. \n\n\n\n\nLink aplicații pentru utilizatorii Android: https://is.gd/SjiIgv  \n\n\n\nLink aplicații pentru utilizatorii iOS: https://is.gd/y6JxeV  \n\n\n\n\n\n\n			\n				\n			\n		\n\n\n\n\n			\n				\n			\n		\n\n\n\n\n			\n				\n			\n		\n\n\n\n\n			\n				\n			\n		\n\n\n\n\n			\n				\n			\n		\n\n\n\n\n			\n				\n			\n		\n\n\n\n\n			\n				\n			\n		\n\n\n\n\n			\n				\n			\n		\n\n\n\n\n			\n				\n			\n		\n\n\n\n\n			\n				\n			\n		\n\n\n\n\n			\n				\n			\n		\n\n\n\n\n			\n				\n			\n		\n\n\n\n\n			\n				\n			\n		\n\n\n\n\n			\n				\n			\n		\n\n\n\n\n			\n				\n			\n		\n\n\n\n\n			\n				\n			\n		\n\n\n\n\n			\n				\n			\n		\n\n\n\n\n			\n				\n			\n		\n\n\n\n\n			\n				\n			\n		\n\n\n\n\n			\n				\n			\n		\n\n\n\n\n			\n				\n			\n		\n\n\n\n\n			\n				\n			\n		\n\n\n\n\n			\n				\n			\n		\n\n\n\n\n			\n				\n			\n		\n\n\n\n\n			\n				\n			\n		\n\n\n\n\n			\n				\n			\n		\n\n\n\n\n			\n				\n			\n		\n\n\n\n\n			\n				\n			\n		\n\n\n\n\n			\n				\n			\n		\n\n\n\n\n			\n				\n			\n		\n\n\n\n\n			\n				\n			\n		\n\n\n\n\n			\n				\n			\n		\n\n\n\n\n			\n				\n			\n		\n\n\n\n\n			\n				\n			\n		\n\n\n\n\n			\n				\n			\n		\n\n\n\n\n			\n				\n			\n		\n\n\n\n\n			\n				\n			\n		\n\n\n\n\n			\n				\n			\n		\n\n\n\n\n			\n				\n			\n		\n\n\n\n\n			\n				\n			\n		\n\n\n\n\n			\n				\n			\n		\n\n\n\n\n			\n				\n			\n		\n\n\n\n\n			\n				\n			\n		\n\n\n\n\n			\n				\n			\n		\n\n\n\n\n			\n				\n			\n		\n\n\n\n\n			\n				\n			\n		\n\n\n\n\n			\n				\n			\n		\n\n\n\n\n			\n				\n			\n		\n\n\n\n\n			\n				\n			\n		\n\n\n\n\n			\n				\n			\n		\n\n\n\n\n			\n				\n			\n		\n\n\n\n\n			\n				\n			\n		\n\n\n\n\n			\n				\n			\n		\n\n\n\n\n			\n				\n			\n		\n\n\n\n\n			\n				\n			\n		\n\n\n\n\n			\n				\n			\n		\n\n\n\n\n			\n				\n			\n		\n\n\n\n\n			\n				\n			\n		\n\n\n\n\n			\n				\n			\n		\n\n\n\n\n			\n				\n			\n		\n\n\n\n\n			\n				\n			\n		\n\n\n\n\nSpotlight Heritage Timișoara / Patrimoniul sub reflectoare este o inițiativă culturală digitală a Universității Politehnica Timișoara realizată în parteneriat cu Muzeul Național al Banatului\, parte a Programului Cultural Timișoara 2023 Capitală Europeană a Culturii. Proiect cultural co-finanțat de Municipiul Timișoara prin Centrul de Proiecte\, Consiliul Județean Timiș\, Ministerul Culturii\, EEA and Norway Grants.
URL:https://spotlight-timisoara.eu/en/eveniment/xr-show-decembrie-2023/
CATEGORIES:News,XR Show
ATTACH;FMTTYPE=image/jpeg:https://spotlight-timisoara.eu/wp-content/uploads/2023/11/SH_Closing_2023_Post.jpg
ORGANIZER;CN="Spotlight Heritage Timisoara":MAILTO:contact@spotlight-timisoara.eu
END:VEVENT
END:VCALENDAR