BEGIN:VCALENDAR
VERSION:2.0
PRODID:-//Patrimoniul sub reflectoare Timisoara Spotlight Heritage Timisoara - ECPv6.15.19//NONSGML v1.0//EN
CALSCALE:GREGORIAN
METHOD:PUBLISH
X-ORIGINAL-URL:https://spotlight-timisoara.eu/en
X-WR-CALDESC:Events for Patrimoniul sub reflectoare Timisoara Spotlight Heritage Timisoara
REFRESH-INTERVAL;VALUE=DURATION:PT1H
X-Robots-Tag:noindex
X-PUBLISHED-TTL:PT1H
BEGIN:VTIMEZONE
TZID:Europe/Bucharest
BEGIN:DAYLIGHT
TZOFFSETFROM:+0200
TZOFFSETTO:+0300
TZNAME:EEST
DTSTART:20230326T010000
END:DAYLIGHT
BEGIN:STANDARD
TZOFFSETFROM:+0300
TZOFFSETTO:+0200
TZNAME:EET
DTSTART:20231029T010000
END:STANDARD
BEGIN:DAYLIGHT
TZOFFSETFROM:+0200
TZOFFSETTO:+0300
TZNAME:EEST
DTSTART:20240331T010000
END:DAYLIGHT
BEGIN:STANDARD
TZOFFSETFROM:+0300
TZOFFSETTO:+0200
TZNAME:EET
DTSTART:20241027T010000
END:STANDARD
BEGIN:DAYLIGHT
TZOFFSETFROM:+0200
TZOFFSETTO:+0300
TZNAME:EEST
DTSTART:20250330T010000
END:DAYLIGHT
BEGIN:STANDARD
TZOFFSETFROM:+0300
TZOFFSETTO:+0200
TZNAME:EET
DTSTART:20251026T010000
END:STANDARD
END:VTIMEZONE
BEGIN:VEVENT
DTSTART;TZID=Europe/Bucharest:20240418T110000
DTEND;TZID=Europe/Bucharest:20240421T130000
DTSTAMP:20260421T180011
CREATED:20240412T110518Z
LAST-MODIFIED:20240412T120945Z
UID:34696-1713438000-1713704400@spotlight-timisoara.eu
SUMMARY:De la MECIPT la Realitatea Virtuală: descoperă evoluția tehnologiei!
DESCRIPTION:Universitatea Politehnica Timișoara\, împreună cu Spotlight Heritage Timișoara\, te invită la Zilele Porților Deschise\, unde poți descoperi istoria tehnologiei informaționale\, de la primele calculatoare la realitatea virtuală și ultimele instalații digitale de ultimă generație! \n\n\n\n📅 18 aprilie – 21 iunie 2024\, în fiecare joi și vineri \n\n\n\n🕑 11:00 – 13:00 \n\n\n\n📍 Muzeul Tehnic UPT – ExperimentariumTM\, Splailul Spiru Haret\, Timișoara \n\n\n\n🎟️ Intrarea este liberă \n\n\n\nCe poți explora: \n\n\n\n\nAplicațiile interactive de edutainment din Patrimoniul sub reflectoare:\n\n\n\nUltimele aplicații Spotlight Heritage Timișoara de realitate virtuală (VR) și realitate Mixtă (AR/MR) ;\n\n\n\n Tipare ale Poeziei: descoperă Timișoara prin poezie și culoare (artist: Marius Jurca\, 13m10j);\n\n\n\nInstalații digitale unice\,\n\nPhysic AI Garden: o grădină virtuală dinamică cu plante și ciuperci virtuale (artiști: Anna Dumitriu & Alex May\, în colaborare cu CAPABLE Project și BioArt Revolution\, organizat în cadrul Romanian Science Festival);\n\n\n\nJocuri în AR\, prin care poți interacționa cu obiecte din patrimoniul cultural al orașului;\n\n\n\n\n\nIstoria tehnologiilor informaționale: vizitează MECIPT-1\, primul calculator universitar din România\, dar și toate celelalte aparaturi tehnologice pentru a vedea cu proprii ochi evoluția tehnologică a erei noastre;\n\n\n\n\n Află unde a început totul și cum a arătat primul calculator alfa numeric din mediul universitar din România! Vino să descoperi MECIPT-1\, dar și evoluțiile acestuia în muzeul de calculatoare!  \n\n\n\nDe asemenea\, călătoria nu ar fi una completă dacă nu am ajunge și în prezent\, cu ultimele generații de aplicații și instalații digitale\, realizate de studenți ai Universității Politehnica Timișoara\, în parteneriat cu diferiți artiști locali și internaționali. \n\n\n\nRezervă-ți locul acum! Programează un tur completând formularul următor: https://form.123formbuilder.com/6650682 \n\n\n\nPentru informații suplimentare\, ne poți contacta la: \n\n\n\n📱 (+4)0725 890 988 📧 contact@elearning.upt.ro \n\n\n\n \n\n\n\nSpotlight Heritage Timișoara / Patrimoniul sub reflectoare este o inițiativă culturală digitală a Universității Politehnica Timișoara realizată în parteneriat cu Muzeul Național al Banatului\, parte a Programului Cultural Timișoara 2023 Capitală Europeană a Culturii. Proiect cultural co-finanțat de Municipiul Timișoara prin Centrul de Proiecte\, Consiliul Județean Timiș\, Ministerul Culturii\, EEA and Norway Grants.
URL:https://spotlight-timisoara.eu/en/eveniment/de-la-mecipt-la-realitatea-virtuala-descopera-evolutia-tehnologiei/
LOCATION:Muzeul Tehnic UPT și Experimentarium TM\, Experimentarium TM\, Timisoara\, Timis\, 300750\, România
CATEGORIES:Event,News,XR Show
ATTACH;FMTTYPE=image/jpeg:https://spotlight-timisoara.eu/wp-content/uploads/2024/04/SH_Zilele-Portilor-Deschise_MECIPT_2024_POST.jpg
END:VEVENT
END:VCALENDAR