BEGIN:VCALENDAR
VERSION:2.0
PRODID:-//Patrimoniul sub reflectoare Timisoara Spotlight Heritage Timisoara - ECPv6.15.20//NONSGML v1.0//EN
CALSCALE:GREGORIAN
METHOD:PUBLISH
X-WR-CALNAME:Patrimoniul sub reflectoare Timisoara Spotlight Heritage Timisoara
X-ORIGINAL-URL:https://spotlight-timisoara.eu
X-WR-CALDESC:Evenimente pentru Patrimoniul sub reflectoare Timisoara Spotlight Heritage Timisoara
REFRESH-INTERVAL;VALUE=DURATION:PT1H
X-Robots-Tag:noindex
X-PUBLISHED-TTL:PT1H
BEGIN:VTIMEZONE
TZID:Europe/Bucharest
BEGIN:DAYLIGHT
TZOFFSETFROM:+0200
TZOFFSETTO:+0300
TZNAME:EEST
DTSTART:20210328T010000
END:DAYLIGHT
BEGIN:STANDARD
TZOFFSETFROM:+0300
TZOFFSETTO:+0200
TZNAME:EET
DTSTART:20211031T010000
END:STANDARD
BEGIN:DAYLIGHT
TZOFFSETFROM:+0200
TZOFFSETTO:+0300
TZNAME:EEST
DTSTART:20220327T010000
END:DAYLIGHT
BEGIN:STANDARD
TZOFFSETFROM:+0300
TZOFFSETTO:+0200
TZNAME:EET
DTSTART:20221030T010000
END:STANDARD
BEGIN:DAYLIGHT
TZOFFSETFROM:+0200
TZOFFSETTO:+0300
TZNAME:EEST
DTSTART:20230326T010000
END:DAYLIGHT
BEGIN:STANDARD
TZOFFSETFROM:+0300
TZOFFSETTO:+0200
TZNAME:EET
DTSTART:20231029T010000
END:STANDARD
END:VTIMEZONE
BEGIN:VEVENT
DTSTART;VALUE=DATE:20220825
DTEND;VALUE=DATE:20220826
DTSTAMP:20260425T190410
CREATED:20220825T095432Z
LAST-MODIFIED:20221101T205514Z
UID:29889-1661385600-1661471999@spotlight-timisoara.eu
SUMMARY:În căutarea poveștilor despre Timișoara\, oraș al rozelor - atelier de povești
DESCRIPTION:Proiectul Spotlight Heritage Timisoara a fost descoperit de douăzeci de copii de vârstă școlară mică din satele bănățene Comloșu Mare și Comloșu Mic \, alături de opt cadre didactice și voluntari ai Asociației Colț de Banat\, vizită organizată în cadrul proiectului ”Hambarul cu carte”.\n\n\n\n\nCopiii au participat la un atelier de povești despre Timișoara\, oraș al rozelor\, și un tur ghidat al expoziției 𝐏𝐚𝐭𝐫𝐢𝐦𝐨𝐧𝐢𝐮𝐥 𝐬𝐮𝐛 𝐫𝐞𝐟𝐥𝐞𝐜𝐭𝐨𝐚𝐫𝐞 𝐓𝐢𝐦𝐢𝐬̦𝐨𝐚𝐫𝐚. 𝐂𝐚𝐫𝐭𝐢𝐞𝐫𝐮𝐥 𝐂𝐞𝐭𝐚𝐭𝐞 – 𝐎 𝐥𝐮𝐦𝐞 𝐢̂𝐧 𝐨𝐠𝐥𝐢𝐧𝐝𝐚̆\, de la Mansarda Bastionului Maria Theresia\, dar și al exponatelor din expoziția Spotlight Heritage Timisoara. \n\n\n\nMicii curioși au vizitat și instalația video din camera obscură\, explorând cultura și patrimoniul cartierului Cetate de altădată\, într-un tur interactiv ghidat muzeograful de la Muzeul Național al Banatului\, Marius Cornea.
URL:https://spotlight-timisoara.eu/eveniment/in-cautarea-povestilor-despre-timisoara-oras-al-rozelor-atelier-de-povesti/
LOCATION:Bastionul Maria Theresia\, str. Martin Luther nr. 4\, Timișoara\, Timis\, România
CATEGORIES:News
ATTACH;FMTTYPE=image/jpeg:https://spotlight-timisoara.eu/wp-content/uploads/2022/08/Atelier-de-povesti-Asociatia-Colt-de-Banat-Comlosu-Mare-si-Comlosu-Mic-in-cadrul-proiectului-Hambarul-cu-car-56.jpeg
ORGANIZER;CN="Spotlight Heritage Timisoara":MAILTO:contact@spotlight-timisoara.eu
END:VEVENT
BEGIN:VEVENT
DTSTART;VALUE=DATE:20220825
DTEND;VALUE=DATE:20220826
DTSTAMP:20260425T190410
CREATED:20220825T101201Z
LAST-MODIFIED:20221101T205919Z
UID:29900-1661385600-1661471999@spotlight-timisoara.eu
SUMMARY:Atelier de povești pentru beneficiarii Centrului de Zi de integrare /reintegrare socială al Direcției de Asistență Socială a Municipiului Timișoara
DESCRIPTION:25 de beneficiari ai serviciilor oferite de Centrul de Zi de integrare /reintegrare socială pentru persoane aflate în dificultate al Direcției de Asistență Socială a Municipiului Timișoara\, alături de adulți cu dizabilități de intelect  au participat la un atelier de povești despre orașul Timișoara\, bucurându-se de un tur fizic pentru explorarea istorică și literară a cartierului Cetate.\n\nAceștia au putut testa aplicația de realitate augmentată Spotlight Timișoara pe masa interactivă și tabletele digitale disponibile publicului și au descoperit instalația video din camera obscură\, explorând cultura și patrimoniul orașului de altădată în senzații vizuale speciale\,  într-un tur interactiv ghidat muzeograful de la Muzeul Național al Banatului\, Marius Cornea.
URL:https://spotlight-timisoara.eu/eveniment/atelier-de-povesti-pentru-beneficiarii-centrului-de-zi-de-integrare-reintegrare-sociala-al-directiei-de-asistenta-sociala-a-municipiului-timisoar/
LOCATION:Bastionul Maria Theresia\, str. Martin Luther nr. 4\, Timișoara\, Timis\, România
CATEGORIES:News
ATTACH;FMTTYPE=image/jpeg:https://spotlight-timisoara.eu/wp-content/uploads/2022/08/Atelier-de-povesti-Centru-de-zi-de-integrare-reintegrare-22-1.jpeg
ORGANIZER;CN="Spotlight Heritage Timisoara":MAILTO:contact@spotlight-timisoara.eu
END:VEVENT
END:VCALENDAR