BEGIN:VCALENDAR
VERSION:2.0
PRODID:-//Patrimoniul sub reflectoare Timisoara Spotlight Heritage Timisoara - ECPv6.15.20//NONSGML v1.0//EN
CALSCALE:GREGORIAN
METHOD:PUBLISH
X-WR-CALNAME:Patrimoniul sub reflectoare Timisoara Spotlight Heritage Timisoara
X-ORIGINAL-URL:https://spotlight-timisoara.eu
X-WR-CALDESC:Evenimente pentru Patrimoniul sub reflectoare Timisoara Spotlight Heritage Timisoara
REFRESH-INTERVAL;VALUE=DURATION:PT1H
X-Robots-Tag:noindex
X-PUBLISHED-TTL:PT1H
BEGIN:VTIMEZONE
TZID:Europe/Bucharest
BEGIN:DAYLIGHT
TZOFFSETFROM:+0200
TZOFFSETTO:+0300
TZNAME:EEST
DTSTART:20210328T010000
END:DAYLIGHT
BEGIN:STANDARD
TZOFFSETFROM:+0300
TZOFFSETTO:+0200
TZNAME:EET
DTSTART:20211031T010000
END:STANDARD
BEGIN:DAYLIGHT
TZOFFSETFROM:+0200
TZOFFSETTO:+0300
TZNAME:EEST
DTSTART:20220327T010000
END:DAYLIGHT
BEGIN:STANDARD
TZOFFSETFROM:+0300
TZOFFSETTO:+0200
TZNAME:EET
DTSTART:20221030T010000
END:STANDARD
BEGIN:DAYLIGHT
TZOFFSETFROM:+0200
TZOFFSETTO:+0300
TZNAME:EEST
DTSTART:20230326T010000
END:DAYLIGHT
BEGIN:STANDARD
TZOFFSETFROM:+0300
TZOFFSETTO:+0200
TZNAME:EET
DTSTART:20231029T010000
END:STANDARD
END:VTIMEZONE
BEGIN:VEVENT
DTSTART;VALUE=DATE:20220909
DTEND;VALUE=DATE:20220910
DTSTAMP:20260425T174938
CREATED:20220911T185031Z
LAST-MODIFIED:20221101T210706Z
UID:29987-1662681600-1662767999@spotlight-timisoara.eu
SUMMARY:Primul ghidaj susținut de adolescenți voluntari ai Clubului Impact Shakespeare
DESCRIPTION:În data de 9 septembrie 2022 a avut loc primul ghidaj  al expoziției “Patrimoniul sub reflectoare Timișoara. Cartierul Cetate – O lume în oglindă”\, susținut de 5 adolescenți voluntari din Clubul Impact Shakespeare\, pentru colegii lor din clasa a VIII-a. \nGhidajul a fost realizat la Muzeul Național al Banatului\, pentru 31 elevi și 2 profesori de la Liceul Shakespeare\, în prezența muzeografului Marius Cornea\, așa cum v-am obișnuit. \n\n\n 
URL:https://spotlight-timisoara.eu/eveniment/tur-ghidat-si-antrenament-cu-elevii-clubului-impact-shakespeare-6/
LOCATION:Bastionul Maria Theresia\, str. Martin Luther nr. 4\, Timișoara\, Timis\, România
CATEGORIES:News
ATTACH;FMTTYPE=image/jpeg:https://spotlight-timisoara.eu/wp-content/uploads/2022/09/DSCF5416-scaled.jpg
ORGANIZER;CN="Spotlight Heritage Timisoara":MAILTO:contact@spotlight-timisoara.eu
END:VEVENT
END:VCALENDAR