BEGIN:VCALENDAR
VERSION:2.0
PRODID:-//Patrimoniul sub reflectoare Timisoara Spotlight Heritage Timisoara - ECPv6.15.20//NONSGML v1.0//EN
CALSCALE:GREGORIAN
METHOD:PUBLISH
X-WR-CALNAME:Patrimoniul sub reflectoare Timisoara Spotlight Heritage Timisoara
X-ORIGINAL-URL:https://spotlight-timisoara.eu
X-WR-CALDESC:Evenimente pentru Patrimoniul sub reflectoare Timisoara Spotlight Heritage Timisoara
REFRESH-INTERVAL;VALUE=DURATION:PT1H
X-Robots-Tag:noindex
X-PUBLISHED-TTL:PT1H
BEGIN:VTIMEZONE
TZID:Europe/Bucharest
BEGIN:DAYLIGHT
TZOFFSETFROM:+0200
TZOFFSETTO:+0300
TZNAME:EEST
DTSTART:20210328T010000
END:DAYLIGHT
BEGIN:STANDARD
TZOFFSETFROM:+0300
TZOFFSETTO:+0200
TZNAME:EET
DTSTART:20211031T010000
END:STANDARD
BEGIN:DAYLIGHT
TZOFFSETFROM:+0200
TZOFFSETTO:+0300
TZNAME:EEST
DTSTART:20220327T010000
END:DAYLIGHT
BEGIN:STANDARD
TZOFFSETFROM:+0300
TZOFFSETTO:+0200
TZNAME:EET
DTSTART:20221030T010000
END:STANDARD
BEGIN:DAYLIGHT
TZOFFSETFROM:+0200
TZOFFSETTO:+0300
TZNAME:EEST
DTSTART:20230326T010000
END:DAYLIGHT
BEGIN:STANDARD
TZOFFSETFROM:+0300
TZOFFSETTO:+0200
TZNAME:EET
DTSTART:20231029T010000
END:STANDARD
END:VTIMEZONE
BEGIN:VEVENT
DTSTART;VALUE=DATE:20220923
DTEND;VALUE=DATE:20220924
DTSTAMP:20260425T174912
CREATED:20220926T184118Z
LAST-MODIFIED:20221101T212047Z
UID:30248-1663891200-1663977599@spotlight-timisoara.eu
SUMMARY:Antrenament cu adolescenții voluntari ai Clubului Impact Shakespeare pe itinerariul fizic al cartierului Cetate
DESCRIPTION:În data de 23 septembrie 2022 a avut loc primul antrenament pentru ghidajul expoziției stradale “Patrimoniul sub reflectoare Timișoara. Cartierul Cetate – O lume în oglindă”. \n\nMarius cornea\, împreună cu adolescenții voluntari ai Clubului Impact Shakespeare\, au parcurs itinerariul fizic al cartierului Cetate\, pregătind tururile destinate publicului\, în care tinerii vor avea rolul de ghid.
URL:https://spotlight-timisoara.eu/eveniment/antrenament-cu-adolescentii-voluntari-ai-clubului-impact-shakespeare-pe-itinerariul-fizic-al-cartierului-cetate/
LOCATION:Cartier Cetate\, Timișoara\, Timis\, România
CATEGORIES:News
ATTACH;FMTTYPE=image/jpeg:https://spotlight-timisoara.eu/wp-content/uploads/2022/09/Antrenament-cu-adolescentii-din-Clubul-Impact-Shakespeare-pe-strazile-orasului-9.jpeg
ORGANIZER;CN="Spotlight Heritage Timisoara":MAILTO:contact@spotlight-timisoara.eu
END:VEVENT
END:VCALENDAR