BEGIN:VCALENDAR
VERSION:2.0
PRODID:-//Patrimoniul sub reflectoare Timisoara Spotlight Heritage Timisoara - ECPv6.15.20//NONSGML v1.0//EN
CALSCALE:GREGORIAN
METHOD:PUBLISH
X-WR-CALNAME:Patrimoniul sub reflectoare Timisoara Spotlight Heritage Timisoara
X-ORIGINAL-URL:https://spotlight-timisoara.eu
X-WR-CALDESC:Evenimente pentru Patrimoniul sub reflectoare Timisoara Spotlight Heritage Timisoara
REFRESH-INTERVAL;VALUE=DURATION:PT1H
X-Robots-Tag:noindex
X-PUBLISHED-TTL:PT1H
BEGIN:VTIMEZONE
TZID:Europe/Bucharest
BEGIN:DAYLIGHT
TZOFFSETFROM:+0200
TZOFFSETTO:+0300
TZNAME:EEST
DTSTART:20210328T010000
END:DAYLIGHT
BEGIN:STANDARD
TZOFFSETFROM:+0300
TZOFFSETTO:+0200
TZNAME:EET
DTSTART:20211031T010000
END:STANDARD
BEGIN:DAYLIGHT
TZOFFSETFROM:+0200
TZOFFSETTO:+0300
TZNAME:EEST
DTSTART:20220327T010000
END:DAYLIGHT
BEGIN:STANDARD
TZOFFSETFROM:+0300
TZOFFSETTO:+0200
TZNAME:EET
DTSTART:20221030T010000
END:STANDARD
BEGIN:DAYLIGHT
TZOFFSETFROM:+0200
TZOFFSETTO:+0300
TZNAME:EEST
DTSTART:20230326T010000
END:DAYLIGHT
BEGIN:STANDARD
TZOFFSETFROM:+0300
TZOFFSETTO:+0200
TZNAME:EET
DTSTART:20231029T010000
END:STANDARD
END:VTIMEZONE
BEGIN:VEVENT
DTSTART;VALUE=DATE:20221019
DTEND;VALUE=DATE:20221020
DTSTAMP:20260425T141754
CREATED:20221020T124759Z
LAST-MODIFIED:20221128T150005Z
UID:30683-1666137600-1666223999@spotlight-timisoara.eu
SUMMARY:Primele ghidaje pe itinerariul fizic al cartierului Cetate cu adolescenții voluntari ai Clubului Impact Shakespeare
DESCRIPTION:În data de 19 Octombrie 2022 au avut loc primele patru ghidaje ale expoziției stradale “Patrimoniul sub reflectoare Timișoara. Cartierul Cetate – O lume în oglindă”\, susținute de elevii voluntari ai Clubului Impact Shakespeare. \nZiua a început cu un grup de 27 de elevi de clasa a V-a și un profesor de la Școala Gimnazială Sânandrei\, iar punctul de plecare a fost Piața Unirii. Elevii au fost împărțiți în două grupuri. \n\n\n\n			\n				\n			\n			\n				\n			\n			\n				\n			\n			\n				\n			\n			\n				\n			\n			\n				\n			\n		\n\nAl doilea grup de vizitatori a venit de la Liceul Teoretic „William Shakespeare” și a fost format din 20 de elevi de clasa a III-a și un însoțitor. Și această clasă a fost împărțită în două grupuri. \n\n			\n				\n			\n			\n				\n			\n			\n				\n			\n			\n				\n			\n			\n				\n			\n			\n				\n			\n		\n\nPentru al treila grup\, ghizii voluntari au împărți din nou\, în două grupuri separate pe cei 24 de tineri vizitatori clasa a V-a\, de la Liceul Teoretic „William Shakespeare”. \n\n			\n				\n			\n			\n				\n			\n			\n				\n			\n			\n				\n			\n			\n				\n			\n			\n				\n			\n		\n\nUltimul grup pentru această zi a format din 14 elevi și 2 însoțitori de la Școala Gimnazială Banloc\, care a fost împărțit la rândul său\, în alte două grupuri. \n\n			\n				\n			\n			\n				\n			\n			\n				\n			\n			\n				\n			\n			\n				\n			\n		\n\nA fost o zi intensă pentru ghizii voluntari ai Clubului Impact Shakespeare\, cu patru ghidaje diferite\, care au parcurs întreg itinerariul fizic al cartierului. Ghidajele au inclus povești ale orașului de altădată și diferite jocuri educative pentru cei 85 de elevi prezenți\, beneficiari ai acestor itinerarii.
URL:https://spotlight-timisoara.eu/eveniment/primele-ghidaje-pe-itinerariul-fizic-al-cartierului-cetate-cu-adolescentii-voluntari-ai-clubului-impact-shakespeare/
LOCATION:Cartier Cetate\, Timișoara\, Timis\, România
CATEGORIES:News
ATTACH;FMTTYPE=image/jpeg:https://spotlight-timisoara.eu/wp-content/uploads/2022/11/Primul-grup-Sanandrei-clasa-aV-a-1.jpeg
ORGANIZER;CN="Spotlight Heritage Timisoara":MAILTO:contact@spotlight-timisoara.eu
END:VEVENT
END:VCALENDAR