BEGIN:VCALENDAR
VERSION:2.0
PRODID:-//Patrimoniul sub reflectoare Timisoara Spotlight Heritage Timisoara - ECPv6.15.19//NONSGML v1.0//EN
CALSCALE:GREGORIAN
METHOD:PUBLISH
X-ORIGINAL-URL:https://spotlight-timisoara.eu
X-WR-CALDESC:Evenimente pentru Patrimoniul sub reflectoare Timisoara Spotlight Heritage Timisoara
REFRESH-INTERVAL;VALUE=DURATION:PT1H
X-Robots-Tag:noindex
X-PUBLISHED-TTL:PT1H
BEGIN:VTIMEZONE
TZID:Europe/Bucharest
BEGIN:DAYLIGHT
TZOFFSETFROM:+0200
TZOFFSETTO:+0300
TZNAME:EEST
DTSTART:20210328T010000
END:DAYLIGHT
BEGIN:STANDARD
TZOFFSETFROM:+0300
TZOFFSETTO:+0200
TZNAME:EET
DTSTART:20211031T010000
END:STANDARD
BEGIN:DAYLIGHT
TZOFFSETFROM:+0200
TZOFFSETTO:+0300
TZNAME:EEST
DTSTART:20220327T010000
END:DAYLIGHT
BEGIN:STANDARD
TZOFFSETFROM:+0300
TZOFFSETTO:+0200
TZNAME:EET
DTSTART:20221030T010000
END:STANDARD
BEGIN:DAYLIGHT
TZOFFSETFROM:+0200
TZOFFSETTO:+0300
TZNAME:EEST
DTSTART:20230326T010000
END:DAYLIGHT
BEGIN:STANDARD
TZOFFSETFROM:+0300
TZOFFSETTO:+0200
TZNAME:EET
DTSTART:20231029T010000
END:STANDARD
BEGIN:DAYLIGHT
TZOFFSETFROM:+0200
TZOFFSETTO:+0300
TZNAME:EEST
DTSTART:20240331T010000
END:DAYLIGHT
BEGIN:STANDARD
TZOFFSETFROM:+0300
TZOFFSETTO:+0200
TZNAME:EET
DTSTART:20241027T010000
END:STANDARD
END:VTIMEZONE
BEGIN:VEVENT
DTSTART;VALUE=DATE:20221125
DTEND;VALUE=DATE:20230225
DTSTAMP:20260419T171927
CREATED:20221120T165938Z
LAST-MODIFIED:20221128T201640Z
UID:30792-1669334400-1677283199@spotlight-timisoara.eu
SUMMARY:Spotlight Heritage Timișoara în Varșovia
DESCRIPTION:Cu ocazia Zilei Naționale a României\, ICR Varșovia\, Ambasada României în Republica Polonă\, Universitatea Politehnica Timișoara și Muzeul Național al Banatului organizează o expoziție în aer liber dedicată orașului Timișoara\, care are o tradiție multietnică și pluriconfesională reflectată în patrimoniul construit și în coexistența armonioasă a patru comunități cultural-lingvistice: română\, maghiară\, germană și sârbă – expoziția ”Spotlight Heritage Timișoara”\, proiect care face parte din programul Timișoara 2023\, Capitală Europeană a Culturii.\n\nExpoziția va fi prezentată în avanpremieră în data de 25 noiembrie\, cu ocazia recepției de Ziua Națională a României\, oferită de Ambasada României în Republica Polonă. Aceasta va putea fi vizitată pe simezele exterioare de la Ambasada României de la Varșovia\, care găzduiește și Institutul Cultural Român de la Varșovia (strada Fryderyka Chopina 10)\, în perioada 29 noiembrie 2022 – 28 februarie 2023.\n\n\n\nPrin această expoziție\, dorim să sporim interesul publicului larg față de cartierele istorice ale Timișoarei\, prin utilizarea și povestirea digitală pentru a da posibilitatea localnicilor și turiștilor să vadă\, să audă\, să simtă\, să acționeze\, să co-creeze și să interiorizeze orașul. Afișele stradale cu informații și povești despre patrimoniul cultural și istoric al orașului Timișoara sunt expuse atât în limba engleză\, cât și poloneză.\n\n\nPatrimoniul sub reflectoare / Spotlight Heritage Timișoara spune multiplele povești ale Timișoarei prin intermediul tehnologiilor digitale. Povești ale patrimoniului cultural și istoric împletite cu cele personale ale locuitorilor de ieri și de azi prin suprapunerea digitală a patrimoniului imaterial ce se regăsește în romane\, amintiri și istoria orală. An de an\, itinerarii digitale și fizice prin cartierele istorice ale Timișoarei -Iosefin în 2019\, Elisabetin în 2020\, Fabric în 2021\, Cetate în 2022 și\, în 2023\, toate cartierele din anii precedenți și Giroc \, dezvăluie poveștile orașului prin mai multe straturi: o expoziție muzeală\, expoziții stradale\, un site web\, o aplicație mobilă\, o aplicație de realitate augmentată\, demonstrații de realitate virtuală\, concurs studențesc\, festivaluri internaționale\, spectacole de teatru și dans stradal\, evenimente și instalații digitale\, tururi ghidate și virtuale. Proiectul se va încheia cu un catalog final.\n\n\n\nPatrimoniul sub reflectoare / Spotlight Heritage Timișoara este o inițiativă culturală digitală a Universității Politehnica Timișoara realizată în parteneriat cu Muzeul Național al Banatului\, parte a Programului Cultural Timișoara 2023 Capitală Europeană a Culturii. Proiect cultural co-finanțat de Municipiul Timișoara prin Centrul de Proiecte\, Consiliul Județean Timiș. În Polonia\, proiectul este prezentat la inițiativa Institutului Cultural Român de la Varșovia.\n\n\n\n\nAflă mai multe detalii despre eveniment aici.
URL:https://spotlight-timisoara.eu/eveniment/spotlight-heritage-timisoara-in-varsovia/
LOCATION:Ambasada României de la Varșovia\, strada Fryderyka Chopina 10\, Varșovia\, Polonia
CATEGORIES:Event,Expoziții Internaționale
ATTACH;FMTTYPE=image/jpeg:https://spotlight-timisoara.eu/wp-content/uploads/2022/11/SH_Varsovia_Post.jpg
ORGANIZER;CN="Spotlight Heritage Timisoara":MAILTO:contact@spotlight-timisoara.eu
END:VEVENT
BEGIN:VEVENT
DTSTART;TZID=Europe/Bucharest:20221129T000000
DTEND;TZID=Europe/Bucharest:20221129T235959
DTSTAMP:20260419T171928
CREATED:20240220T115824Z
LAST-MODIFIED:20240220T115825Z
UID:34387-1669680000-1669766399@spotlight-timisoara.eu
SUMMARY:Ziua Culturii Naționale sărbătorită de Institutul Cultural Român prin 50 de evenimente organizate în lume
DESCRIPTION:Între 21 noiembrie și 10 decembrie 2022\, timp de trei săptămâni\, Institutul Cultural Român organizează 50 de evenimente care marchează\, în 31 de orașe din străinătate\, Ziua Națională a României. Evenimentele organizate de ICR prin reprezentanțele sale din străinătate și prin Direcția Relații Internaționale au loc în colaborare cu misiunile diplomatice ale României din țările de reședință. \n\n\n\nPe 25 noiembrie 2022\, ICR Varșovia\, Ambasada României în Republica Polonă\, Universitatea Politehnica Timișoara și Muzeul Național al Banatului organizează avanpremiera expoziției „Spotlight Heritage Timișoara”. Proiectul\, parte din programul oficial „Timișoara 2023 – Capitală Europeană a Culturii”\, care evocă cele mai importante monumente de arhitectură din centrul orașului\, dar și din cartierele istorice (Elisabetin\, Fabric\, Iosefin\, Cetate). \n\n\n\nAn de an\, proiectul „Patrimoniul sub reflectoare – Spotlight Heritage Timișoara” spune multiplele povești ale Timișoarei prin intermediul tehnologiilor digitale. Povești ale patrimoniului cultural și istoric se împletesc cu cele ale locuitorilor de ieri și de azi prin suprapunerea digitală a patrimoniului imaterial ce se regăsește în romane\, amintiri și istoria orală. \n\n\n\nVezi anunțul oficial ICR AICI. \n\n\n\nComponentele digitale ale proiectului sunt accesibile online la adresa https://spotlight-timisoara.eu/ și prin aplicațiile mobile care pot fi descărcate din magazinele Android și Apple\, căutând „Spotlight Timișoara” sau scanând codul QR alăturat acestui comunicat. \n\n\n\n\nLink aplicații pentru utilizatorii Android: https://is.gd/SjiIgv \n\n\n\nLink aplicații pentru utilizatorii iOS: https://is.gd/y6JxeV \n\n\n\n\nInformații despre eveniment sunt disponibile și pe: \n\n\n\n\nPagina web: https://spotlight-timisoara.eu/\n\n\n\nFacebook: https://www.facebook.com/SpotlightHeritageTimisoara/\n\n\n\nTwitter: @spotlight_TM21\n\n\n\nInstagram: @spotlight_tm
URL:https://spotlight-timisoara.eu/eveniment/ziua-culturii-nationale-sarbatorita-de-institutul-cultural-roman-prin-50-de-evenimente-organizate-in-lume/
CATEGORIES:News
ATTACH;FMTTYPE=image/jpeg:https://spotlight-timisoara.eu/wp-content/uploads/2022/11/SH_Varsovia_Post.jpg
ORGANIZER;CN="Spotlight Heritage Timisoara":MAILTO:contact@spotlight-timisoara.eu
END:VEVENT
END:VCALENDAR