BEGIN:VCALENDAR
VERSION:2.0
PRODID:-//Patrimoniul sub reflectoare Timisoara Spotlight Heritage Timisoara - ECPv6.15.19//NONSGML v1.0//EN
CALSCALE:GREGORIAN
METHOD:PUBLISH
X-ORIGINAL-URL:https://spotlight-timisoara.eu
X-WR-CALDESC:Evenimente pentru Patrimoniul sub reflectoare Timisoara Spotlight Heritage Timisoara
REFRESH-INTERVAL;VALUE=DURATION:PT1H
X-Robots-Tag:noindex
X-PUBLISHED-TTL:PT1H
BEGIN:VTIMEZONE
TZID:Europe/Bucharest
BEGIN:DAYLIGHT
TZOFFSETFROM:+0200
TZOFFSETTO:+0300
TZNAME:EEST
DTSTART:20220327T010000
END:DAYLIGHT
BEGIN:STANDARD
TZOFFSETFROM:+0300
TZOFFSETTO:+0200
TZNAME:EET
DTSTART:20221030T010000
END:STANDARD
BEGIN:DAYLIGHT
TZOFFSETFROM:+0200
TZOFFSETTO:+0300
TZNAME:EEST
DTSTART:20230326T010000
END:DAYLIGHT
BEGIN:STANDARD
TZOFFSETFROM:+0300
TZOFFSETTO:+0200
TZNAME:EET
DTSTART:20231029T010000
END:STANDARD
BEGIN:DAYLIGHT
TZOFFSETFROM:+0200
TZOFFSETTO:+0300
TZNAME:EEST
DTSTART:20240331T010000
END:DAYLIGHT
BEGIN:STANDARD
TZOFFSETFROM:+0300
TZOFFSETTO:+0200
TZNAME:EET
DTSTART:20241027T010000
END:STANDARD
END:VTIMEZONE
BEGIN:VEVENT
DTSTART;TZID=Europe/Bucharest:20231115T000000
DTEND;TZID=Europe/Bucharest:20231115T235959
DTSTAMP:20260420T200203
CREATED:20231116T150101Z
LAST-MODIFIED:20231118T082632Z
UID:33354-1700006400-1700092799@spotlight-timisoara.eu
SUMMARY:Spotlight Heritage Timișoara prezent la conferința Partenalia: o experiență digitală captivantă a patrimoniului cultural local
DESCRIPTION:La conferința Partenalia din 15 noiembrie 2023\, care a avut loc la Timișoara\, organizaă de Consiliul Județean Timiș\, dr. Diana Andone\, directorul Centrului de ID/IFR și e-Learning\, de la Universitatea Politehnica Timișoara\, a vorbit despre proiectul Spotlight Heritage Timișoara. \n\n\n\nÎn cadrul prezentării sale\, a fost subliniată importanța utilizării tehnologiilor digitale pentru promovarea și conservarea patrimoniului cultural local. Ea a prezentat proiectul Spotlight Heritage Timișoara\, care utilizează realitatea virtuală (VR) și realitatea augmentată (AR) pentru a oferi vizitatorilor o experiență interactivă și captivantă a patrimoniului cultural al orașului Timișoara. \n\n\n\nProiectul Spotlight Heritage Timișoara include o serie de aplicații VR și AR care permit vizitatorilor să exploreze obiectivele turistice importante ale orașului\, cum ar fi Sinagoga din cartierul Cetate\, Biserica Millenium din cartierul Fabric sau Opera Națională Română. Aplicațiile sunt disponibile gratuit pentru dispozitivele mobile și pot fi descărcate de pe site-ul proiectului. \n\n\n\nÎn cadrul conferinței\, participanții au avut ocazia să testeze aplicațiile VR și AR marca Spotlight Heritage. Ei au fost impresionați de realismul și interactivitatea aplicațiilor\, care le-au oferit o experiență unică de vizitare a obiectivelor turistice din Timișoara. \n\n\n\nConferința Partenalia a fost o oportunitate excelentă pentru dr. Diana Andone de a prezenta proiectul Spotlight Heritage Timișoara unui public larg de reprezentanți ai guvernelor locale intermediare din România și din alte țări europene. Proiectul a fost primit cu interes de către participanți\, care au apreciat potențialul său de a promova și conserva patrimoniul cultural local. \n\n\n\nProiectul Spotlight Heritage Timișoara este un exemplu excelent al modului în care tehnologiile digitale pot fi utilizate pentru a promova și conserva patrimoniul cultural local. Aplicațiile VR și AR oferă o experiență interactivă și captivantă care poate ajuta vizitatorii să înțeleagă mai bine istoria și cultura orașului. \n\n\n\nPrin intermediul proiectului Spotlight Heritage Timișoara\, Universitatea Politehnica Timișoara contribuie la promovarea patrimoniului cultural local și la crearea unei experiențe de vizitare mai bogate și mai captivante pentru turiști. \n\n\n\nMai multe informații despre Partenalia găsiți AICI. \n\n\n\nComponentele digitale ale proiectului sunt accesibile online la adresa https://spotlight-timisoara.eu/ și prin aplicațiile mobile care pot fi descărcate din magazinele Android și Apple sau căutând „Spotlight Heritage Timișoara”.
URL:https://spotlight-timisoara.eu/eveniment/spotlight-heritage-timisoara-partenalia/
LOCATION:Consiliul Județean Timiș\, Bulevardul Revoluției din 1989 nr. 17\, Timișoara\, Timis\, 300034\, România
CATEGORIES:News
ATTACH;FMTTYPE=image/jpeg:https://spotlight-timisoara.eu/wp-content/uploads/2023/11/Fotografii_CJT_Valencia_Event_15-nov-2023-56-of-56-1-scaled.jpg
END:VEVENT
END:VCALENDAR