BEGIN:VCALENDAR
VERSION:2.0
PRODID:-//Patrimoniul sub reflectoare Timisoara Spotlight Heritage Timisoara - ECPv6.15.19//NONSGML v1.0//EN
CALSCALE:GREGORIAN
METHOD:PUBLISH
X-WR-CALNAME:Patrimoniul sub reflectoare Timisoara Spotlight Heritage Timisoara
X-ORIGINAL-URL:https://spotlight-timisoara.eu
X-WR-CALDESC:Evenimente pentru Patrimoniul sub reflectoare Timisoara Spotlight Heritage Timisoara
REFRESH-INTERVAL;VALUE=DURATION:PT1H
X-Robots-Tag:noindex
X-PUBLISHED-TTL:PT1H
BEGIN:VTIMEZONE
TZID:Europe/Bucharest
BEGIN:DAYLIGHT
TZOFFSETFROM:+0200
TZOFFSETTO:+0300
TZNAME:EEST
DTSTART:20220327T010000
END:DAYLIGHT
BEGIN:STANDARD
TZOFFSETFROM:+0300
TZOFFSETTO:+0200
TZNAME:EET
DTSTART:20221030T010000
END:STANDARD
BEGIN:DAYLIGHT
TZOFFSETFROM:+0200
TZOFFSETTO:+0300
TZNAME:EEST
DTSTART:20230326T010000
END:DAYLIGHT
BEGIN:STANDARD
TZOFFSETFROM:+0300
TZOFFSETTO:+0200
TZNAME:EET
DTSTART:20231029T010000
END:STANDARD
BEGIN:DAYLIGHT
TZOFFSETFROM:+0200
TZOFFSETTO:+0300
TZNAME:EEST
DTSTART:20240331T010000
END:DAYLIGHT
BEGIN:STANDARD
TZOFFSETFROM:+0300
TZOFFSETTO:+0200
TZNAME:EET
DTSTART:20241027T010000
END:STANDARD
END:VTIMEZONE
BEGIN:VEVENT
DTSTART;TZID=Europe/Bucharest:20231214T000000
DTEND;TZID=Europe/Bucharest:20231214T235959
DTSTAMP:20260423T004957
CREATED:20240129T100406Z
LAST-MODIFIED:20240214T091758Z
UID:34006-1702512000-1702598399@spotlight-timisoara.eu
SUMMARY:Jocuri digitale și interacțiuni live cu patrimoniul cultural al orașului la spectacolele Spotlight Heritage Timișoara
DESCRIPTION:Spotlight Heritage Timișoara a redefinit experiența culturală prin introducerea unor jocuri digitale pe mobil la cele 4 spectacole organizate\, oferind publicului o modalitate inedită de a descoperi și a se conecta cu patrimoniul cultural al Timișoarei. \n\n\n\nFiecare spectacol a fost însoțit de un joc digital dedicat\, proiectat să aducă noi perspective asupra cunoașterii istoriei comunităților cultural-lingvistice din Timișoara. Aceste jocuri\, accesibile tuturor categoriilor de public\, au oferit participanților o experiență interactivă\, stimulantă și educativă tuturor participanților care au fost dispuși să le încerce. Aceste jocuri au captivat atenția a 179 de participanți care au inițiat jocurile\, dintre care 103 au răspuns corect la întrebări. \n\n\n\nÎn cadrul evenimentelor\, publicul a fost invitat să interacționeze cu aplicația mobilă de tip joc\, răspunzând la întrebări\, recunoscând personaje și povești\, și votând pentru interacțiunea cu actorii în timp real. Această modalitate de implicare activă a creat o atmosferă unică și a oferit publicului o ocazie unică de a fi parte integrantă a spectacolului. \n\n\n\nUn aspect deosebit al acestei inițiative a fost distribuirea unor obiecte marca Spotlight Heritage Timișoara participanților care au răspuns corect la întrebările jocului\, precum: căni\, magneți\, plase și stickere. Aceste suveniruri au devenit nu doar amintiri palpabile\, ci și simboluri ale angajamentului fiecărei persoane în explorarea\, creionarea de povești și promovarea patrimoniului cultural al Timișoarei. \n\n\n\nDe asemenea\, un alt element distinctiv a fost posibilitatea de a comunica direct cu actorii și creatorii de conținut digital\, oferindu-le celor care au răspuns corect șansa de a discuta și de a se conecta personal cu oamenii din spatele acestor spectacole și inițiative culturale\, creând astfel noi legături și povești\, îmbăgățind pas cu pas și cu fiecare interacțiune poveștile și istoria ce definește Timișoara așa cum este ea – spusă prin oameni. \n\n\n\nStatisticile pentru fiecare spectacol pot fi regăsite mai jos:  \n\n\n\n\nSpectacol 2 Mai 2023: 85 persoane au inițiat jocul\, 41 persoane au răspuns corect la joc.\n\n\n\nSpectacol 23 iulie 2023: 47 persoane au inițiat jocul\, 29 persoane au răspuns corect la joc.\n\n\n\nSpectacol 5 noiembrie 2023: 24 persoane au inițiat jocul\, 16 persoane au răspuns corect la joc.\n\n\n\nSpectacol 10 decembrie 2023: 23 persoane au inițiat jocul\, 17 persoane au răspuns corect la joc.\n\n\n\n\nAceaste inițiative au fost realizate pentru a ajuta la descoltarea continuă și pentru a deschide noi orizonturi în privința modului în care publicul interacționează și învață despre moștenirea culturală a Timișoarei.  \n\n\n\nComponentele digitale ale proiectului sunt accesibile online la adresa https://spotlight-timisoara.eu/ și prin aplicațiile mobile care pot fi descărcate din magazinele Android și Apple\, căutând „Spotlight Timișoara” sau scanând codul QR alăturat acestui comunicat. \n\n\n\n●  Link aplicații pentru utilizatorii Android: https://is.gd/SjiIgv  \n\n\n\n●  Link aplicații pentru utilizatorii iOS: https://is.gd/y6JxeV  \n\n\n\nInformații despre eveniment sunt disponibile și pe: \n\n\n\n●  Pagina web: https://spotlight-timisoara.eu/ \n\n\n\n●  Facebook: https://www.facebook.com/SpotlightHeritageTimisoara/ \n\n\n\n●  Twitter: @spotlight_TM21 \n\n\n\n●  Instagram: @spotlight_tm \n\n\n\n\n\n			\n				\n			\n		\n\n\n\n\n			\n				\n			\n		\n\n\n\n\n			\n				\n			\n		\n\n\n\n\n			\n				\n			\n		\n\n\n\n\n			\n				\n			\n		\n\n\n\n\n			\n				\n			\n		\n\n\n\n\n			\n				\n			\n		\n\n\n\n\n			\n				\n			\n		\n\n\n\n\n			\n				\n			\n		\n\n\n\n\n			\n				\n			\n		\n\n\n\n\n			\n				\n			\n		\n\n\n\n\n			\n				\n			\n		\n\n\n\n\n			\n				\n			\n		\n\n\n\n\n			\n				\n			\n		\n\n\n\n\n			\n				\n			\n		\n\n\n\n\nPatrimoniul sub reflectoare / Spotlight Heritage Timișoara este o inițiativă culturală digitală a Universității Politehnica Timișoara realizată în parteneriat cu Muzeul Național al Banatului\, parte a Programului Cultural Timișoara 2023 Capitală Europeană a Culturii. Proiect cultural co-finanțat de Municipiul Timișoara prin Centrul de Proiecte\, Consiliul Județean Timiș\, Ministerul Culturii\, EEA and Norway Grants.
URL:https://spotlight-timisoara.eu/eveniment/jocuri-digitale-si-interactiuni-live-cu-patrimoniul-cultural-al-orasului-la-spectacolele-spotlight-heritage-timisoara/
CATEGORIES:News,XR Show,XR Show
ATTACH;FMTTYPE=image/jpeg:https://spotlight-timisoara.eu/wp-content/uploads/2024/01/DSCF9242-scaled.jpg
END:VEVENT
END:VCALENDAR