BEGIN:VCALENDAR
VERSION:2.0
PRODID:-//Patrimoniul sub reflectoare Timisoara Spotlight Heritage Timisoara - ECPv6.15.19//NONSGML v1.0//EN
CALSCALE:GREGORIAN
METHOD:PUBLISH
X-WR-CALNAME:Patrimoniul sub reflectoare Timisoara Spotlight Heritage Timisoara
X-ORIGINAL-URL:https://spotlight-timisoara.eu
X-WR-CALDESC:Evenimente pentru Patrimoniul sub reflectoare Timisoara Spotlight Heritage Timisoara
REFRESH-INTERVAL;VALUE=DURATION:PT1H
X-Robots-Tag:noindex
X-PUBLISHED-TTL:PT1H
BEGIN:VTIMEZONE
TZID:Europe/Bucharest
BEGIN:DAYLIGHT
TZOFFSETFROM:+0200
TZOFFSETTO:+0300
TZNAME:EEST
DTSTART:20240331T010000
END:DAYLIGHT
BEGIN:STANDARD
TZOFFSETFROM:+0300
TZOFFSETTO:+0200
TZNAME:EET
DTSTART:20241027T010000
END:STANDARD
BEGIN:DAYLIGHT
TZOFFSETFROM:+0200
TZOFFSETTO:+0300
TZNAME:EEST
DTSTART:20250330T010000
END:DAYLIGHT
BEGIN:STANDARD
TZOFFSETFROM:+0300
TZOFFSETTO:+0200
TZNAME:EET
DTSTART:20251026T010000
END:STANDARD
BEGIN:DAYLIGHT
TZOFFSETFROM:+0200
TZOFFSETTO:+0300
TZNAME:EEST
DTSTART:20260329T010000
END:DAYLIGHT
BEGIN:STANDARD
TZOFFSETFROM:+0300
TZOFFSETTO:+0200
TZNAME:EET
DTSTART:20261025T010000
END:STANDARD
END:VTIMEZONE
BEGIN:VEVENT
DTSTART;TZID=Europe/Bucharest:20250411T080000
DTEND;TZID=Europe/Bucharest:20250411T170000
DTSTAMP:20260420T191027
CREATED:20250407T081831Z
LAST-MODIFIED:20250411T082150Z
UID:35220-1744358400-1744390800@spotlight-timisoara.eu
SUMMARY:Tur ghidat pentru zeci de elevi din Timișoara și Germania
DESCRIPTION:Luni\, 7 aprilie 2025\, zeci de elevi de la Liceul Nikolaus Lenau din Timișoara\, alături de colegii lor din Germania\, au avut parte de o experiență educațională inedită\, facilitată de echipa Spotlight Heritage Timișoara. Vizita\, găzduită de Muzeul Tehnic UPT\, a culminat cu o explorare interactivă a patrimoniului local prin intermediul tehnologiilor de ultimă generație. \n\n\n\nPunctul central al vizitei l-a reprezentat interacțiunea directă cu aplicațiile inovatoare dezvoltate de Spotlight Heritage Timișoara: Elevii s-au transformat în turiști virtuali\, explorând Timișoara în #lumeadigitala prin intermediul realității virtuale (VR). Entuziasmul a fost palpabil în timp ce aceștia au descoperit istoria și cultura orașului într-un mod captivant și imersiv. \n\n\n\nDistracția și învățarea s-au împletit perfect prin jocurile interactive de cultură generală și istorie a orașului\, disponibile prin realitatea mixtă (MR). Aceste experiențe au oferit o perspectivă nouă și antrenantă asupra bogatului trecut al Timișoarei. \n\n\n\nÎn plus\, tinerii au avut ocazia să interacționeze cu două instalații digitale permanente\, care îmbogățesc oferta educațională a muzeului: \n\n\n\n𝐓𝐢𝐩𝐚𝐫𝐞 𝐚𝐥𝐞 𝐏𝐨𝐞𝐳𝐢𝐞𝐢: Instalația interactivă creată de artistul Marius Jurca (13m10j) a oferit o modalitate artistică și personală de a descoperi Timișoara prin intermediul poeziei și culorilor. \n\n\n\n𝐏𝐡𝐲𝐬𝐢𝐜 𝐀𝐈 𝐆𝐚𝐫𝐝𝐞𝐧: Această grădină virtuală dinamică le-a permis elevilor să observe interacțiunile complexe dintre plante și ciuperci virtuale\, precum și efectele diferitelor medicamente asupra organismelor vii. \n\n\n\nTururile ghidate oferite de echipa Spotlight Heritage Timișoara subliniază importanța de a oferi tinerilor modalități unice și non-convenționale de a se conecta cu istoria locală și cu poveștile oamenilor care au format orașul\, astfel de vizite fiind considerate esențiale pentru a stimula interesul generațiilor viitoare față de patrimoniu.
URL:https://spotlight-timisoara.eu/eveniment/tur-ghidat-pentru-zeci-de-elevi-din-timisoara-si-germania/
CATEGORIES:News
ATTACH;FMTTYPE=image/jpeg:https://spotlight-timisoara.eu/wp-content/uploads/2025/04/489859477_1211486404321551_3397139281601356599_n.jpg
END:VEVENT
END:VCALENDAR