BEGIN:VCALENDAR
VERSION:2.0
PRODID:-//Patrimoniul sub reflectoare Timisoara Spotlight Heritage Timisoara - ECPv6.15.20//NONSGML v1.0//EN
CALSCALE:GREGORIAN
METHOD:PUBLISH
X-WR-CALNAME:Patrimoniul sub reflectoare Timisoara Spotlight Heritage Timisoara
X-ORIGINAL-URL:https://spotlight-timisoara.eu
X-WR-CALDESC:Evenimente pentru Patrimoniul sub reflectoare Timisoara Spotlight Heritage Timisoara
REFRESH-INTERVAL;VALUE=DURATION:PT1H
X-Robots-Tag:noindex
X-PUBLISHED-TTL:PT1H
BEGIN:VTIMEZONE
TZID:Europe/Bucharest
BEGIN:DAYLIGHT
TZOFFSETFROM:+0200
TZOFFSETTO:+0300
TZNAME:EEST
DTSTART:20210328T010000
END:DAYLIGHT
BEGIN:STANDARD
TZOFFSETFROM:+0300
TZOFFSETTO:+0200
TZNAME:EET
DTSTART:20211031T010000
END:STANDARD
BEGIN:DAYLIGHT
TZOFFSETFROM:+0200
TZOFFSETTO:+0300
TZNAME:EEST
DTSTART:20220327T010000
END:DAYLIGHT
BEGIN:STANDARD
TZOFFSETFROM:+0300
TZOFFSETTO:+0200
TZNAME:EET
DTSTART:20221030T010000
END:STANDARD
BEGIN:DAYLIGHT
TZOFFSETFROM:+0200
TZOFFSETTO:+0300
TZNAME:EEST
DTSTART:20230326T010000
END:DAYLIGHT
BEGIN:STANDARD
TZOFFSETFROM:+0300
TZOFFSETTO:+0200
TZNAME:EET
DTSTART:20231029T010000
END:STANDARD
END:VTIMEZONE
BEGIN:VEVENT
DTSTART;VALUE=DATE:20220802
DTEND;VALUE=DATE:20220803
DTSTAMP:20260426T064653
CREATED:20220803T092127Z
LAST-MODIFIED:20221101T212433Z
UID:29780-1659398400-1659484799@spotlight-timisoara.eu
SUMMARY:Atelier de povești - Pe urmele misterelor cartierului Cetate
DESCRIPTION:În data de 2 August a avut loc un nou atelier de povești despre Timișoara – pe urmele misterelor cartierului Cetate. Atelierul a fost susținut de Marius Cornea\, muzeograf al Muzeul Național al Banatului\, la Mansarda Bastionului Maria Theresia\, pentru 29 de copii din Măureni\, Orțișoara\, Moravița și Calacea\, însoțiți de 6 voluntari ai Asociației „Generația Tânără”.\n\nEvenimentul a avut loc în cadrul expoziției 𝐏𝐚𝐭𝐫𝐢𝐦𝐨𝐧𝐢𝐮𝐥 𝐬𝐮𝐛 𝐫𝐞𝐟𝐥𝐞𝐜𝐭𝐨𝐚𝐫𝐞 𝐓𝐢𝐦𝐢𝐬̦𝐨𝐚𝐫𝐚. 𝐂𝐚𝐫𝐭𝐢𝐞𝐫𝐮𝐥 𝐂𝐞𝐭𝐚𝐭𝐞 – 𝐎 𝐥𝐮𝐦𝐞 𝐢̂𝐧 𝐨𝐠𝐥𝐢𝐧𝐝𝐚̆.\n\n 
URL:https://spotlight-timisoara.eu/eveniment/atelier-de-povesti-pe-urmele-misterelor-cartierului-cetate/
LOCATION:Bastionul Maria Theresia\, str. Martin Luther nr. 4\, Timișoara\, Timis\, România
CATEGORIES:News
ATTACH;FMTTYPE=image/jpeg:https://spotlight-timisoara.eu/wp-content/uploads/2022/08/Atelier-de-povesti-Asociatia-Generatia-Tanara-din-zona-Maureni-Ortisoara-Moravita-102.jpeg
ORGANIZER;CN="Spotlight Heritage Timisoara":MAILTO:contact@spotlight-timisoara.eu
END:VEVENT
END:VCALENDAR