BEGIN:VCALENDAR
VERSION:2.0
PRODID:-//Patrimoniul sub reflectoare Timisoara Spotlight Heritage Timisoara - ECPv6.15.20//NONSGML v1.0//EN
CALSCALE:GREGORIAN
METHOD:PUBLISH
X-WR-CALNAME:Patrimoniul sub reflectoare Timisoara Spotlight Heritage Timisoara
X-ORIGINAL-URL:https://spotlight-timisoara.eu
X-WR-CALDESC:Evenimente pentru Patrimoniul sub reflectoare Timisoara Spotlight Heritage Timisoara
REFRESH-INTERVAL;VALUE=DURATION:PT1H
X-Robots-Tag:noindex
X-PUBLISHED-TTL:PT1H
BEGIN:VTIMEZONE
TZID:Europe/Bucharest
BEGIN:DAYLIGHT
TZOFFSETFROM:+0200
TZOFFSETTO:+0300
TZNAME:EEST
DTSTART:20210328T010000
END:DAYLIGHT
BEGIN:STANDARD
TZOFFSETFROM:+0300
TZOFFSETTO:+0200
TZNAME:EET
DTSTART:20211031T010000
END:STANDARD
BEGIN:DAYLIGHT
TZOFFSETFROM:+0200
TZOFFSETTO:+0300
TZNAME:EEST
DTSTART:20220327T010000
END:DAYLIGHT
BEGIN:STANDARD
TZOFFSETFROM:+0300
TZOFFSETTO:+0200
TZNAME:EET
DTSTART:20221030T010000
END:STANDARD
BEGIN:DAYLIGHT
TZOFFSETFROM:+0200
TZOFFSETTO:+0300
TZNAME:EEST
DTSTART:20230326T010000
END:DAYLIGHT
BEGIN:STANDARD
TZOFFSETFROM:+0300
TZOFFSETTO:+0200
TZNAME:EET
DTSTART:20231029T010000
END:STANDARD
END:VTIMEZONE
BEGIN:VEVENT
DTSTART;VALUE=DATE:20221021
DTEND;VALUE=DATE:20221022
DTSTAMP:20260426T035018
CREATED:20221022T131446Z
LAST-MODIFIED:20221128T145956Z
UID:30732-1666310400-1666396799@spotlight-timisoara.eu
SUMMARY:Momente din ghidajele realizate de adolescenții voluntari ai Clubului Impact Shakespeare pe itinerariul fizic al cartierului Cetate
DESCRIPTION:În data de 21 Octombrie  2022 au avut loc cinci ghidaje ale expoziției stradale “Patrimoniul sub reflectoare Timișoara. Cartierul Cetate – O lume în oglindă”\, susținute de elevii voluntari ai Clubului Impact Shakespeare. \nA doua sesiune de ghidaje oferite de adolescenții voluntari ai Clubului Impact Shakespeare a început cu un grup de 19 elevi de clasa a III-a și un însoțitor de la Liceul Teoretic „William Shakespeare”. Elevii au fost împărțiți în două grupuri. \n\n\n\n			\n				\n			\n			\n				\n			\n			\n				\n			\n			\n				\n			\n			\n				\n			\n		\n\nAl doilea grup de vizitatori a venit de la Școala Gimnazială Dimitrie Leonida și a fost format din 11 elevi de clasele a VI-a și a VII-a și un însoțitor. \n\n			\n				\n			\n			\n				\n			\n			\n				\n			\n			\n				\n			\n		\n\nPentru al treila grup\, ghizii voluntari au împărțit din nou\, în două grupuri separate de vizitatori\, pe cei 29 de elevi de la Liceul Teoretic „William Shakespeare”\, clasa a VIII-a. Elevii au avut alături un însoțitor din cadrul liceului. \n\n			\n				\n			\n			\n				\n			\n			\n				\n			\n			\n				\n			\n			\n				\n			\n		\n\nUrmătorul grup de vizitatori a venit de la Școala Gimnazială Tomnatic\, fiind format din 7 elevi de clasa a VIII-a și un însoțitor. \n\n			\n				\n			\n			\n				\n			\n			\n				\n			\n		\n\nUltimul grup pentru această zi a format din 25 de elevi și 3 însoțitori de la Liceul Tehnologic Electrotimiș\, care a fost împărțit la rândul său\, în alte două grupuri. \n\n			\n				\n			\n			\n				\n			\n			\n				\n			\n			\n				\n			\n			\n				\n			\n		\n\nA fost o zi intensă pentru ghizii voluntari ai Clubului Impact Shakespeare\, cu patru ghidaje diferite și 91 de elevi care au parcurs întreg itinerariul fizic al cartierului și au aflat poveștile orașului de altădată\, având parte totodată\, de diferite jocuri educative.
URL:https://spotlight-timisoara.eu/eveniment/primele-ghidaje-pe-itinerariul-fizic-al-cartierului-cetate-cu-adolescentii-voluntari-ai-clubului-impact-shakespeare-2/
LOCATION:Cartier Cetate\, Timișoara\, Timis\, România
CATEGORIES:News
ATTACH;FMTTYPE=image/jpeg:https://spotlight-timisoara.eu/wp-content/uploads/2022/11/Al-treilea-grup-clasa-a-VIII-a-29-elevi-1-insotitor-Liceul-Shakespeare-2.jpeg
ORGANIZER;CN="Spotlight Heritage Timisoara":MAILTO:contact@spotlight-timisoara.eu
END:VEVENT
END:VCALENDAR