BEGIN:VCALENDAR
VERSION:2.0
PRODID:-//Patrimoniul sub reflectoare Timisoara Spotlight Heritage Timisoara - ECPv6.15.19//NONSGML v1.0//EN
CALSCALE:GREGORIAN
METHOD:PUBLISH
X-ORIGINAL-URL:https://spotlight-timisoara.eu
X-WR-CALDESC:Evenimente pentru Patrimoniul sub reflectoare Timisoara Spotlight Heritage Timisoara
REFRESH-INTERVAL;VALUE=DURATION:PT1H
X-Robots-Tag:noindex
X-PUBLISHED-TTL:PT1H
BEGIN:VTIMEZONE
TZID:Europe/Bucharest
BEGIN:DAYLIGHT
TZOFFSETFROM:+0200
TZOFFSETTO:+0300
TZNAME:EEST
DTSTART:20220327T010000
END:DAYLIGHT
BEGIN:STANDARD
TZOFFSETFROM:+0300
TZOFFSETTO:+0200
TZNAME:EET
DTSTART:20221030T010000
END:STANDARD
BEGIN:DAYLIGHT
TZOFFSETFROM:+0200
TZOFFSETTO:+0300
TZNAME:EEST
DTSTART:20230326T010000
END:DAYLIGHT
BEGIN:STANDARD
TZOFFSETFROM:+0300
TZOFFSETTO:+0200
TZNAME:EET
DTSTART:20231029T010000
END:STANDARD
BEGIN:DAYLIGHT
TZOFFSETFROM:+0200
TZOFFSETTO:+0300
TZNAME:EEST
DTSTART:20240331T010000
END:DAYLIGHT
BEGIN:STANDARD
TZOFFSETFROM:+0300
TZOFFSETTO:+0200
TZNAME:EET
DTSTART:20241027T010000
END:STANDARD
END:VTIMEZONE
BEGIN:VEVENT
DTSTART;TZID=Europe/Bucharest:20230416T000000
DTEND;TZID=Europe/Bucharest:20230416T235959
DTSTAMP:20260423T181814
CREATED:20240220T115057Z
LAST-MODIFIED:20240220T115058Z
UID:34385-1681603200-1681689599@spotlight-timisoara.eu
SUMMARY:După Varșovia și Poznań\, expoziția „Spotlight Heritage Timișoara” călătorește la Cracovia
DESCRIPTION:Înainte de începerea Festivalului Culturii Române la Cracovia\, Institutul Cultural Român de la Varșovia va găzdui expoziția „Timișoara – Patrimoniul sub reflectoare” la Biblioteca Publică Voievodală din Cracovia\, în perioada 21 aprilie – 31 mai 2023. \n\n\n\nDupă ce a fost prezentată cu succes la Varșovia și Poznań\, expoziția își propune să aducă în fața publicului polonez bogăția patrimoniului și poveștile fascinante ale orașului Timișoara\, care este anul acesta Capitală Europeană a Culturii. Proiectul\, inițiat în 2016 și realizat de Universitatea Politehnica Timișoara și Muzeul Național al Banatului\, este inclus în Programul Cultural oficial Timișoara 2023 – Capitală Europeană a Culturii. \n\n\n\nExpoziția prezintă o combinație inedită între patrimoniul cultural și istoric al orașului și poveștile personale ale locuitorilor\, integrate digital cu patrimoniul imaterial din romane\, amintiri și istorie orală. An de an\, turiștii sunt invitați să exploreze Timișoara printr-un program complex care include expoziții muzeale\, spectacole de teatru și dans stradal\, precum și activități digitale precum realitatea augmentată și realitatea virtuală. \n\n\n\nÎn 2022\, proiectul a fost distins cu Aurul în Excelență la Romanian PR Award\, competiția națională care recunoaște excelența în promovare\, și a primit distincția specială PR Innovator of the Year. \n\n\n\nExpoziția este organizată de Universitatea Politehnică Timișoara și Muzeul Național al Banatului\, cu sprijinul financiar al Municipiului Timișoara și al Consiliului Județean Timiș. La Cracovia\, evenimentul este prezentat în parteneriat cu Biblioteca Publică Voievodală și Consulatul Onorific al României din oraș. \n\n\n\nPrin intermediul acestui proiect\, Institutul Cultural Român de la Varșovia continuă să ofere vizibilitate orașului Timișoara\, evidențiind patrimoniul său divers și spiritul său antreprenorial. \n\n\n\nVezi anunțul oficial al ICR AICI.
URL:https://spotlight-timisoara.eu/eveniment/dupa-varsovia-si-poznan-expozitia-spotlight-heritage-timisoara-calatoreste-la-cracovia/
CATEGORIES:Event,News
ATTACH;FMTTYPE=image/jpeg:https://spotlight-timisoara.eu/wp-content/uploads/2023/02/mobile-ar-vr-nft_sportlight_timisoara_300x300.jpg
ORGANIZER;CN="Spotlight Heritage Timisoara":MAILTO:contact@spotlight-timisoara.eu
END:VEVENT
END:VCALENDAR