BEGIN:VCALENDAR
VERSION:2.0
PRODID:-//Patrimoniul sub reflectoare Timisoara Spotlight Heritage Timisoara - ECPv6.15.19//NONSGML v1.0//EN
CALSCALE:GREGORIAN
METHOD:PUBLISH
X-ORIGINAL-URL:https://spotlight-timisoara.eu
X-WR-CALDESC:Evenimente pentru Patrimoniul sub reflectoare Timisoara Spotlight Heritage Timisoara
REFRESH-INTERVAL;VALUE=DURATION:PT1H
X-Robots-Tag:noindex
X-PUBLISHED-TTL:PT1H
BEGIN:VTIMEZONE
TZID:Europe/Bucharest
BEGIN:DAYLIGHT
TZOFFSETFROM:+0200
TZOFFSETTO:+0300
TZNAME:EEST
DTSTART:20220327T010000
END:DAYLIGHT
BEGIN:STANDARD
TZOFFSETFROM:+0300
TZOFFSETTO:+0200
TZNAME:EET
DTSTART:20221030T010000
END:STANDARD
BEGIN:DAYLIGHT
TZOFFSETFROM:+0200
TZOFFSETTO:+0300
TZNAME:EEST
DTSTART:20230326T010000
END:DAYLIGHT
BEGIN:STANDARD
TZOFFSETFROM:+0300
TZOFFSETTO:+0200
TZNAME:EET
DTSTART:20231029T010000
END:STANDARD
BEGIN:DAYLIGHT
TZOFFSETFROM:+0200
TZOFFSETTO:+0300
TZNAME:EEST
DTSTART:20240331T010000
END:DAYLIGHT
BEGIN:STANDARD
TZOFFSETFROM:+0300
TZOFFSETTO:+0200
TZNAME:EET
DTSTART:20241027T010000
END:STANDARD
END:VTIMEZONE
BEGIN:VEVENT
DTSTART;TZID=Europe/Bucharest:20230504T000000
DTEND;TZID=Europe/Bucharest:20230930T235959
DTSTAMP:20260421T143429
CREATED:20240218T115512Z
LAST-MODIFIED:20240218T120905Z
UID:34317-1683158400-1696118399@spotlight-timisoara.eu
SUMMARY:Experiența tururilor ghidate 2023
DESCRIPTION:Prin aceste tururi ghidate s-au împărtășit istoriile celor 5 cartiere ale orașului: Iosefin\, Elisabetin\, Fabric\, Cetate\, Calea Girocului\, folosind aplicațiile de realitate virtuală și augmentată create de Universitatea Politehnica Timișoara. Publicul a fost format din copii de grădiniță\, elevi și studenți de la Liceul William Shakespeare\, Liceul Nikolaus Lenau\, Clubul Rotary Internațional\, școli primare\, gimnaziale și licee din județele Timiș\, Arad și Cluj\, Universitatea de Vest Timișoara\, Clubul Impact Shakespeare\, beneficiarii Centrului de integrare/reintegrare socială pentru persoanele aflate în dificultate al Consiliului Local Timișoara (seniori cu boli degenerative\, alături de  tineri cu dizabilități de intelect) și beneficiarii Fundației Pentru Voi (adulți cu dizabilități de intelect). \n\n\n\nS-au realizat activități de mediere culturală pentru un public cu sau fără dizabilități (copii de grădiniță\, elevi de vârstă școlară mică\, adolescenți\, adulți și seniori)\, inclusiv în fiecare duminică din lunile august – septembrie.  \n\n\n\nMAI \n\n\n\n1. 13 mai\, sâmbătă\, Noaptea Muzeelor\,  elevii din Clubul IMPACT Shakespeare Timișoara\,  17 elevi și 2 profesoare2. 17 mai\, Arad\, școală gimnazială Virgil Iovanaș din Sofronea\, clasele VII-VIII\, 20 elevi și un profesor3. 20 mai\, primul tur pentru conferinta internațională de Istorie medievală\, 28 persoane4. 20 mai\, al doilea tur pentru conferința internațională de Istorie medievală\, 31 persoane5. 24 mai\, tur pentru invitații Conferinței internaționale organizate de Universitatea Politehnica Timișoara\, 3 persoane6. 24 mai\, tur pentru angajații Consiliului Județean Timiș\, 6 persoane7. 25 mai\, 30 seniori și adulți cu dizabilități intelectuale\, Centrul de zi de integrare/reintegrare socială pentru persoane aflate în dificultate din cadrul Direcției de Asistență Socială a Municipiului Timișoara\, strada Ioan Plavoșin nr. 218.26 mai\, sâmbătă\, tur pentru invitații Conferinței internaționale organizate de Universitatea Politehnica Timișoara9.26 mai\, tur pentru angajații Consiliului Județean Timiș\, 7 persoane10. 30 mai\, primul tur\, grădiniță din Lugoj\, 20 copii11. 30 mai\, al doilea tur\, grădiniță din Lugoj\, 20 copii \n\n\n\nIUNIE12. 7 iunie\, tur ghidat pentru 11studenți\, anul II\, Facultatea de Istorie13. 8 iunie\, delegație italiană\, 9 profesori\, conduși de prof. dr. Carmen Holotescu14. 13 iunie\, delegație străină\, 3 persoane\, conduși de Oana Romocea15. 27 iunie\, atelier de povești pentru 24 persoane \n\n\n\nIULIE16. 21 iulie\, grup de 15 elevi\, clasele I-VI\, școală de vară ExamPlus din Timișoara17. 24 iulie\, Școala de Vară  UVT\, primul tur pentru 26 studenți străini18. 24 iulie\, Școala de Vară UVT\, al doilea tur pentru 24 studenți străini19. 28 iulie\, Ziua Județului\, primul tur la ora 12 pentru 7 persoane20. 28 iulie\, Ziua Judetului\, al doilea tur la ora 14 pentru 10 persoane21. 29 iulie\, sâmbătă\, invitații Consiliului Județean Timiș din R. Moldova și Germania\, 15 persoane \n\n\n\nAUGUST22. 2 august\, 30 elevi invitați de Primăria  Municipiului Timișoara de Ziua orașului23. 3 august\, grup de 50 turiști adulți din jud. Ialomița24. 6 august\, duminică\, 12 persoane din România și Germania25. 10 august\, joi\, grup de 18 elevi din clasele I-IV\, Timișoara26. 13 august\, duminică\,  21 persoane din România și Germania27. 17 august\, joi\, grup de 12 persoane28. Duminica\, 20 august\,  grup de 17 persoane29. Miercuri\, 23 august\, grup de 5 persoane\, 1 cronicar cu dizabilități de auz30. Joi\, 24 august\, 2 persoane din Botoșani și Tulcea31. Duminică\,  27 august\, 15 persoane32. Joi\, 31 august\, 2 persoane din New York \n\n\n\nSEPTEMBRIE33.  Vineri\, 1 septembrie\, tur ghidat pentru 40 liceeni și studenți din județul Cluj34. Sâmbătă\,  2 septembrie\, ghidaj pentru 31 persoane din Serbia\, Ungaria\, Germania și România\, invitații Primăriei orașului Sânnicolau Mare35. Luni\, 4 septembrie\, tur ghidat pentru Clubul Rotary Timișoara\,  15 persoane36. Joi\, 7 septembrie\, tur ghidat pentru 2 persoane37. Duminică\, 10 septembrie\,  tur ghidat pentru 4 muzeografi arheologi din Târgu-Mureș38. Duminică\, 17 septembrie\, 4 tururi ghidate pentru 8 persoane39. Duminică\,  24 septembrie\,  tur ghidat pentru doamna Sorina Jecza și 30 de invitați \n\n\n\n40. Marți\, 26 septembrie – tur video în expoziție înregistrat de Rafael Leucuța41. Miercuri\, 27 septembrie\, tur ghidat pentru Liceul Teologic Romano-Catolic Gerhardinum din Timișoara\, 24 elevi din clasa a II-a42. Joi\, 28 septembrie\,  tur ghidat pentru 6 adulți cu dizabilități de la Fundatia Pentru Voi43. Vineri\, 29 septembrie\, ora 18\, primul tur ghidat pentru 10 persoane\, Noaptea Cercetătorilor (tur video înregistrat de Rafael Leucuța)44. Vineri\, 29 septembrie\,  ora 21\, al doilea tur ghidat pentru 13 persoane\, Noaptea CercetătorilorOCTOMBRIE45. Duminică\,  1 octombrie\, tur ghidat pentru 25 persoane (tur video înregistrat de Rafael Leucuța)
URL:https://spotlight-timisoara.eu/eveniment/experienta-tururilor-ghidate-2023/
LOCATION:Bastionul Maria Theresia\, str. Martin Luther nr. 4\, Timișoara\, Timis\, România
CATEGORIES:News
ATTACH;FMTTYPE=image/jpeg:https://spotlight-timisoara.eu/wp-content/uploads/2023/10/WhatsApp-Image-2023-09-01-at-14.28.26-1-1.jpeg
END:VEVENT
BEGIN:VEVENT
DTSTART;TZID=Europe/Bucharest:20230718T000000
DTEND;TZID=Europe/Bucharest:20230718T235959
DTSTAMP:20260421T143429
CREATED:20230718T075629Z
LAST-MODIFIED:20240108T084255Z
UID:32333-1689638400-1689724799@spotlight-timisoara.eu
SUMMARY:Spectacol de teatru și dans\, cu utilizarea tehnologiei digitale și elemente de AR - „Patrimoniul sub reflectoare - un salt în libertate”
DESCRIPTION:„Patrimoniul sub reflectoare – un salt în libertate” \n\n\n\nduminică\, 23 iulie 2023\, la Cazarma U\, ora 22:00 \n\n\n\nun spectacol de dans și teatru\, cu utilizarea tehnologiei digitale și elemente de realitate augmentată \n\n\n\n \n\n\n\n„Patrimoniul sub reflectoare – un salt în libertate” este un spectacol de dans și teatru care aduce în prim-plan unele dintre poveștile captivante ale orașului Timișoara și ale cartierului Giroc\, care se desfășoară într-un dans al evoluției\, învăluit în amintiri ale evoluției tinerilor care au realizat Revoluția din ’89. Spectacolul este parte a Spotlight Heritage Timișoara\, un proiect cuprins în programul cultural național „Timișoara – Capitală Europeană a Culturii în anul 2023” și își dorește să invite publicul să facă un salt înapoi în timp\,  într-un trecut nu foarte îndepartat\, care a definit orașul pe care noi îl cunoaștem în prezent și l-a transformat în leagănul libertății pentru un întreg popor. \n\n\n\nEvenimentul este realizat în parteneriat cu Magnum Dance Sport Team\, Fundația Triade și va avea loc pe data de 23 iulie 2023\, la Cazarma U\, începând cu ora 22:00. Interpretarea artistică se bazează pe experiența\, dramaturgia și coregrafia realizată de colaborarea între Universitatea Politehnica Timișoara și Magnum Dance Sport Team\,  împreună cu Muzeul Național al Banatului\, acompaniată de muzica compusă de Dan Simion.  \n\n\n\nSub lumina reflectoarelor\, ne întoarcem pe drumurile trecutului\, unde se ascunde glasul tinerilor curajoși\, acei căutători de schimbare. Spectacolul nostru este o odă adusă tinerilor și studenților care au făcut saltul către libertate\, povestea lor fiind spusă utilizând tehnologii digitale inovatoare\, precum proiecțiile 3D de tehnologie mixtă și a elementelor de realitate augmentată. Acestea proiecții și elemente au fost realizate de studenți și profesori ai Universității Politehnica Timișoara\, implicați în proiectul „Spotlight Heritage Timișoara”. \n\n\n\nSpectacolul va oferi o călătorie emoționantă și plină de inspirație prin intermediul artei și tehnologiei\, transformând scena într-un peisaj digital remarcabil. Te așteptăm în weekend la o seară în care trecutul și prezentul se vor întâlni pe aceeași scenă\, unde se vor împleti și vor crea o punte de trecere peste granița timpului. \n\n\n\nDansul și teatrul se vor contopi într-un mod spectaculos\, subliniind momentele-cheie și emoțiile profunde asociate cu Revoluția din ’89 și cu traseul artistic al lucrărilor de artă care au apărut în urma acestui eveniment istoric. Explorăm trecutul cu rădăcinile socialismului\, școlile perioadei și construirea Timișoarei industrială. Urmăm traseul studenților și secretele Timișoarei contemporane\, dezvăluite și prin versurile lui Robert Șerban\, prin imaginile-arhivă ale lui Constantin Duma\, o simfonie de cuvinte\, muzică\, imagini și mișcare ce evocă esența locurilor și a oamenilor din orașul de pe Bega. \n\n\n\nAflă mai multe despre spectacol aici: https://spotlight-timisoara.eu/eveniment/un-salt-in-libertate-spectacol-de-teatru-si-dans-cu-utilizarea-tehnologiei-digitale-si-elemente-de-ar/ \n\n\n\nSpotlight Heritage Timișoara / Patrimoniul sub reflectoare este o inițiativă culturală digitală a Universității Politehnica Timișoara realizată în parteneriat cu Muzeul Național al Banatului\, parte a Programului Cultural Timișoara 2023 Capitală Europeană a Culturii. Proiect cultural co-finanțat de Municipiul Timișoara prin Centrul de Proiecte\, Consiliul Județean Timiș\, Ministerul Culturii\, EEA and Norway Grants. \n\n\n\nComponentele digitale ale proiectului sunt accesibile online la adresa https://spotlight-timisoara.eu/ și prin aplicațiile mobile care pot fi descărcate din magazinele Android și Apple\, căutând „Spotlight Timișoara” sau scanând codul QR alăturat acestui comunicat. \n\n\n\n\nLink aplicații pentru utilizatorii Android: https://is.gd/SjiIgv  \n\n\n\nLink aplicații pentru utilizatorii iOS: https://is.gd/y6JxeV  \n\n\n\n\nInformații despre eveniment sunt disponibile și pe: \n\n\n\n\nPagina web: https://spotlight-timisoara.eu/\n\n\n\nFacebook: https://www.facebook.com/SpotlightHeritageTimisoara/\n\n\n\nTwitter: @spotlight_TM21\n\n\n\nInstagram: @spotlight_tm\n\n\n\n\n\n\n\n\nConcept & dezvoltarea tehnico-artistică: Diana Andone(Universitatea Politehnica Timișoara)Producție: Diana Andone\, Mugur Mocofan\, Silviu Vert(Universitatea Politehnica Timișoara)Regie și coregrafie: Diana Avram\, Raul Avram (Clubul dedans sportiv Magnum Team)Muzică: Dan SimionPoezii: Robert ȘerbanDramaturgia: Mariana BoșneacImagini arhivă: Constantin Duma\, Memorialul Revoluției\,Muzeul Național al Banatului (Marius Cornea\, ZoranMarkov\, Ciprian Glăvan)\, arhive personale Diana Andone șiRadu VasiuAsistență scenografie\, Video: Marius Tătaru\, RafaelLeucuța (Universitatea Politehnica Timișoara)\, GeorgeBufanActor – personaj principal – dansator: Oana Antonovici(Clubul de dans sportiv Magnum Team)Dansatori: Denis Matei\, Marisa Rasadean\, Alessia Matache\,Sofia Mircea\, Robert Turcu\, Raul Radu\, Ioana Usvat\, AmiraAvram (Clubul de dans sportiv Magnum Team)Crearea de experiențe de realitate augmentată/virtuală șiproiecție: Marius Tătaru\, Emilian Porumb (studenți) &Rafael Leucuța (Universitatea Politehnica Timișoara)Comunicare\, prelucrare date\, texte și logistică: Radu Vasiu\,Daciana Grasu\, Vlad Mihăescu\, Andrei Ternauciuc\, CameliaCiuclea\, Poliana Ilinca\, Ema Gherman (UniversitateaPolitehnica Timișoara)\, Andrea Rotaru \n\n\n\n\n\n\n\nEvenimentul face parte din inițiativa digitală culturală Spotlight Heritage Timișoara\, parte a Programului Cultural Timișoara 2023 Capitală Europeană a Culturii și este co-finanțat de Ministerul Culturii prin Centrul de Proiecte.
URL:https://spotlight-timisoara.eu/eveniment/spectacol-de-teatru-si-dans-cu-utilizarea-tehnologiei-digitale-si-elemente-de-ar-patrimoniul-sub-reflectoare-un-salt-in-libertate/
LOCATION:Cazarma U\, Piața Mărăști 2\, Timișoara\, România
CATEGORIES:News
ATTACH;FMTTYPE=image/jpeg:https://spotlight-timisoara.eu/wp-content/uploads/2023/07/SH_Spectacol-de-Dans_Cazarma-U_Post.jpg
ORGANIZER;CN="Spotlight Heritage Timisoara":MAILTO:contact@spotlight-timisoara.eu
END:VEVENT
BEGIN:VEVENT
DTSTART;TZID=Europe/Bucharest:20230718T000000
DTEND;TZID=Europe/Bucharest:20230718T235959
DTSTAMP:20260421T143429
CREATED:20230719T113231Z
LAST-MODIFIED:20231113T083407Z
UID:32351-1689638400-1689724799@spotlight-timisoara.eu
SUMMARY:Circumeuropa Sail Europe Around 2023 (SEA 2023) – prima expediție fluvio-maritimă a unui echipaj românesc în jurul Europei
DESCRIPTION:Circumeuropa\, prima expediție fluvio-maritimă a unui echipaj românesc în jurul Europei\, a deschis noi orizonturi culturale și științifice cu prilejul Timișoara Capitală Culturală 2023. Expediția reprezintă o inițiativă remarcabilă care promovează Timișoara ca și Capitală Culturală și povestea orașului în cadrul comunităților europene. \n\n\n\nAvând un traseu care parcurge 5 râuri\, 4 mări\, un ocean și 5 strâmtori cu o ambarcațiune\, traversând astfel foste și actuale Capitale Culturale\, expediția Circumeuropa SEA 2023 devine abasadorul ideal al poveștilor și al culturilor orașului Timișoara. Ducând tradiții românești peste granițe\, într-un eveniment de excepție\, inițiativa reprezintă o călătorie culturală și științifică remarcabilă\, care promovează dialogul intercultural și înțelegerea reciprocă între țările și comunitățile europene. \n\n\n\nÎn cadrul proiectului\, Spotlight Heritage Timișoara a jucat un rol esențial în promovarea culturii și patrimoniului Timișoarei în jurul Europei\, utilizând tehnologii digitale și realitatea virtuală. Această inovație a permis publicului și oamenilor din fiecare țară vizitată să descopere povestea și frumusețea orașului Timișoara\, chiar de la distanță.  \n\n\n\nDiferiți oameni\, din culturi și țări diferite au putut experimenta și simți pe propria piele poveștile și cultura orașului nostru. Au avut parte de experiențe imersive care au dus Timișoara peste granițele fizice\, dar și peste cele ale timpului\, spunând povestea oamenilor din orașul de pe Bega\, a clădirilor\, istoriei și patrimoniului\, toate adunate în aplicații realizate de stundeți și profesori ai Universității Politehnica Timișoara. La câteva click-uri distanță și fără prea mare efort\, Timișoara a avut parte și de turiști virtuali\, permițându-le astfel să internalizeze poveștile digitale ale orașului. \n\n\n\nPrin intermediul acestei inițiative\, proiectul Spotlight Heritage Timișoara și însuți orașul continuă să inspire și să conecteze oameni din toate colțurile Europei\, consolidându-se astfel ca o adevărată capitală culturală în era digitalizării. \n\n\n\n\n\n\n\n\n\n\n\n\n\n\n\n\n\n\n\n\n\nSpotlight Heritage Timișoara / Patrimoniul sub reflectoare este o inițiativă culturală digitală a Universității Politehnica Timișoara\, realizată în parteneriat cu Muzeul Național al Banatului\, parte a Programului Cultural Timișoara 2023 Capitală Europeană a Culturii. Proiect cultural co-finanțat de Municipiul Timișoara prin Centrul de Proiecte\, Consiliul Județean Timiș.
URL:https://spotlight-timisoara.eu/eveniment/circumeuropa-sail-europe-around-2023-sea-2023-prima-expeditie-fluvio-maritima-a-unui-echipaj-romanesc-in-jurul-europei/
CATEGORIES:CIRCUMEUROPA,News
ATTACH;FMTTYPE=image/png:https://spotlight-timisoara.eu/wp-content/uploads/2023/07/Circumeuropa_cover.png
END:VEVENT
END:VCALENDAR