BEGIN:VCALENDAR
VERSION:2.0
PRODID:-//Patrimoniul sub reflectoare Timisoara Spotlight Heritage Timisoara - ECPv6.15.19//NONSGML v1.0//EN
CALSCALE:GREGORIAN
METHOD:PUBLISH
X-ORIGINAL-URL:https://spotlight-timisoara.eu
X-WR-CALDESC:Evenimente pentru Patrimoniul sub reflectoare Timisoara Spotlight Heritage Timisoara
REFRESH-INTERVAL;VALUE=DURATION:PT1H
X-Robots-Tag:noindex
X-PUBLISHED-TTL:PT1H
BEGIN:VTIMEZONE
TZID:Europe/Bucharest
BEGIN:DAYLIGHT
TZOFFSETFROM:+0200
TZOFFSETTO:+0300
TZNAME:EEST
DTSTART:20220327T010000
END:DAYLIGHT
BEGIN:STANDARD
TZOFFSETFROM:+0300
TZOFFSETTO:+0200
TZNAME:EET
DTSTART:20221030T010000
END:STANDARD
BEGIN:DAYLIGHT
TZOFFSETFROM:+0200
TZOFFSETTO:+0300
TZNAME:EEST
DTSTART:20230326T010000
END:DAYLIGHT
BEGIN:STANDARD
TZOFFSETFROM:+0300
TZOFFSETTO:+0200
TZNAME:EET
DTSTART:20231029T010000
END:STANDARD
BEGIN:DAYLIGHT
TZOFFSETFROM:+0200
TZOFFSETTO:+0300
TZNAME:EEST
DTSTART:20240331T010000
END:DAYLIGHT
BEGIN:STANDARD
TZOFFSETFROM:+0300
TZOFFSETTO:+0200
TZNAME:EET
DTSTART:20241027T010000
END:STANDARD
END:VTIMEZONE
BEGIN:VEVENT
DTSTART;TZID=Europe/Bucharest:20231001T110000
DTEND;TZID=Europe/Bucharest:20231001T140000
DTSTAMP:20260419T214113
CREATED:20230928T140735Z
LAST-MODIFIED:20240220T090137Z
UID:32630-1696158000-1696168800@spotlight-timisoara.eu
SUMMARY:Finisajul expoziției "Patrimoniul Sub Reflectoare - Lumi Paralele"
DESCRIPTION:În data de 01 octombrie\, duminica\, va fi ultima zi în care expoziția „Patrimoniul Sub Reflectoare – Lumi Paralele” va fi deschisă publicului. Duminica aceasta va avea loc finisajul expoziției\, organizată în mansarda B2 a Bastionului Maria Theresia.  \n\n\n\nEste ultima șansă de a descoperi poveștile Timișoarei imersiv prin diverse instalații care utilizează tehnologii de realitate augumentată și virtuală\, prin care vei putea descoperi poveștile din spatele exponatelor și a diverselor locații din oraș. \n\n\n\nCu ocazia inchiderii spațiului\, se va organiza un 𝐭𝐮𝐫 𝐠𝐡𝐢𝐝𝐚𝐭 𝐝𝐞 𝐥𝐚 𝐨𝐫𝐚 𝟏𝟏:𝟎𝟎\, 𝐢𝐚𝐫 𝐥𝐚 𝐨𝐫𝐚 𝟏𝟐:𝟎𝟎 𝐯𝐚 𝐚𝐯𝐞𝐚 𝐥𝐨𝐜 𝐟𝐢𝐧𝐢𝐬𝐚𝐣𝐮𝐥\, care va marca închiderea oficială a acesteia. \n\n\n\nTe invităm să pășești într-o incursiune în istoria cartierelor printr-o cheie barocă: alegoria simțurilor\, prezentând secvențe din viața cotidiană din Iosefin (2019)\, Elisabetin (2020)\, Fabric (2021)\, Cetate (2022) și Giroc (2023)\, un cartier-dormitor din perioada socialistă. \n\n\n\nÎn mansarda bastionului Theresia vor fi expuse bunuri culturale de patrimoniu din colecțiile Muzeului Național al Banatului\, care ilustrează viața economică\, socială și culturală a celor 5 cartiere din Timișoara\, alături de diverse surse de memorie: fragmente de interviuri și texte literare (roman\, jurnal\, memorii). Expoziția cuprinde o selecție importantă de cărți poștale\, fotografii\, sigilii\, diplome de breaslă\, care depun mărturie despre secvențe din istoria celor 5 cartiere ale Timișoarei și diversele comunități cultural-lingvistice. \n\n\n\nTe vom conduce printr-o călătorie de stimulare a simțurilor\, unde vei avea bucuria de a explora spații urbane prin prisma a cinci personalități marcante ale orașului Timișoara: \n\n\n\n\nVăzul și lumea Valeriei Pintea din cartierul Iosefin\, prin romanul Lianei Maria Gomboșiu;\n\n\n\nTactilul și lumea ascunsă într-un cufăr a lui Netti Diel din cartierul Elisabetin\, prin intermediul jurnalului de familie al Piei Brînzeu;\n\n\n\nAuzul și lumile în destine din cartierul Fabric\, aflate în arhiva Grupului de Istorie Orală și Antropologie Culturală\, înființat și coordonat de doamna Smaranda Vultur;\n\n\n\nOlfactivul și lumea din oglinda cartierului Cetate\, din perspectiva poeziilor scrise de Robert Șerban și a textelor selectate de Smaranda Vultur și Roxana Rogobete;\n\n\n\nGustativul și lumile paralele din cartierul Giroc\, suprinse în jurnalul Sorinei Jecza\, impresii vizuale și informații din Revoluția din ‘89.\n\n\n\n\nExpoziția este deschisă de miercuri până duminică\, între orele 10:00-18:00\, iar intrarea este 16 lei/persoană. Plata se face la locație. 𝐈𝐧𝐭𝐫𝐚𝐫𝐞𝐚 𝐞𝐬𝐭𝐞 𝐥𝐢𝐛𝐞𝐫ă 𝐝𝐮𝐦𝐢𝐧𝐢𝐜𝐚̆\, 𝟎𝟏 𝐨𝐜𝐭𝐨𝐦𝐛𝐫𝐢𝐞 𝟐𝟎𝟐𝟑. \n\n\n\nTe așteptăm să ni te alături la expoziția ”Patrimoniul sub reflectoare Timișoara – Lumi paralele”\, parte a proiectului Spotlight Heritage Timișoara\, din Programul cultural național „Timișoara – Capitală Europeană a Culturii în anul 2023”. Expoziția este organizată de Muzeul Național al Banatului\, în parteneriat cu Universitatea Politehnica Timișoara\, prin Centrul de ID/IFR și e-Learning și Centrul Multimedia.
URL:https://spotlight-timisoara.eu/eveniment/finisajul-expozitiei-patrimoniul-sub-reflectoare-lumi-paralele/
LOCATION:Muzeul Național al Banatului\, Maria Theresia Bastion\, Strada Martin Luther 4\, Timișoara\, Timiș\, 305500\, România
CATEGORIES:News
ATTACH;FMTTYPE=image/jpeg:https://spotlight-timisoara.eu/wp-content/uploads/2023/09/SH_Finisaj_2023TM_2023_Cover.jpg
ORGANIZER;CN="Spotlight Heritage Timisoara":MAILTO:contact@spotlight-timisoara.eu
END:VEVENT
END:VCALENDAR