BEGIN:VCALENDAR
VERSION:2.0
PRODID:-//Patrimoniul sub reflectoare Timisoara Spotlight Heritage Timisoara - ECPv6.15.20//NONSGML v1.0//EN
CALSCALE:GREGORIAN
METHOD:PUBLISH
X-ORIGINAL-URL:https://spotlight-timisoara.eu
X-WR-CALDESC:Evenimente pentru Patrimoniul sub reflectoare Timisoara Spotlight Heritage Timisoara
REFRESH-INTERVAL;VALUE=DURATION:PT1H
X-Robots-Tag:noindex
X-PUBLISHED-TTL:PT1H
BEGIN:VTIMEZONE
TZID:Europe/Bucharest
BEGIN:DAYLIGHT
TZOFFSETFROM:+0200
TZOFFSETTO:+0300
TZNAME:EEST
DTSTART:20220327T010000
END:DAYLIGHT
BEGIN:STANDARD
TZOFFSETFROM:+0300
TZOFFSETTO:+0200
TZNAME:EET
DTSTART:20221030T010000
END:STANDARD
BEGIN:DAYLIGHT
TZOFFSETFROM:+0200
TZOFFSETTO:+0300
TZNAME:EEST
DTSTART:20230326T010000
END:DAYLIGHT
BEGIN:STANDARD
TZOFFSETFROM:+0300
TZOFFSETTO:+0200
TZNAME:EET
DTSTART:20231029T010000
END:STANDARD
BEGIN:DAYLIGHT
TZOFFSETFROM:+0200
TZOFFSETTO:+0300
TZNAME:EEST
DTSTART:20240331T010000
END:DAYLIGHT
BEGIN:STANDARD
TZOFFSETFROM:+0300
TZOFFSETTO:+0200
TZNAME:EET
DTSTART:20241027T010000
END:STANDARD
END:VTIMEZONE
BEGIN:VEVENT
DTSTART;TZID=Europe/Bucharest:20231117T110000
DTEND;TZID=Europe/Bucharest:20231117T180000
DTSTAMP:20260425T180843
CREATED:20231110T122605Z
LAST-MODIFIED:20240319T135009Z
UID:33196-1700218800-1700244000@spotlight-timisoara.eu
SUMMARY:Concursul International Spotlight Heritage Student Contest 2023 și Interactive Digital Media Student Contest 2023
DESCRIPTION:Universitatea Politehnica din Timișoara organizează cea de-a treia ediție a International Spotlight Heritage Student Contest (ISHSC) 2023  și Interactive Digital Media Student Contest (IDMSC) 2023\, aflat la a 9-a ediție\, care se vor desfășura în data de 17 noiembrie 2023\, începând cu ora 11:00 în Sala Polivalentă a Bibliotecii Centrale UPT\, (Bd. Vasile Pârvan Nr. 2\, Timișoara). \n\n\n\nConcursurile IDMSc și ISHSC sunt deschise pentru studenți (licență\, master\, doctorat) și elevi de la oricare din instituțiile din România\, Europa și SUA și sunt organizate de Centrul Multimedia și Centrul e-Learning al Universității Politehnica Timișoara în domeniile: \n\n\n\no Dezvoltare Web / Web Development – aplicații web\, pe o temă de actualitate\, de orice tip și format\, inclusiv inteligență artificială \n\n\n\no Dezvoltare pentru dispozitive mobile / Mobile development – aplicații mobile care utilizează orice arhitectură de calcul și pentru orice platformă \n\n\n\no Design grafic și Producție Audio-Video / Graphic Design & Audio-Video production – banner web\, template website\, infografic\, afiș / poster\, broșură / leaflet\, copertă\, elemente de identitate vizuală\, imagini digitale prelucrate\, videoclipuri\, spoturi publicitare\, generice / promo / trailer\, animații video\, timelapse\, efecte speciale / trucaje \n\n\n\no Internetul Obiectelor / Internet of Things – implementarea unui concept sau dispozitiv IoT care combină hardware\, software și date pe o temă de actualitate (de exemplu casă inteligentă\, rețea de senzori\, roboți\, altele). \n\n\n\no International Spotlight Heritage Student Contest (eXtended Reality) – aplicații AR/VR/XR realizate pe baza informațiilor libere din platforma Spotlight Heritage Timișoara – această secțiune are propriul regulament. \n\n\n\nÎn cadrul concursului ISHSC 2023\, studenți din 5 universități partenere de renume din România\, Norvegia\, Italia\, Danemarca și Lituania\, aducând o diversitate culturală și academică deosebită\, vor conlucra în echipe internaționale\, pentru a dezvolta proiecte ce integrează realitatea augmentată și virtuală și a crea artefacte digitale care să valorifice și să celebreze bogăția patrimoniului cultural al Timișoarei\, ca parte a proiectului Spotlight Heritage Timișoara. \n\n\n\nPerioada de înscrieri pentru IDMSC 2023 este deschisă până la 16 noiembrie la ora 12:00\, prezentarea proiectelor\, pitching-ul și jurizarea se vor concretiza în data de 17 noiembrie 2023 prin prezența fizică sau online. Talentul și creativitatea vor fi răsplătite cu premii în valoare de peste 5000 de euro oferite de finanțatori și de companiile partenere și posibilitatea de a fi nominalizați pentru prestigioasele EU Medeea Awards 2024 (ambele concursuri cumulat). \n\n\n\nEvenimentul face parte din inițiativa digitală culturală Spotlight Heritage Timișoara\, parte a Programului Cultural Timișoara 2023 Capitală Europeană a Culturii și este co-finanțat de fondurile EEA și Norway Grants și de Municipiul Timișoara prin Centrul de Proiecte\, Consiliul Județean Timiș\, Ministerul Culturii\, România. \n\n\n\nCompaniile partenere IDMSC 2023 sunt Nokia\, Haufe-Leware\, Cobalt Sign\, SafeFleet\, DeltaTel Group\, Nutechnologies. \n\n\n\n\nInformații și regulamentul IDMSC 2023 aici https://idmsc.cm.upt.ro/ \n\n\n\n\n\nEdiții anterioare https://idmsc.cm.upt.ro/idmsc2022/\n\n\n\n\n\nInformații și regulamentul concursului ISHSC 2023 aici: https://spotlight-timisoara.eu/eveniment/regulation-for-international-spotlight-heritage-student-contest-2023/\n\n\n\n\n\nEdiții anterioare https://spotlight-timisoara.eu/eveniment/ishsc-2022-si-a-prezentat-castigatorii-tururi-vr-interactive-si-aplicatii-mr-dezvoltate-de-studenti-internationali/\n\n\n\n\nMai multe detalii despre câștigătorii din acest an de la ISHSC 2023 puteți găsi AICI. \n\n\n\n\n\n			\n				\n			\n		\n\n\n\n\n			\n				\n			\n		\n\n\n\n\n			\n				\n			\n		\n\n\n\n\n			\n				\n			\n		\n\n\n\n\n			\n				\n			\n		\n\n\n\n\n			\n				\n			\n		\n\n\n\n\n			\n				\n			\n		\n\n\n\n\n			\n				\n			\n		\n\n\n\n\n			\n				\n			\n		\n\n\n\n\n			\n				\n			\n		\n\n\n\n\n			\n				\n			\n		\n\n\n\n\n			\n				\n			\n		\n\n\n\n\n			\n				\n			\n		\n\n\n\n\n			\n				\n			\n		\n\n\n\n\n			\n				\n			\n		\n\n\n\n\n			\n				\n			\n		\n\n\n\n\n			\n				\n			\n		\n\n\n\n\n			\n				\n			\n		\n\n\n\n\n			\n				\n			\n		\n\n\n\n\n			\n				\n			\n		\n\n\n\n\n			\n				\n			\n		\n\n\n\n\n			\n				\n			\n		\n\n\n\n\n			\n				\n			\n		\n\n\n\n\n			\n				\n			\n		\n\n\n\n\n			\n				\n			\n		\n\n\n\n\n			\n				\n			\n		\n\n\n\n\nSpotlight Heritage Timișoara / Patrimoniul sub reflectoare este o inițiativă culturală digitală a Universității Politehnica Timișoara realizată în parteneriat cu Muzeul Național al Banatului\, parte a Programului Cultural Timișoara 2023 Capitală Europeană a Culturii. Proiect cultural co-finanțat de Municipiul Timișoara prin Centrul de Proiecte\, Consiliul Județean Timiș\, Ministerul Culturii\, EEA and Norway Grants. Proiectul Virtual Spotlight Heritage Timisoara beneficiază de un grant de € 97.000 de la Islanda\, Liechtenstein și Norvegia prin EEA and Norway Grants. 
URL:https://spotlight-timisoara.eu/eveniment/ishsc-idmsc-2023/
CATEGORIES:Event,ISHSC,News
ATTACH;FMTTYPE=image/jpeg:https://spotlight-timisoara.eu/wp-content/uploads/2023/11/SH_ISHC_2023_Event-Cover.jpg
END:VEVENT
END:VCALENDAR