BEGIN:VCALENDAR
VERSION:2.0
PRODID:-//Patrimoniul sub reflectoare Timisoara Spotlight Heritage Timisoara - ECPv6.15.20//NONSGML v1.0//EN
CALSCALE:GREGORIAN
METHOD:PUBLISH
X-ORIGINAL-URL:https://spotlight-timisoara.eu
X-WR-CALDESC:Evenimente pentru Patrimoniul sub reflectoare Timisoara Spotlight Heritage Timisoara
REFRESH-INTERVAL;VALUE=DURATION:PT1H
X-Robots-Tag:noindex
X-PUBLISHED-TTL:PT1H
BEGIN:VTIMEZONE
TZID:Europe/Bucharest
BEGIN:DAYLIGHT
TZOFFSETFROM:+0200
TZOFFSETTO:+0300
TZNAME:EEST
DTSTART:20230326T010000
END:DAYLIGHT
BEGIN:STANDARD
TZOFFSETFROM:+0300
TZOFFSETTO:+0200
TZNAME:EET
DTSTART:20231029T010000
END:STANDARD
BEGIN:DAYLIGHT
TZOFFSETFROM:+0200
TZOFFSETTO:+0300
TZNAME:EEST
DTSTART:20240331T010000
END:DAYLIGHT
BEGIN:STANDARD
TZOFFSETFROM:+0300
TZOFFSETTO:+0200
TZNAME:EET
DTSTART:20241027T010000
END:STANDARD
BEGIN:DAYLIGHT
TZOFFSETFROM:+0200
TZOFFSETTO:+0300
TZNAME:EEST
DTSTART:20250330T010000
END:DAYLIGHT
BEGIN:STANDARD
TZOFFSETFROM:+0300
TZOFFSETTO:+0200
TZNAME:EET
DTSTART:20251026T010000
END:STANDARD
END:VTIMEZONE
BEGIN:VEVENT
DTSTART;TZID=Europe/Bucharest:20241112T000000
DTEND;TZID=Europe/Bucharest:20241112T235959
DTSTAMP:20260424T140943
CREATED:20241113T115455Z
LAST-MODIFIED:20241113T115456Z
UID:34936-1731369600-1731455999@spotlight-timisoara.eu
SUMMARY:Vernisajul expoziției de desene „Poveștile Timișoarei - O călătorie vizuală prin Timișoara”
DESCRIPTION:Liceul Teoretic „Grigore Moisil” și Școla Gimnaziale Nr. 19 „Avram Iancu” din Timișoara\, alături de Universitatea Politehnica Timișoara au avut plăcerea de a organiza marți\, 12 octombrie\, în holul central al Bibliotecii UPT\, vernisajul expoziției „Poveștile Timișoarei – O călătorie vizuală prin Timișoara”. \n\n\n\nDeschiderea evenimentului a debuta cu discursuri din partea reprezentanților de la Liceul Teoretic „Grigore Moisil”\, de la Școla Gimnaziale Nr. 19 „Avram Iancu”\, alături de un discurs susținut de conf.univ.dr.ing. Florin Drăgan\, rector al Universității Politehnica Timișoara și de câteva cuvinte oferite de dr. Diana Andone\, director al Departamentului de ID/IFR și Educație digitală.  \n\n\n\n\n\n\n\n\n\n\n\n\n\n\n\n\n\n\n\n\n\nEvenimentul a continuat cu un discus oferit și de către doamna asist.univ.dr.arh Brândușa Havași\, care a vorbit despre bogăția arhitecturală a Timișoarei și importanța oferirii de oportunități pentru copii și tineri pentru a descoperi cultura și istoria orașului prin moduri creative. \n\n\n\nExpoziția curpinde peste 50 de desene realizate de elevii Liceului Teoretic „Grigore Moisil” și Școlii Gimnaziale Nr. 19 „Avram Iancu”\, putând fi vizitată până în data de15 noiembrie 2024. \n\n\n\n\n\n\n\n\n\n\n\n\n\n\n\n\n\n\n\n\n\n\n\n\n\nDe asemnea\, publicul a avut oportunitatea de a se bucura de experiențe imersive oferite de Spotlight Heritage Timișoara prin aplicația proprie de realitate virtuală\, descoperind orașul și interacționând cu patrimonul cultural al acestuia în lumea digitală. \n\n\n\nAcest eveniment este dedicat publicului larg\, indiferent de vârstă\, și încurajează o conexiune mai profundă între tânăra generație și bogăția culturală a orașului\, în timp ce susține dezvoltarea talentelor artistice emergente. Expoziția reprezintă o celebrare a artei\, dar și o modalitate de a sublinia importanța protejării și valorificării patrimoniului arhitectural al Timișoarei pentru viitoarele generații.
URL:https://spotlight-timisoara.eu/eveniment/vernisajul-expozitiei-de-desene-povestile-timisoarei-o-calatorie-vizuala-prin-timisoara/
CATEGORIES:News
ATTACH;FMTTYPE=image/jpeg:https://spotlight-timisoara.eu/wp-content/uploads/2024/11/Vernisaj-Povestile-Timisoarei_12-octombrie-4.jpeg
END:VEVENT
END:VCALENDAR