BEGIN:VCALENDAR
VERSION:2.0
PRODID:-//Patrimoniul sub reflectoare Timisoara Spotlight Heritage Timisoara - ECPv6.15.20//NONSGML v1.0//EN
CALSCALE:GREGORIAN
METHOD:PUBLISH
X-WR-CALNAME:Patrimoniul sub reflectoare Timisoara Spotlight Heritage Timisoara
X-ORIGINAL-URL:https://spotlight-timisoara.eu
X-WR-CALDESC:Evenimente pentru Patrimoniul sub reflectoare Timisoara Spotlight Heritage Timisoara
REFRESH-INTERVAL;VALUE=DURATION:PT1H
X-Robots-Tag:noindex
X-PUBLISHED-TTL:PT1H
BEGIN:VTIMEZONE
TZID:Europe/Bucharest
BEGIN:DAYLIGHT
TZOFFSETFROM:+0200
TZOFFSETTO:+0300
TZNAME:EEST
DTSTART:20210328T010000
END:DAYLIGHT
BEGIN:STANDARD
TZOFFSETFROM:+0300
TZOFFSETTO:+0200
TZNAME:EET
DTSTART:20211031T010000
END:STANDARD
BEGIN:DAYLIGHT
TZOFFSETFROM:+0200
TZOFFSETTO:+0300
TZNAME:EEST
DTSTART:20220327T010000
END:DAYLIGHT
BEGIN:STANDARD
TZOFFSETFROM:+0300
TZOFFSETTO:+0200
TZNAME:EET
DTSTART:20221030T010000
END:STANDARD
BEGIN:DAYLIGHT
TZOFFSETFROM:+0200
TZOFFSETTO:+0300
TZNAME:EEST
DTSTART:20230326T010000
END:DAYLIGHT
BEGIN:STANDARD
TZOFFSETFROM:+0300
TZOFFSETTO:+0200
TZNAME:EET
DTSTART:20231029T010000
END:STANDARD
END:VTIMEZONE
BEGIN:VEVENT
DTSTART;TZID=Europe/Bucharest:20220802T210000
DTEND;TZID=Europe/Bucharest:20220802T220000
DTSTAMP:20260425T061906
CREATED:20220729T124214Z
LAST-MODIFIED:20221126T105759Z
UID:29759-1659474000-1659477600@spotlight-timisoara.eu
SUMMARY:Cartierul Iosefin\, sub reflector! Spectacol de teatru\, cu utilizarea tehnologiei digitale și elemente de realitate augmentată
DESCRIPTION:Cartierul Iosefin\, sub reflector!\nSpectacol de teatru\,\ncu utilizarea tehnologiei digitale\nși elemente de realitate augmentată\n  \nCartierul Iosefin\, sub reflector! Piața Mocioni din Cartierul Iosefin | Marți | 2 August 2022 | ora 21:00\n \nTe așteptăm alături de noi și echipa teatrului studențesc Thespis\, la un spectacol de teatru care va fi potențat prin utilizarea tehnologiei digitale și a elementelor de realitate augmentată și care va pune în evidență patrimoniul cultural din cartierul Iosefin\, unde prezentul se va întâlni cu trecutul\, într-o manieră atractivă\, artistică\, dinamică. \n \nSpectacolul face parte din seria de evenimente dedicate programului cultural Timișoara Capitală Culturală Europeană 2023\, desfășurate în cadrul proiectului Spotlight Heritage Timișoara 2022\, proiect co-finanțat de Primăria Municipiului Timișoara prin Centrul de Proiecte\, Consiliul Județean Timiș\, realizat în colaborare cu Universitatea Politehnica Timișoara și Muzeul Național al Banatului. \nVino în 2 August\, la ora 21:00\, să experimentezi istoria și patrimoniul unui oraș printr-o întâlnire între trecut și prezent\, cu ajutorul artei și al elementelor de realitate virtuală și augmentată! \nParticiparea este gratuită! \n \n 
URL:https://spotlight-timisoara.eu/eveniment/cartierul-iosefin-sub-reflector-spectacol-de-teatru-cu-utilizarea-tehnologiei-digitale-si-elemente-de-realitate-augmentata/
LOCATION:Piața Mocioni\, cartier Iosefin\, Piața Alexandru Mocioni\, Timișoara\, Timis\, 300199\, România
CATEGORIES:Event,Happenings,Teatru
ATTACH;FMTTYPE=image/jpeg:https://spotlight-timisoara.eu/wp-content/uploads/2022/07/SH_Cetate_Teatru_Aug_Event-Cover_Event-Cover.jpg
ORGANIZER;CN="Spotlight Heritage Timisoara":MAILTO:contact@spotlight-timisoara.eu
END:VEVENT
END:VCALENDAR