BEGIN:VCALENDAR
VERSION:2.0
PRODID:-//Patrimoniul sub reflectoare Timisoara Spotlight Heritage Timisoara - ECPv6.15.20//NONSGML v1.0//EN
CALSCALE:GREGORIAN
METHOD:PUBLISH
X-ORIGINAL-URL:https://spotlight-timisoara.eu
X-WR-CALDESC:Evenimente pentru Patrimoniul sub reflectoare Timisoara Spotlight Heritage Timisoara
REFRESH-INTERVAL;VALUE=DURATION:PT1H
X-Robots-Tag:noindex
X-PUBLISHED-TTL:PT1H
BEGIN:VTIMEZONE
TZID:Europe/Bucharest
BEGIN:DAYLIGHT
TZOFFSETFROM:+0200
TZOFFSETTO:+0300
TZNAME:EEST
DTSTART:20210328T010000
END:DAYLIGHT
BEGIN:STANDARD
TZOFFSETFROM:+0300
TZOFFSETTO:+0200
TZNAME:EET
DTSTART:20211031T010000
END:STANDARD
BEGIN:DAYLIGHT
TZOFFSETFROM:+0200
TZOFFSETTO:+0300
TZNAME:EEST
DTSTART:20220327T010000
END:DAYLIGHT
BEGIN:STANDARD
TZOFFSETFROM:+0300
TZOFFSETTO:+0200
TZNAME:EET
DTSTART:20221030T010000
END:STANDARD
BEGIN:DAYLIGHT
TZOFFSETFROM:+0200
TZOFFSETTO:+0300
TZNAME:EEST
DTSTART:20230326T010000
END:DAYLIGHT
BEGIN:STANDARD
TZOFFSETFROM:+0300
TZOFFSETTO:+0200
TZNAME:EET
DTSTART:20231029T010000
END:STANDARD
END:VTIMEZONE
BEGIN:VEVENT
DTSTART;TZID=Europe/Bucharest:20221021T180000
DTEND;TZID=Europe/Bucharest:20221021T190000
DTSTAMP:20260425T062000
CREATED:20221001T141033Z
LAST-MODIFIED:20221128T104128Z
UID:30353-1666375200-1666378800@spotlight-timisoara.eu
SUMMARY:Cartierul Elisabetin - O lume într-un cufăr. Spectacol de dans\, cu utilizarea tehnologiei digitale și elemente de realitate augmentată
DESCRIPTION:Spotlighting Timisoara’s Heritage through Dance\nDescoperă patrimoniul Timișoare în pas de dans\nCartierul Elisabetin – O lume într-un cufăr\nSpectacol de dans\, cu utilizarea tehnologiei digitale și elemente de realitate augmentată\n  \nCinema VICTORIA | Vineri | 21 Octombrie 2022 | ora 18:00 \nSpectacolul este realizat de Clubul de Dans Sportiv Magnum Team\, în colaborare cu Universitatea Politehnica din Timișoara și Muzeul Național al Banatului și face parte din seria de evenimente dedicate programului cultural Timișoara Capitală Culturală Europeană 2023\, desfășurate în cadrul proiectului „Spotlighting Timisoara’s Heritage through Dance/Descoperă patrimoniul Timișoarei în pas de dans”\, proiect co-finanțat de Primăria Municipiului Timișoara prin Centrul de Proiecte. \nCel de-al treilea spectacol de dans are în centrul său\, tot un personaj feminin. Show-ul îmbină dansul cu tehnologia\, prin componentele de realitate virtuală și augmentată și se concentrează pe povestea doamnei Netti Diel (1894 – 1982)\, soția medicului dr. Ludwig Diel. \nExpoziția „Patrimoniul sub reflectoare Timișoara. Cartierul Elisabetin și  Netti dr. Diel  – O lume într-un cufăr”\, organizată de Muzeul Național al Banatului și Universitatea Politehnica Timișoara în 2020\, care a avut la bază manuscrisul Jurnal de familie al doamnei prof.dr.Pia Brînzeu\, a fost punctul de plecare al acestui spectacol. \nMomentele de dans descriu povestea a trei femei\, trăitoate în epoci istorice foarte diferite: Timișoara interbelică (Netti)\, Timișoara în anii comunismului (Carla) și Timișoara postdecembristă (Pia) și utilizează tehnologia digitală și elemente de realitate augmentată\, componente realizate de studenți politehniști\, implicați în proiectul „Spotlight Heritage Timișoara”. \nSpectacolul de dans înregistrat într-o experiență multimedia cu AR poate fi vizionat aici:  \n \n\n\nProiectul „Spotlighting Timisoaraʹs Heritage through Dance” duce mai departe demersurile a două proiecte precedente: unul marca Magnum Team\, intitulat „În pași de dans prin clădiri de patrimoniu”\, derulat în 2021\, iar cel de-al doilea al Universității Politehnica Timișoara\, în parteneriat cu Muzeul Național al Banatului\, intitulat „Spotlight Heritage Timișoara”. \nUltimul spectacol de dans va ilustra o poveste din cartierul Cetate.
URL:https://spotlight-timisoara.eu/eveniment/cartierul-elisabetin-o-lume-intr-un-cufar-spectacol-de-dans-cu-utilizarea-tehnologiei-digitale-si-elemente-de-realitate-augmentata/
LOCATION:Cinema VICTORIA\, Strada Ciprian Porumbescu 2\, Timișoara\, Timiș\, 300425
CATEGORIES:Dans,Event,Happenings
ATTACH;FMTTYPE=image/png:https://spotlight-timisoara.eu/wp-content/uploads/2022/10/Elisabetin-Cover-Corect.png
ORGANIZER;CN="Spotlight Heritage Timisoara":MAILTO:contact@spotlight-timisoara.eu
END:VEVENT
END:VCALENDAR