BEGIN:VCALENDAR
VERSION:2.0
PRODID:-//Patrimoniul sub reflectoare Timisoara Spotlight Heritage Timisoara - ECPv6.15.20//NONSGML v1.0//EN
CALSCALE:GREGORIAN
METHOD:PUBLISH
X-WR-CALNAME:Patrimoniul sub reflectoare Timisoara Spotlight Heritage Timisoara
X-ORIGINAL-URL:https://spotlight-timisoara.eu
X-WR-CALDESC:Evenimente pentru Patrimoniul sub reflectoare Timisoara Spotlight Heritage Timisoara
REFRESH-INTERVAL;VALUE=DURATION:PT1H
X-Robots-Tag:noindex
X-PUBLISHED-TTL:PT1H
BEGIN:VTIMEZONE
TZID:Europe/Bucharest
BEGIN:DAYLIGHT
TZOFFSETFROM:+0200
TZOFFSETTO:+0300
TZNAME:EEST
DTSTART:20220327T010000
END:DAYLIGHT
BEGIN:STANDARD
TZOFFSETFROM:+0300
TZOFFSETTO:+0200
TZNAME:EET
DTSTART:20221030T010000
END:STANDARD
BEGIN:DAYLIGHT
TZOFFSETFROM:+0200
TZOFFSETTO:+0300
TZNAME:EEST
DTSTART:20230326T010000
END:DAYLIGHT
BEGIN:STANDARD
TZOFFSETFROM:+0300
TZOFFSETTO:+0200
TZNAME:EET
DTSTART:20231029T010000
END:STANDARD
BEGIN:DAYLIGHT
TZOFFSETFROM:+0200
TZOFFSETTO:+0300
TZNAME:EEST
DTSTART:20240331T010000
END:DAYLIGHT
BEGIN:STANDARD
TZOFFSETFROM:+0300
TZOFFSETTO:+0200
TZNAME:EET
DTSTART:20241027T010000
END:STANDARD
END:VTIMEZONE
BEGIN:VEVENT
DTSTART;TZID=Europe/Bucharest:20230901T000000
DTEND;TZID=Europe/Bucharest:20230901T235959
DTSTAMP:20260425T020337
CREATED:20240215T132337Z
LAST-MODIFIED:20240215T132338Z
UID:34303-1693526400-1693612799@spotlight-timisoara.eu
SUMMARY:Dorian BRANEA\, directorul Institutului Cultural Român de la New York în vizită la expoziția „Patrimoniul sub reflectoare - Lumi Paralele”
DESCRIPTION:Poveștile noastre și ale orașului au trecut și peste Atlantic\, iar expoziția „Patrimoniul sub reflectoare – Lumi Paralele” a ajuns să atragă oamenii și din New York!  \n\n\n\nChiar și pentru unul sau doi vizitatori\, expoziția noastră este deschisă și ghizii noștri sunt acolo pentru a spune mai departe istoria locurilor din Timișoara și a tuturor celor care au trăit aici înaintea noastră. Săptămâna aceasta am avut parte de vizita directorului Institutului Cultural Român de la New York\, Dorian Branea\, alături de soția sa Daciana Branea. Au descoperit istoria\, cultura și patrimoniul orașului prin poveștile oamenilor\, trecând peste granițele timpului în lumea digitală. \n\n\n\nPrint-o experiență imersivă\, vizitatorii noștri s-au putut bucura de o vizită a Timișoarei și a clădirilor emblematice a acesteia prin doar câteva clik-uri\, iar plimbarea pe canalul Bega a fost făcută chiar din mansarda muzeului\, cu ajutorul ochelarilor de realitate virtuală! \n\n\n\nVă așteptăm și pe voi să ne vizitați și să descoperiți altfel Timișoara! Expoziția poate fi vizitată de miercuri până duminică\, între orele 10:00-18:00 la mansarda B2 a Bastionului Maria Theresia\, parte a proiectului Spotlight Heritage Timișoara\, din Programul cultural național „Timișoara – Capitală Europeană a Culturii în anul 2023”. \n\n\n\nAplicația de mobil poate fi descarcată accesând link-urile de mai jos: \n\n\n\n\nAndroid: https://is.gd/SjiIgv\n\n\n\n\n\niOS: https://is.gd/y6JxeV
URL:https://spotlight-timisoara.eu/eveniment/dorian-branea-directorul-institutului-cultural-roman-de-la-new-york-in-vizita-la-expozitia-patrimoniul-sub-reflectoare-lumi-paralele/
LOCATION:Timis
CATEGORIES:News
ATTACH;FMTTYPE=image/jpeg:https://spotlight-timisoara.eu/wp-content/uploads/2024/02/WhatsApp-Image-2023-09-01-at-14.07.03-1.jpeg
ORGANIZER;CN="Spotlight Heritage Timisoara":MAILTO:contact@spotlight-timisoara.eu
END:VEVENT
END:VCALENDAR