BEGIN:VCALENDAR
VERSION:2.0
PRODID:-//Patrimoniul sub reflectoare Timisoara Spotlight Heritage Timisoara - ECPv6.15.20//NONSGML v1.0//EN
CALSCALE:GREGORIAN
METHOD:PUBLISH
X-WR-CALNAME:Patrimoniul sub reflectoare Timisoara Spotlight Heritage Timisoara
X-ORIGINAL-URL:https://spotlight-timisoara.eu
X-WR-CALDESC:Evenimente pentru Patrimoniul sub reflectoare Timisoara Spotlight Heritage Timisoara
REFRESH-INTERVAL;VALUE=DURATION:PT1H
X-Robots-Tag:noindex
X-PUBLISHED-TTL:PT1H
BEGIN:VTIMEZONE
TZID:Europe/Bucharest
BEGIN:DAYLIGHT
TZOFFSETFROM:+0200
TZOFFSETTO:+0300
TZNAME:EEST
DTSTART:20220327T010000
END:DAYLIGHT
BEGIN:STANDARD
TZOFFSETFROM:+0300
TZOFFSETTO:+0200
TZNAME:EET
DTSTART:20221030T010000
END:STANDARD
BEGIN:DAYLIGHT
TZOFFSETFROM:+0200
TZOFFSETTO:+0300
TZNAME:EEST
DTSTART:20230326T010000
END:DAYLIGHT
BEGIN:STANDARD
TZOFFSETFROM:+0300
TZOFFSETTO:+0200
TZNAME:EET
DTSTART:20231029T010000
END:STANDARD
BEGIN:DAYLIGHT
TZOFFSETFROM:+0200
TZOFFSETTO:+0300
TZNAME:EEST
DTSTART:20240331T010000
END:DAYLIGHT
BEGIN:STANDARD
TZOFFSETFROM:+0300
TZOFFSETTO:+0200
TZNAME:EET
DTSTART:20241027T010000
END:STANDARD
END:VTIMEZONE
BEGIN:VEVENT
DTSTART;VALUE=DATE:20230504
DTEND;VALUE=DATE:20230505
DTSTAMP:20260425T173815
CREATED:20230515T132418Z
LAST-MODIFIED:20240214T080216Z
UID:32070-1683158400-1683244799@spotlight-timisoara.eu
SUMMARY:International Digital Culture & Spotlight Heritage Festival - Cazarma U - Digital Culture Space
DESCRIPTION:International Digital Culture & Spotlight Heritage Festival – Cazarma U – Digital Culture Space\n4 mai – 30 august 2023\nPremiere digitale dedicate culturii și științei\, experiențe inedite pentru copii\, tineri și toți cei interesați de patrimoniul digital \nUniversitatea Politehnica Timișoara organizează pentru prima dată Festivalul Internațional de Cultură și Patrimoniu Digital / International Digital Culture & Spotlight Heritage Festival in perioada 4 mai – 30 august 2023\, parte a proiectului Patrimoniul sub reflectoare Timișoara realizat în parteneriat cu Muzeul Național al Banatului\, parte Programului Cultural Timișoara 2023 Capitală Europeană a Culturii și finanțat parțial de EEA and Norway Grants.  Festivalul Internațional de Cultură și Patrimoniu Digital reunește curatori\, artiști digitali\, profesori și studenți din România\, Norvegia\, SUA\, Austria\, Italia\, Danemarca\, Lituania și alte țări într-o manifestare de incursiune în dimensiunile culturale ale tehnologiilor digitale imersive. \nFestivalul Internațional de Cultură și Patrimoniu Digital cuprinde demonstrații de realitate extinsă din domenii culturale\, istorice\, de știință\, educație și instalații create pentru clădirile de patrimoniu. Toate evenimentele sunt publice\, destinate tuturor\, copiilor și familiilor\, în diverse locații: ExperimentariumTM și Muzeul tehnic al UPT – Science and Tech Playground\, în Cazarma U – Digital Culture Space\, holul clădirii Electro – Culture Fun Space și a Universității Politehnica din Timișoara\, în spațiile Muzeului Național al Banatului – Digital Heritage Dome.  \nÎn aceeași perioadă se va organiza Conferința Internațională NETTIES\, Networking Entities\, organizată împreună cu asociația internațională IAFES și un workshop dedicat specialiștilor din industriile creative între 25-26 mai 2023.  \nCazarma U – Digital Culture Space  este prima locație deschisă publicului în 4 mai 2023 ca un Spațiu cultural imersiv\, deschis tuturor celor care doresc să experimenteze poveștile Timișoarei\, ghidați de tehnologiile de realitate augmentată și virtuală. Pornind de la imaginea de ansamblu a orașului\, văzută de sus\, vizitatorii sunt purtați prin istoria celor 5 cartiere istorice\, dezvăluită prin video-uri 3D și imagini scanate 3D ale patrimoniului muzeal\, pot vizita în 360 clădirile emblematice cu ajutorul ochelarilor VR și să mapeze parcursul proiectului Patrimoniul sub Reflectoare. Se va prezenta în premiera lucrarea Tipare ale poeziei a artistului Marius Jurca\, o adaptare a poeziilor originale ale lui Robert Șerban\, într-o instalație interactivă multimedia. O premieră este și prezentarea\, în prezența autoarei Ingrid Kristensen Bjørnaali din Norvegia\, a instalației video 3D Land Bodies\, Decomposing Mass (Corpuri de pământ\, descompunerea materiei) despre ecosistemul turbăriilor și a peisajelor nordice. \nDe asemenea\, vizitatorii pot afla povestea proiectului Spotlight Heritage Timișoara și pot descoperi povestea cartierelor orașului prin tehnologiile digitale de realitate augmentată și virtuală: Iosefin (2019)\, Elisabetin (2020)\, Fabric (2021)\, Cetate (2022) și Giroc (2023). Program de vizitare 4 mai – 30 august 2023\, în fiecare Miercuri – Duminică orele 16 – 20 \nInformații la https://spotlight-timisoara.eu/en/eveniment/international-digital-culture-spotlight-heritage-festival/  \n \nToate locațiile sunt integrate în circuite mediate cultural care vor invita la explorări public divers și unde participarea directă și interacțiunea prin tehnologie vor permite internalizarea poveștirilor digitale și  vor stimula localnicii și turiștii să vadă\, să audă\, să simtă\, dar și să acționeze\, să co-creeze și să interiorizeze orașul. \nPentru informații\, programul de vizitare\, tururile ghidate și medierea culturală vă rugăm sa urmăriți   https://spotlight-timisoara.eu/en/international/ și Facebook: https://www.facebook.com/SpotlightHeritageTimisoara/ Instagram: @spotlight_tm \nProiectul Virtual Spotlight Heritage Timisoara beneficiază de un grant de € 97.000 de la Islanda\, Liechtenstein și Norvegia prin EEA and Norway Grants.  \nSpotlight Heritage Timișoara / Patrimoniul sub reflectoare este o inițiativă culturală digitală a Universității Politehnica Timișoara realizată în parteneriat cu Muzeul Național al Banatului\, parte a Programului Cultural Timișoara 2023 Capitală Europeană a Culturii. Proiect cultural co-finanțat de Municipiul Timișoara prin Centrul de Proiecte\, Consiliul Județean Timiș\, Ministerul Culturii\, EEA and Norway Grants. \nComponentele digitale ale proiectului sunt accesibile online la adresa https://spotlight-timisoara.eu/ și prin aplicațiile mobile care pot fi descărcate din magazinele Android și Apple sau căutând „Spotlight Heritage Timișoara”. \n\nLink aplicații pentru utilizatorii Android: https://is.gd/SjiIgv   \nLink aplicații pentru utilizatorii iOS: https://is.gd/y6JxeV   \n\nInformații despre eveniment sunt disponibile și pe: \n\nPagina web: https://spotlight-timisoara.eu/ \nFacebook: https://www.facebook.com/SpotlightHeritageTimisoara/ \nTwitter: @spotlight_TM21 \nInstagram: @spotlight_tm\n\nGranturile SEE și norvegiene reprezintă contribuția Islandei\, Principatului Liechtenstein și Norvegiei pentru o Europă verde\, competitivă și incluzivă. Sunt două obiective generale: reducerea disparităților economice și sociale în Europa și consolidarea relațiilor bilaterale între statele donatoare și 15 state UE din centrul și sudul Europei și statele baltice. Cele trei state donatoare cooperează îndeaproape cu UE în baza Acordului privind Spațiul Economic European (SEE). Între 1994 și 2014\, statele donatoare au contribuit cu €3\,3 miliarde prin scheme consecutive de grant. Pentru perioada 2014-2021\, Granturile SEE și norvegiene se ridică la €2\,8 miliarde. Mai multe detalii sunt disponibile pe: www.eeagrants.org și www.eeagrants.ro  \nEvenimentul face parte din inițiativa digitală culturală Spotlight Heritage Timișoara\, parte a Programului Cultural Timișoara 2023 Capitală Europeană a Culturii și este co-finanțat de fondurile EEA și Norway Grants.
URL:https://spotlight-timisoara.eu/eveniment/spotlight-heritage-festival-cazarma-u-digital-culture-space/
LOCATION:Cazarma U\, Piața Mărăști 2\, Timișoara\, România
CATEGORIES:News,XR Festival
ATTACH;FMTTYPE=image/jpeg:https://spotlight-timisoara.eu/wp-content/uploads/2023/04/SH_Digital_Festival_Web_Cover-1.jpg
ORGANIZER;CN="Spotlight Heritage Timisoara":MAILTO:contact@spotlight-timisoara.eu
END:VEVENT
END:VCALENDAR