BEGIN:VCALENDAR
VERSION:2.0
PRODID:-//Patrimoniul sub reflectoare Timisoara Spotlight Heritage Timisoara - ECPv6.15.19//NONSGML v1.0//EN
CALSCALE:GREGORIAN
METHOD:PUBLISH
X-ORIGINAL-URL:https://spotlight-timisoara.eu
X-WR-CALDESC:Evenimente pentru Patrimoniul sub reflectoare Timisoara Spotlight Heritage Timisoara
REFRESH-INTERVAL;VALUE=DURATION:PT1H
X-Robots-Tag:noindex
X-PUBLISHED-TTL:PT1H
BEGIN:VTIMEZONE
TZID:Europe/Bucharest
BEGIN:DAYLIGHT
TZOFFSETFROM:+0200
TZOFFSETTO:+0300
TZNAME:EEST
DTSTART:20230326T010000
END:DAYLIGHT
BEGIN:STANDARD
TZOFFSETFROM:+0300
TZOFFSETTO:+0200
TZNAME:EET
DTSTART:20231029T010000
END:STANDARD
BEGIN:DAYLIGHT
TZOFFSETFROM:+0200
TZOFFSETTO:+0300
TZNAME:EEST
DTSTART:20240331T010000
END:DAYLIGHT
BEGIN:STANDARD
TZOFFSETFROM:+0300
TZOFFSETTO:+0200
TZNAME:EET
DTSTART:20241027T010000
END:STANDARD
BEGIN:DAYLIGHT
TZOFFSETFROM:+0200
TZOFFSETTO:+0300
TZNAME:EEST
DTSTART:20250330T010000
END:DAYLIGHT
BEGIN:STANDARD
TZOFFSETFROM:+0300
TZOFFSETTO:+0200
TZNAME:EET
DTSTART:20251026T010000
END:STANDARD
BEGIN:DAYLIGHT
TZOFFSETFROM:+0200
TZOFFSETTO:+0300
TZNAME:EEST
DTSTART:20260329T010000
END:DAYLIGHT
BEGIN:STANDARD
TZOFFSETFROM:+0300
TZOFFSETTO:+0200
TZNAME:EET
DTSTART:20261025T010000
END:STANDARD
END:VTIMEZONE
BEGIN:VEVENT
DTSTART;TZID=Europe/Bucharest:20241212T080000
DTEND;TZID=Europe/Bucharest:20250124T170000
DTSTAMP:20260420T185256
CREATED:20241218T132232Z
LAST-MODIFIED:20241218T132729Z
UID:35087-1733990400-1737738000@spotlight-timisoara.eu
SUMMARY:Expoziția „𝐑𝐞𝐯𝐨𝐥𝐭𝐚 𝐬𝐭𝐮𝐝𝐞𝐧𝐭̦𝐢𝐥𝐨𝐫 𝐝𝐢𝐧 𝐓𝐢𝐦𝐢𝐬̦𝐨𝐚𝐫𝐚: 𝐋𝐮𝐧𝐠𝐮𝐥 𝐝𝐫𝐮𝐦 𝐜𝐚̆𝐭𝐫𝐞 𝐫𝐞𝐯𝐨𝐥𝐮𝐭̦𝐢𝐞”
DESCRIPTION:Astăzi\, 12 decembrie\, a avut loc deschiderea oficială a expoziției „𝐑𝐞𝐯𝐨𝐥𝐭𝐚 𝐬𝐭𝐮𝐝𝐞𝐧𝐭̦𝐢𝐥𝐨𝐫 𝐝𝐢𝐧 𝐓𝐢𝐦𝐢𝐬̦𝐨𝐚𝐫𝐚: 𝐋𝐮𝐧𝐠𝐮𝐥 𝐝𝐫𝐮𝐦 𝐜𝐚̆𝐭𝐫𝐞 𝐫𝐞𝐯𝐨𝐥𝐮𝐭̦𝐢𝐞”\, organizată și expusă în holul central din Biblioteca Universităţii Politehnica Timişoara (Bulevardul Vasile Pârvan 2\, Timișoara). \n\n\n\nProiectul nostru face parte și el din expoziție\, prezentând memorii\, amintiri și fragmente din istoria timpurie a revoltelor studențești din 1956\, unde grupări de studenți s-au adunat în Cantina Politehnicii pentru a-și manifesta dorința de libertate față de opresorii de ocupație sovietică de la momentul respectiv. \n\n\n\n\nCantina Politehnicii\n\n\n\n\nAceastă revoltă a culminat în 30 octombrie 1956\, când un grup de studenţi ai Institutului Politehnic au prezentat un memoriu cu solicitări adresate autorităţilor comuniste\, pornind astfel un drum lung\, anevoios\, dar cu o destinație clară 33 de ani mai târziu\, când tot în Timișoara izbucnește Revoluția din 1989. \n\n\n\nAcum\, în 2024\, marcăm 35 de ani de libertate de la momentele și ororile petrecute în acea lună de decembrie. De aceea\, te invităm să descoperi în zilele care urmează expoziția\, dar și restul evenimentelor petrecute prin oraș. \n\n\n\nExpoziția poate fi vizitată\, 𝐠𝐫𝐚𝐭𝐮𝐢𝐭\, 𝐩𝐚̂𝐧𝐚̆ 𝐩𝐞 𝟐𝟑 𝐢𝐚𝐧𝐮𝐚𝐫𝐢𝐞 𝟐𝟎𝟐𝟓. \n\n\n\n\n\n			\n				\n			\n		\n\n\n\n\n			\n				\n			\n		\n\n\n\n\n			\n				\n			\n		\n\n\n\n\n			\n				\n			\n		\n\n\n\n\n			\n				\n			\n		\n\n\n\n\n			\n				\n			\n		\n\n\n\n\n			\n				\n			\n		\n\n\n\n\n			\n				\n			\n		\n\n\n\n\n			\n				\n			\n		\n\n\n\n\n			\n				\n			\n		\n\n\n\n\n			\n				\n			\n		\n\n\n\n\n			\n				\n			\n		\n\n\n\n\n––––––- \n\n\n\nEvenimentul face parte din programul ”35 ani de libertate”\, organizat de Primăria Municipiului Timișoara.
URL:https://spotlight-timisoara.eu/eveniment/expozitia-revolta-studentilor-1956/
CATEGORIES:Event,News
ATTACH;FMTTYPE=image/jpeg:https://spotlight-timisoara.eu/wp-content/uploads/2024/12/DSCF3767-scaled.jpg
END:VEVENT
BEGIN:VEVENT
DTSTART;TZID=Europe/Bucharest:20250304T000000
DTEND;TZID=Europe/Bucharest:20250304T235959
DTSTAMP:20260420T185256
CREATED:20250304T144609Z
LAST-MODIFIED:20250304T145754Z
UID:35189-1741046400-1741132799@spotlight-timisoara.eu
SUMMARY:Tipare ale Poeziei - „pictează” digital Timișoara prin poeziei și culoare!
DESCRIPTION:Tipare ale Poeziei este o instalație interactivă cu software personalizat prin care utilizatorii pot să descopere Timișoara prin poezie și culoare. Acesta a fost realizată în 2023 de artistul local Marius Jurca (13m10j)\, având la bază poezii create de scriitorul Robert Șerban\, sub titlul „Poeme despre Domnișoara Timișoara”\, parte din proiectul cultural Spotlight Heritage Timișoara. \n\n\n\nInstalația digitală prezintă 14 locații de seamă din oraș\, prin 14 poezii disctincte și 14 palete de culori diferite\, fiecare reprezentând câte o poezi și locație. Interfața acesteia prezintă o selecție de numere aleatorie\, fiecare dedicată a câte unui vers pentru fiecare poezie din catalog. Oamenii pot urmări codurile de culoare sau zonele pentru care îți doresc să asculte poezia sau pot devenii proprii artiști digitali\, amestecând versurile și culorile pentru a crea poezii proprii ce definesc orașul în moduri unicat. \n\n\n\n\n\n\n\n\n\nPoemele fac referire la clădiri de patrimoniu\, piețe și monumente istorice care au contribuit la definirea profilului arhitectural și cultural al orașului. Prin intermediul cuvintelor și al imaginilor\, oamenii sunt invitați să călătorească în timp și spațiu\, să exploreze povestea și simbolurile care au modelat Timișoara. Ascultând versurile\, aceștia pot crea prin culori și forme imaginea Timișoarei privită de sus! \n\n\n\nInstalația digitală și poemele care fac parte din ea sunt disponibile în două limbi – Română și Engleză. Apasați AICI pentru varianta în engleză a videoclipului anterior. \n\n\n\n\n\n\n\n\n\n\n\n\n\n\n\n\n\n\n\n\n\n\n\n\n\n\n\n\n\n\n\n\n\n\n\n\n\n\n\n\n\nAplicația a fost realizată în anul 2023\, cu prilejul evenimentului Timișoara Capitală Europeană a Culturii\, făcând parte din portofoliul de aplicații digitale interactive ale proiectului cultural Spotlight Heritage Timișoara. Această instalație digitală a adus împreună pe artistul local multimedia\, Marius Jurca (13m10j)\, pasionat de procesele imprevizibile și aleatorii ale interconexiunilor dintre artă\, știință și tehnologie și poetul local Robert Șerban într-un parteneriat creativ\, plin de provocări.  \n\n\n\nTipare ale Poeziei a făcut parte din aplicațiile puse la dispoziție de echipa noastră încă din mai 2023\, când a debutat la deschiderea Festivalului Internațional de Cultură și Patrimoniu Digital Spotlight Heritage Timișoara\, în locația Culture Fun Space (holul principal al clădirii Electro) pentru o perioadă de câteva săptămâni\, acum fiind pusă la dispoziția publicului\, gratuit\, în Muzeul Tehnic UPT – Experimentarium TM. \n\n\n\nRezultatul a fost o aplicație interactivă cu un software personalizat\, ce permite utilizatorilor să se joace cu versuri din poeziile lui Robert\, cu culori și cu numere pentru a crea imaginea Timișoarei privită de sus sau doar creații artistice aparte\, proprii\, unice\, care să spună povestea fiecărei persoane care interacționează cu aceasta. \n\n\n\n_____ \n\n\n\n13m10j (Marius Jurca n. 1984) este artist multimedia și designer\, pasionat de crearea de experiențe interactive pentru oameni și comunități. Este interesat de numere aleatorii\, de procese imprevizibile și de interconexiunile dintre artă\, știință și tehnologie. Folosește algoritmi\, numere sunete și culori\, pentru a explora complexitatea proceselor invizibile pentru ochiul uman. \n\n\n\nRobert Șerban – Scriitor și jurnalist\, Robert Șerban este președintele Festivalului Internațional de Literatură de la Timișoara\, realizator și moderator al emisiunii culturale Piper pe limbă (TVR Timișoara și TVR 3)\, redactor al revistei Orizont. A publicat șase cărți de poezie\, cea mai recentă fiind Tehnici de camuflaj (2018). Poemele sale au apărut în antologii\, reviste ori volume de autor\, în limbile germană\, sârbă\, maghiară\, poloneză\, cehă\, engleză\, spaniolă\, franceză\, italiană\, olandeză\, macedoneană\, daneză\, norvegiană\, ebraică\, suedeză\, arabă\, ucrainiană\, idiș\, portugheză.
URL:https://spotlight-timisoara.eu/eveniment/tipare-ale-poeziei-2/
CATEGORIES:Event,News
ATTACH;FMTTYPE=image/jpeg:https://spotlight-timisoara.eu/wp-content/uploads/2023/07/Culture-Fun-Space-11-scaled.jpg
END:VEVENT
BEGIN:VEVENT
DTSTART;TZID=Europe/Bucharest:20250411T080000
DTEND;TZID=Europe/Bucharest:20250411T170000
DTSTAMP:20260420T185256
CREATED:20250407T081831Z
LAST-MODIFIED:20250411T082150Z
UID:35220-1744358400-1744390800@spotlight-timisoara.eu
SUMMARY:Tur ghidat pentru zeci de elevi din Timișoara și Germania
DESCRIPTION:Luni\, 7 aprilie 2025\, zeci de elevi de la Liceul Nikolaus Lenau din Timișoara\, alături de colegii lor din Germania\, au avut parte de o experiență educațională inedită\, facilitată de echipa Spotlight Heritage Timișoara. Vizita\, găzduită de Muzeul Tehnic UPT\, a culminat cu o explorare interactivă a patrimoniului local prin intermediul tehnologiilor de ultimă generație. \n\n\n\nPunctul central al vizitei l-a reprezentat interacțiunea directă cu aplicațiile inovatoare dezvoltate de Spotlight Heritage Timișoara: Elevii s-au transformat în turiști virtuali\, explorând Timișoara în #lumeadigitala prin intermediul realității virtuale (VR). Entuziasmul a fost palpabil în timp ce aceștia au descoperit istoria și cultura orașului într-un mod captivant și imersiv. \n\n\n\nDistracția și învățarea s-au împletit perfect prin jocurile interactive de cultură generală și istorie a orașului\, disponibile prin realitatea mixtă (MR). Aceste experiențe au oferit o perspectivă nouă și antrenantă asupra bogatului trecut al Timișoarei. \n\n\n\nÎn plus\, tinerii au avut ocazia să interacționeze cu două instalații digitale permanente\, care îmbogățesc oferta educațională a muzeului: \n\n\n\n𝐓𝐢𝐩𝐚𝐫𝐞 𝐚𝐥𝐞 𝐏𝐨𝐞𝐳𝐢𝐞𝐢: Instalația interactivă creată de artistul Marius Jurca (13m10j) a oferit o modalitate artistică și personală de a descoperi Timișoara prin intermediul poeziei și culorilor. \n\n\n\n𝐏𝐡𝐲𝐬𝐢𝐜 𝐀𝐈 𝐆𝐚𝐫𝐝𝐞𝐧: Această grădină virtuală dinamică le-a permis elevilor să observe interacțiunile complexe dintre plante și ciuperci virtuale\, precum și efectele diferitelor medicamente asupra organismelor vii. \n\n\n\nTururile ghidate oferite de echipa Spotlight Heritage Timișoara subliniază importanța de a oferi tinerilor modalități unice și non-convenționale de a se conecta cu istoria locală și cu poveștile oamenilor care au format orașul\, astfel de vizite fiind considerate esențiale pentru a stimula interesul generațiilor viitoare față de patrimoniu.
URL:https://spotlight-timisoara.eu/eveniment/tur-ghidat-pentru-zeci-de-elevi-din-timisoara-si-germania/
CATEGORIES:News
ATTACH;FMTTYPE=image/jpeg:https://spotlight-timisoara.eu/wp-content/uploads/2025/04/489859477_1211486404321551_3397139281601356599_n.jpg
END:VEVENT
BEGIN:VEVENT
DTSTART;TZID=Europe/Bucharest:20250518T000000
DTEND;TZID=Europe/Bucharest:20250518T235959
DTSTAMP:20260420T185256
CREATED:20250520T130941Z
LAST-MODIFIED:20250520T133706Z
UID:35239-1747526400-1747612799@spotlight-timisoara.eu
SUMMARY:Noaptea Europeană a Muzeelor 2025 la Universitatea Politehnica Timișoara: Peste 400 de vizitatori și sute de participanți la Tururile ghidate gratuite\, în Muzeul Tehnic UPT
DESCRIPTION:Pe 17 mai 2025\, Universitatea Politehnica Timișoara\, prin Muzeul Tehnic UPT și Departamentul ID/IFR și Educație digitală\, Centrul Multimedia și împreună cu proiectul cultural Spotlight Heritage Timișoara au făcut parte din programul Noaptea Europeană a Muzeelor 2025.  \n\n\n\nOferind și un program de tururi ghidate\, Muzeul Tehnic UPT a prins viață pe parcursul serii și a invitat vizitatorii să descopere istoria fascinantă a tehnologiei informaționale. Peste 400 de persoane au trecut pragul muzeului\, având ocazia să vadă MECIPT-1 – primul calculator din mediul universitar românesc (1961)\, dar și cele mai recente aplicații de realitate virtuală și realitate mixtă. \n\n\n\nEvenimentul a fost conceput pentru toate vârstele\, oferind participanților șansa de a interacționa cu aplicații de edutainment captivante\, dezvoltate de studenții și profesorii UPT în cadrul proiectului Spotlight Heritage Timișoara. Un punct de atracție important l-au reprezentat cele mai noi aplicații de realitate virtuală (VR) și realitate Mixtă (AR/MR) Spotlight Heritage Timișoara\, prin care publicul a putut explora o lume real-virtuală complexă\, utilizând tehnologii digitale de ultimă generație pentru a prezenta repere ale Timișoarei și obiecte de patrimoniu național din colecțiile Muzeului Național al Banatului\, partener în proiect. \n\n\n\n\n\n\n\n\n\n\n\n\n\n\n\n\n\n\n\n\n\n\n\n\n\n\n\n\n\n\n\n\n\n\n\n\n\n\n\n\n\n\n\n\n\nMuzeul UPT a reunit o paletă largă de participanți\, de la copii entuziaști și tineri curioși până la seniori dornici de rememorare \, precum și un grup de tineri din cadrul serviciilor de protecție socială\, care au explorat cu fascinație exponatele.  \n\n\n\nPrintre vizitatori s-a numărat și Ion Cotârlă\, stabilit în Detroit\, un fost student al secției de Calculatoare a UPT (promoția 1970-1975)\, o perioadă efervescentă marcată de dezvoltarea MECIPT. Domnul Cotârlă\, care a avut privilegiul de a-l cunoaște pe Vasile Baltac\, dar și pe Iosif Kaufmann și de a efectua practică pe MECIPT în timpul studenției sale\, înainte de o carieră îndelungată la centrul de calcul al General Motors\, aflat în vizită în Timișoara\, a găsit ocazia să împărtășească amintiri prețioase despre pionieratul informaticii românești. \n\n\n\n\n\n\n\n\n\nVizitatorii au descoperit\, de asemenea\, instalații digitale unice\, care îmbină arta și tehnologia\, precum: \n\n\n\n\nAplicații interactive cu valențe educativ-distractive pentru copii\, dezvoltate în cadrul proiectului Patrimoniul sub reflectoare/ Spotlight Heritage Timișoara\n\n\n\n\n\nUltimele realizări ale proiectului Patrimoniul sub reflectoare/ Spotlight Heritage Timișoara în domeniul realității virtuale (VR) și realității mixte (MR/XR)\, oferind modalități sofisticate de interacțiune cu repere semnificative ale orașului Timișoara\, mediate prin tehnologii digitale de ultimă generație.\n\n\n\n\n\nO incursiune documentată în istoria tehnologiilor informaționale\, incluzând vizitarea prototipului MECIPT-1\, primul calculator universitar din România\, alături de o colecție relevantă de echipamente tehnologice ce ilustrează evoluția sectorului.\n\n\n\n\n\nAplicația VR “Bell Labs Expo”\, realizată de studenții UPT la Aniversarea a 100 de ani a Nokia Bell Labs\, dedicată dezvoltării echipamentelor de comunicații\, de la primul tranzistor până la telefoanele din ziua de azi\n\n\n\n\n\nTipare ale Poeziei: o instalație interactivă (artist: Marius Jurca\, 13m10j) ce propune o explorare a peisajului timișorean prin intermediul sinergiei dintre poezie și elemente cromatice\, inspirată de creațiile literare ale scriitorului Robert Șerban\, reunite sub titlul „Poeme despre Domnișoara Timișoara”\, parte integrantă a proiectului Patrimoniul sub reflectoare.\n\n\n\n\n\nUn ansamblu de instalații digitale originale\, ce materializează fuziunea dintre expresia artistică și inovația tehnologică:\n\n\n\n\n\nPhysic AI Garden: un ecosistem virtual dinamic\, populat de entități botanice și micologice virtuale (artiști: Anna Dumitriu & Alex May\, în colaborare cu CAPABLE Project și BioArt Revolution\, cu sprijinul Romanian Science Festival). Această instalație oferă o perspectivă asupra proceselor de creștere și interacțiune ale organismelor virtuale\, precum și asupra impactului agenților farmacologici asupra dezvoltării acestora.\n\n\n\n\n\nJocuri bazate pe realitatea augmentată (AR)\, care facilitează o interacțiune captivantă cu artefacte din patrimoniul cultural urban.\n\n\n\n\n\n\n\n\n\n\n\n\n\n\n\n\n\n\n\n\n\n\n\n\n\n\n\n\n\n\n\n\n\n\n\n\n\n\n\n\n\n\n\n\n\n\n\n\n\n\n\n\n\n\n\n\n\n\n\n\n\n\nEvenimentul Noaptea Europeană Muzeelor 2025 a fost organizat sâmbătă\, 17 mai\, marcând cea de-a XXI-a ediție. Așteptat cu entuziasm în fiecare an\, Noaptea Muzeelor 21 s-a desfășurat pe parcursul zilei și până târziu în noapte\, în sincron cu evenimente similare din întreaga Europă.  \n\n\n\nSpotlight Heritage Timișoara/Patrimoniul sub reflectoare este o inițiativă culturală digitală a Universității Politehnica Timișoara\, realizată în parteneriat cu Muzeul Național al Banatului și parte a Programului Cultural Timișoara 2023 Capitală Europeană a Culturii. Proiect cultural co-finanțat de Municipiul Timișoara prin Centrul de Proiecte\, Consiliul Județean Timiș\, Ministerul Culturii și EEA and Norway Grants.
URL:https://spotlight-timisoara.eu/eveniment/noaptea-europeana-a-muzeelor-2025-sute-de-participanti-in-muzeul-thenic-upt/
LOCATION:Muzeul Tehnic UPT și Experimentarium TM\, Experimentarium TM\, Timisoara\, Timis\, 300750\, România
CATEGORIES:News
ATTACH;FMTTYPE=image/jpeg:https://spotlight-timisoara.eu/wp-content/uploads/2025/05/DSCF1805-scaled.jpg
END:VEVENT
END:VCALENDAR